BEGIN:VCALENDAR
VERSION:2.0
PRODID:https://www.kufer.de/kuferweb / DE
METHOD:PUBLISH
CALSCALE:GREGORIAN
X-WR-TIMEZONE:Europe/Berlin
BEGIN:VTIMEZONE
TZID:Europe/Berlin
X-LIC-LOCATION:Europe/Berlin
BEGIN:DAYLIGHT
TZOFFSETFROM:+0100
TZOFFSETTO:+0200
TZNAME:CEST
DTSTART:19700329T020000
RRULE:FREQ=YEARLY;INTERVAL=1;BYDAY=-1SU;BYMONTH=3
END:DAYLIGHT
BEGIN:STANDARD
TZOFFSETFROM:+0200
TZOFFSETTO:+0100
TZNAME:CET
DTSTART:19701025T030000
RRULE:FREQ=YEARLY;INTERVAL=1;BYDAY=-1SU;BYMONTH=10
END:STANDARD
END:VTIMEZONE
BEGIN:VEVENT
DTSTAMP:20260421T234621
DTSTART;TZID=Europe/Berlin:20260915T183000
DTEND;TZID=Europe/Berlin:20260915T194500
UID:W32533110-20260915T183000@VHSBÖBLINGEN-SINDELFINGEN
SUMMARY:Hatha Yoga (W32533110) 
LOCATION:GHH, 003, EG, Böblinger Str. 8, 71065 Sindelfingen
END:VEVENT
BEGIN:VEVENT
DTSTAMP:20260421T234621
DTSTART;TZID=Europe/Berlin:20260922T183000
DTEND;TZID=Europe/Berlin:20260922T194500
UID:W32533110-20260922T183000@VHSBÖBLINGEN-SINDELFINGEN
SUMMARY:Hatha Yoga (W32533110) 
LOCATION:GHH, 003, EG, Böblinger Str. 8, 71065 Sindelfingen
END:VEVENT
BEGIN:VEVENT
DTSTAMP:20260421T234621
DTSTART;TZID=Europe/Berlin:20260929T183000
DTEND;TZID=Europe/Berlin:20260929T194500
UID:W32533110-20260929T183000@VHSBÖBLINGEN-SINDELFINGEN
SUMMARY:Hatha Yoga (W32533110) 
LOCATION:GHH, 003, EG, Böblinger Str. 8, 71065 Sindelfingen
END:VEVENT
BEGIN:VEVENT
DTSTAMP:20260421T234621
DTSTART;TZID=Europe/Berlin:20261006T183000
DTEND;TZID=Europe/Berlin:20261006T194500
UID:W32533110-20261006T183000@VHSBÖBLINGEN-SINDELFINGEN
SUMMARY:Hatha Yoga (W32533110) 
LOCATION:GHH, 003, EG, Böblinger Str. 8, 71065 Sindelfingen
END:VEVENT
BEGIN:VEVENT
DTSTAMP:20260421T234621
DTSTART;TZID=Europe/Berlin:20261013T183000
DTEND;TZID=Europe/Berlin:20261013T194500
UID:W32533110-20261013T183000@VHSBÖBLINGEN-SINDELFINGEN
SUMMARY:Hatha Yoga (W32533110) 
LOCATION:GHH, 003, EG, Böblinger Str. 8, 71065 Sindelfingen
END:VEVENT
BEGIN:VEVENT
DTSTAMP:20260421T234621
DTSTART;TZID=Europe/Berlin:20261020T183000
DTEND;TZID=Europe/Berlin:20261020T194500
UID:W32533110-20261020T183000@VHSBÖBLINGEN-SINDELFINGEN
SUMMARY:Hatha Yoga (W32533110) 
LOCATION:GHH, 003, EG, Böblinger Str. 8, 71065 Sindelfingen
END:VEVENT
BEGIN:VEVENT
DTSTAMP:20260421T234621
DTSTART;TZID=Europe/Berlin:20261103T183000
DTEND;TZID=Europe/Berlin:20261103T194500
UID:W32533110-20261103T183000@VHSBÖBLINGEN-SINDELFINGEN
SUMMARY:Hatha Yoga (W32533110) 
LOCATION:GHH, 003, EG, Böblinger Str. 8, 71065 Sindelfingen
END:VEVENT
BEGIN:VEVENT
DTSTAMP:20260421T234621
DTSTART;TZID=Europe/Berlin:20261110T183000
DTEND;TZID=Europe/Berlin:20261110T194500
UID:W32533110-20261110T183000@VHSBÖBLINGEN-SINDELFINGEN
SUMMARY:Hatha Yoga (W32533110) 
LOCATION:GHH, 003, EG, Böblinger Str. 8, 71065 Sindelfingen
END:VEVENT
BEGIN:VEVENT
DTSTAMP:20260421T234621
DTSTART;TZID=Europe/Berlin:20261117T183000
DTEND;TZID=Europe/Berlin:20261117T194500
UID:W32533110-20261117T183000@VHSBÖBLINGEN-SINDELFINGEN
SUMMARY:Hatha Yoga (W32533110) 
LOCATION:GHH, 003, EG, Böblinger Str. 8, 71065 Sindelfingen
END:VEVENT
BEGIN:VEVENT
DTSTAMP:20260421T234621
DTSTART;TZID=Europe/Berlin:20261124T183000
DTEND;TZID=Europe/Berlin:20261124T194500
UID:W32533110-20261124T183000@VHSBÖBLINGEN-SINDELFINGEN
SUMMARY:Hatha Yoga (W32533110) 
LOCATION:GHH, 003, EG, Böblinger Str. 8, 71065 Sindelfingen
END:VEVENT
BEGIN:VEVENT
DTSTAMP:20260421T234621
DTSTART;TZID=Europe/Berlin:20261201T183000
DTEND;TZID=Europe/Berlin:20261201T194500
UID:W32533110-20261201T183000@VHSBÖBLINGEN-SINDELFINGEN
SUMMARY:Hatha Yoga (W32533110) 
LOCATION:GHH, 003, EG, Böblinger Str. 8, 71065 Sindelfingen
END:VEVENT
BEGIN:VEVENT
DTSTAMP:20260421T234621
DTSTART;TZID=Europe/Berlin:20261208T183000
DTEND;TZID=Europe/Berlin:20261208T194500
UID:W32533110-20261208T183000@VHSBÖBLINGEN-SINDELFINGEN
SUMMARY:Hatha Yoga (W32533110) 
LOCATION:GHH, 003, EG, Böblinger Str. 8, 71065 Sindelfingen
END:VEVENT
BEGIN:VEVENT
DTSTAMP:20260421T234621
DTSTART;TZID=Europe/Berlin:20261215T183000
DTEND;TZID=Europe/Berlin:20261215T194500
UID:W32533110-20261215T183000@VHSBÖBLINGEN-SINDELFINGEN
SUMMARY:Hatha Yoga (W32533110) 
LOCATION:GHH, 003, EG, Böblinger Str. 8, 71065 Sindelfingen
END:VEVENT
BEGIN:VEVENT
DTSTAMP:20260421T234621
DTSTART;TZID=Europe/Berlin:20261222T183000
DTEND;TZID=Europe/Berlin:20261222T194500
UID:W32533110-20261222T183000@VHSBÖBLINGEN-SINDELFINGEN
SUMMARY:Hatha Yoga (W32533110) 
LOCATION:GHH, 003, EG, Böblinger Str. 8, 71065 Sindelfingen
END:VEVENT
BEGIN:VEVENT
DTSTAMP:20260421T234621
DTSTART;TZID=Europe/Berlin:20270112T183000
DTEND;TZID=Europe/Berlin:20270112T194500
UID:W32533110-20270112T183000@VHSBÖBLINGEN-SINDELFINGEN
SUMMARY:Hatha Yoga (W32533110) 
LOCATION:GHH, 003, EG, Böblinger Str. 8, 71065 Sindelfingen
END:VEVENT
BEGIN:VEVENT
DTSTAMP:20260421T234621
DTSTART;TZID=Europe/Berlin:20270119T183000
DTEND;TZID=Europe/Berlin:20270119T194500
UID:W32533110-20270119T183000@VHSBÖBLINGEN-SINDELFINGEN
SUMMARY:Hatha Yoga (W32533110) 
LOCATION:GHH, 003, EG, Böblinger Str. 8, 71065 Sindelfingen
END:VEVENT
BEGIN:VEVENT
DTSTAMP:20260421T234621
DTSTART;TZID=Europe/Berlin:20270126T183000
DTEND;TZID=Europe/Berlin:20270126T194500
UID:W32533110-20270126T183000@VHSBÖBLINGEN-SINDELFINGEN
SUMMARY:Hatha Yoga (W32533110) 
LOCATION:GHH, 003, EG, Böblinger Str. 8, 71065 Sindelfingen
END:VEVENT
BEGIN:VEVENT
DTSTAMP:20260421T234621
DTSTART;TZID=Europe/Berlin:20270202T183000
DTEND;TZID=Europe/Berlin:20270202T194500
UID:W32533110-20270202T183000@VHSBÖBLINGEN-SINDELFINGEN
SUMMARY:Hatha Yoga (W32533110) 
LOCATION:GHH, 003, EG, Böblinger Str. 8, 71065 Sindelfingen
END:VEVENT
END:VCALENDAR