BEGIN:VCALENDAR
VERSION:2.0
PRODID:https://www.kufer.de/kuferweb / DE
METHOD:PUBLISH
CALSCALE:GREGORIAN
X-WR-TIMEZONE:Europe/Berlin
BEGIN:VTIMEZONE
TZID:Europe/Berlin
X-LIC-LOCATION:Europe/Berlin
BEGIN:DAYLIGHT
TZOFFSETFROM:+0100
TZOFFSETTO:+0200
TZNAME:CEST
DTSTART:19700329T020000
RRULE:FREQ=YEARLY;INTERVAL=1;BYDAY=-1SU;BYMONTH=3
END:DAYLIGHT
BEGIN:STANDARD
TZOFFSETFROM:+0200
TZOFFSETTO:+0100
TZNAME:CET
DTSTART:19701025T030000
RRULE:FREQ=YEARLY;INTERVAL=1;BYDAY=-1SU;BYMONTH=10
END:STANDARD
END:VTIMEZONE
BEGIN:VEVENT
DTSTAMP:20260420T192220
DTSTART;TZID=Europe/Berlin:20260916T203000
DTEND;TZID=Europe/Berlin:20260916T213000
UID:W32256121-20260916T203000@VHSBÖBLINGEN-SINDELFINGEN
SUMMARY:Yogilates (W32256121) 
LOCATION:HO, Rektor-Franke-Haus, Saal, Böblinger Str. 28, 71088 Holzgerlingen
END:VEVENT
BEGIN:VEVENT
DTSTAMP:20260420T192220
DTSTART;TZID=Europe/Berlin:20260923T203000
DTEND;TZID=Europe/Berlin:20260923T213000
UID:W32256121-20260923T203000@VHSBÖBLINGEN-SINDELFINGEN
SUMMARY:Yogilates (W32256121) 
LOCATION:HO, Rektor-Franke-Haus, Saal, Böblinger Str. 28, 71088 Holzgerlingen
END:VEVENT
BEGIN:VEVENT
DTSTAMP:20260420T192220
DTSTART;TZID=Europe/Berlin:20260930T203000
DTEND;TZID=Europe/Berlin:20260930T213000
UID:W32256121-20260930T203000@VHSBÖBLINGEN-SINDELFINGEN
SUMMARY:Yogilates (W32256121) 
LOCATION:HO, Rektor-Franke-Haus, Saal, Böblinger Str. 28, 71088 Holzgerlingen
END:VEVENT
BEGIN:VEVENT
DTSTAMP:20260420T192220
DTSTART;TZID=Europe/Berlin:20261007T203000
DTEND;TZID=Europe/Berlin:20261007T213000
UID:W32256121-20261007T203000@VHSBÖBLINGEN-SINDELFINGEN
SUMMARY:Yogilates (W32256121) 
LOCATION:HO, Rektor-Franke-Haus, Saal, Böblinger Str. 28, 71088 Holzgerlingen
END:VEVENT
BEGIN:VEVENT
DTSTAMP:20260420T192220
DTSTART;TZID=Europe/Berlin:20261014T203000
DTEND;TZID=Europe/Berlin:20261014T213000
UID:W32256121-20261014T203000@VHSBÖBLINGEN-SINDELFINGEN
SUMMARY:Yogilates (W32256121) 
LOCATION:HO, Rektor-Franke-Haus, Saal, Böblinger Str. 28, 71088 Holzgerlingen
END:VEVENT
BEGIN:VEVENT
DTSTAMP:20260420T192220
DTSTART;TZID=Europe/Berlin:20261021T203000
DTEND;TZID=Europe/Berlin:20261021T213000
UID:W32256121-20261021T203000@VHSBÖBLINGEN-SINDELFINGEN
SUMMARY:Yogilates (W32256121) 
LOCATION:HO, Rektor-Franke-Haus, Saal, Böblinger Str. 28, 71088 Holzgerlingen
END:VEVENT
BEGIN:VEVENT
DTSTAMP:20260420T192220
DTSTART;TZID=Europe/Berlin:20261104T203000
DTEND;TZID=Europe/Berlin:20261104T213000
UID:W32256121-20261104T203000@VHSBÖBLINGEN-SINDELFINGEN
SUMMARY:Yogilates (W32256121) 
LOCATION:HO, Rektor-Franke-Haus, Saal, Böblinger Str. 28, 71088 Holzgerlingen
END:VEVENT
BEGIN:VEVENT
DTSTAMP:20260420T192220
DTSTART;TZID=Europe/Berlin:20261111T203000
DTEND;TZID=Europe/Berlin:20261111T213000
UID:W32256121-20261111T203000@VHSBÖBLINGEN-SINDELFINGEN
SUMMARY:Yogilates (W32256121) 
LOCATION:HO, Rektor-Franke-Haus, Saal, Böblinger Str. 28, 71088 Holzgerlingen
END:VEVENT
BEGIN:VEVENT
DTSTAMP:20260420T192220
DTSTART;TZID=Europe/Berlin:20261118T203000
DTEND;TZID=Europe/Berlin:20261118T213000
UID:W32256121-20261118T203000@VHSBÖBLINGEN-SINDELFINGEN
SUMMARY:Yogilates (W32256121) 
LOCATION:HO, Rektor-Franke-Haus, Saal, Böblinger Str. 28, 71088 Holzgerlingen
END:VEVENT
BEGIN:VEVENT
DTSTAMP:20260420T192220
DTSTART;TZID=Europe/Berlin:20261125T203000
DTEND;TZID=Europe/Berlin:20261125T213000
UID:W32256121-20261125T203000@VHSBÖBLINGEN-SINDELFINGEN
SUMMARY:Yogilates (W32256121) 
LOCATION:HO, Rektor-Franke-Haus, Saal, Böblinger Str. 28, 71088 Holzgerlingen
END:VEVENT
BEGIN:VEVENT
DTSTAMP:20260420T192220
DTSTART;TZID=Europe/Berlin:20261202T203000
DTEND;TZID=Europe/Berlin:20261202T213000
UID:W32256121-20261202T203000@VHSBÖBLINGEN-SINDELFINGEN
SUMMARY:Yogilates (W32256121) 
LOCATION:HO, Rektor-Franke-Haus, Saal, Böblinger Str. 28, 71088 Holzgerlingen
END:VEVENT
BEGIN:VEVENT
DTSTAMP:20260420T192220
DTSTART;TZID=Europe/Berlin:20261209T203000
DTEND;TZID=Europe/Berlin:20261209T213000
UID:W32256121-20261209T203000@VHSBÖBLINGEN-SINDELFINGEN
SUMMARY:Yogilates (W32256121) 
LOCATION:HO, Rektor-Franke-Haus, Saal, Böblinger Str. 28, 71088 Holzgerlingen
END:VEVENT
BEGIN:VEVENT
DTSTAMP:20260420T192220
DTSTART;TZID=Europe/Berlin:20261216T203000
DTEND;TZID=Europe/Berlin:20261216T213000
UID:W32256121-20261216T203000@VHSBÖBLINGEN-SINDELFINGEN
SUMMARY:Yogilates (W32256121) 
LOCATION:HO, Rektor-Franke-Haus, Saal, Böblinger Str. 28, 71088 Holzgerlingen
END:VEVENT
BEGIN:VEVENT
DTSTAMP:20260420T192220
DTSTART;TZID=Europe/Berlin:20270113T203000
DTEND;TZID=Europe/Berlin:20270113T213000
UID:W32256121-20270113T203000@VHSBÖBLINGEN-SINDELFINGEN
SUMMARY:Yogilates (W32256121) 
LOCATION:HO, Rektor-Franke-Haus, Saal, Böblinger Str. 28, 71088 Holzgerlingen
END:VEVENT
BEGIN:VEVENT
DTSTAMP:20260420T192220
DTSTART;TZID=Europe/Berlin:20270120T203000
DTEND;TZID=Europe/Berlin:20270120T213000
UID:W32256121-20270120T203000@VHSBÖBLINGEN-SINDELFINGEN
SUMMARY:Yogilates (W32256121) 
LOCATION:HO, Rektor-Franke-Haus, Saal, Böblinger Str. 28, 71088 Holzgerlingen
END:VEVENT
BEGIN:VEVENT
DTSTAMP:20260420T192220
DTSTART;TZID=Europe/Berlin:20270127T203000
DTEND;TZID=Europe/Berlin:20270127T213000
UID:W32256121-20270127T203000@VHSBÖBLINGEN-SINDELFINGEN
SUMMARY:Yogilates (W32256121) 
LOCATION:HO, Rektor-Franke-Haus, Saal, Böblinger Str. 28, 71088 Holzgerlingen
END:VEVENT
BEGIN:VEVENT
DTSTAMP:20260420T192220
DTSTART;TZID=Europe/Berlin:20270203T203000
DTEND;TZID=Europe/Berlin:20270203T213000
UID:W32256121-20270203T203000@VHSBÖBLINGEN-SINDELFINGEN
SUMMARY:Yogilates (W32256121) 
LOCATION:HO, Rektor-Franke-Haus, Saal, Böblinger Str. 28, 71088 Holzgerlingen
END:VEVENT
END:VCALENDAR