BEGIN:VCALENDAR
VERSION:2.0
PRODID:https://www.kufer.de/kuferweb / DE
METHOD:PUBLISH
CALSCALE:GREGORIAN
X-WR-TIMEZONE:Europe/Berlin
BEGIN:VTIMEZONE
TZID:Europe/Berlin
X-LIC-LOCATION:Europe/Berlin
BEGIN:DAYLIGHT
TZOFFSETFROM:+0100
TZOFFSETTO:+0200
TZNAME:CEST
DTSTART:19700329T020000
RRULE:FREQ=YEARLY;INTERVAL=1;BYDAY=-1SU;BYMONTH=3
END:DAYLIGHT
BEGIN:STANDARD
TZOFFSETFROM:+0200
TZOFFSETTO:+0100
TZNAME:CET
DTSTART:19701025T030000
RRULE:FREQ=YEARLY;INTERVAL=1;BYDAY=-1SU;BYMONTH=10
END:STANDARD
END:VTIMEZONE
BEGIN:VEVENT
DTSTAMP:20260422T183620
DTSTART;TZID=Europe/Berlin:20260922T184500
DTEND;TZID=Europe/Berlin:20260922T200000
UID:W32256115-20260922T184500@VHSBÖBLINGEN-SINDELFINGEN
SUMMARY:Yogilates (W32256115) 
LOCATION:EH, Fronäckerschule, Raum 22, Gartenstr. 11, 71139 Ehningen
END:VEVENT
BEGIN:VEVENT
DTSTAMP:20260422T183620
DTSTART;TZID=Europe/Berlin:20260929T184500
DTEND;TZID=Europe/Berlin:20260929T200000
UID:W32256115-20260929T184500@VHSBÖBLINGEN-SINDELFINGEN
SUMMARY:Yogilates (W32256115) 
LOCATION:EH, Fronäckerschule, Raum 22, Gartenstr. 11, 71139 Ehningen
END:VEVENT
BEGIN:VEVENT
DTSTAMP:20260422T183620
DTSTART;TZID=Europe/Berlin:20261006T184500
DTEND;TZID=Europe/Berlin:20261006T200000
UID:W32256115-20261006T184500@VHSBÖBLINGEN-SINDELFINGEN
SUMMARY:Yogilates (W32256115) 
LOCATION:EH, Fronäckerschule, Raum 22, Gartenstr. 11, 71139 Ehningen
END:VEVENT
BEGIN:VEVENT
DTSTAMP:20260422T183620
DTSTART;TZID=Europe/Berlin:20261013T184500
DTEND;TZID=Europe/Berlin:20261013T200000
UID:W32256115-20261013T184500@VHSBÖBLINGEN-SINDELFINGEN
SUMMARY:Yogilates (W32256115) 
LOCATION:EH, Fronäckerschule, Raum 22, Gartenstr. 11, 71139 Ehningen
END:VEVENT
BEGIN:VEVENT
DTSTAMP:20260422T183620
DTSTART;TZID=Europe/Berlin:20261020T184500
DTEND;TZID=Europe/Berlin:20261020T200000
UID:W32256115-20261020T184500@VHSBÖBLINGEN-SINDELFINGEN
SUMMARY:Yogilates (W32256115) 
LOCATION:EH, Fronäckerschule, Raum 22, Gartenstr. 11, 71139 Ehningen
END:VEVENT
BEGIN:VEVENT
DTSTAMP:20260422T183620
DTSTART;TZID=Europe/Berlin:20261103T184500
DTEND;TZID=Europe/Berlin:20261103T200000
UID:W32256115-20261103T184500@VHSBÖBLINGEN-SINDELFINGEN
SUMMARY:Yogilates (W32256115) 
LOCATION:EH, Fronäckerschule, Raum 22, Gartenstr. 11, 71139 Ehningen
END:VEVENT
BEGIN:VEVENT
DTSTAMP:20260422T183620
DTSTART;TZID=Europe/Berlin:20261110T184500
DTEND;TZID=Europe/Berlin:20261110T200000
UID:W32256115-20261110T184500@VHSBÖBLINGEN-SINDELFINGEN
SUMMARY:Yogilates (W32256115) 
LOCATION:EH, Fronäckerschule, Raum 22, Gartenstr. 11, 71139 Ehningen
END:VEVENT
BEGIN:VEVENT
DTSTAMP:20260422T183620
DTSTART;TZID=Europe/Berlin:20261117T184500
DTEND;TZID=Europe/Berlin:20261117T200000
UID:W32256115-20261117T184500@VHSBÖBLINGEN-SINDELFINGEN
SUMMARY:Yogilates (W32256115) 
LOCATION:EH, Fronäckerschule, Raum 22, Gartenstr. 11, 71139 Ehningen
END:VEVENT
BEGIN:VEVENT
DTSTAMP:20260422T183620
DTSTART;TZID=Europe/Berlin:20261124T184500
DTEND;TZID=Europe/Berlin:20261124T200000
UID:W32256115-20261124T184500@VHSBÖBLINGEN-SINDELFINGEN
SUMMARY:Yogilates (W32256115) 
LOCATION:EH, Fronäckerschule, Raum 22, Gartenstr. 11, 71139 Ehningen
END:VEVENT
BEGIN:VEVENT
DTSTAMP:20260422T183620
DTSTART;TZID=Europe/Berlin:20261201T184500
DTEND;TZID=Europe/Berlin:20261201T200000
UID:W32256115-20261201T184500@VHSBÖBLINGEN-SINDELFINGEN
SUMMARY:Yogilates (W32256115) 
LOCATION:EH, Fronäckerschule, Raum 22, Gartenstr. 11, 71139 Ehningen
END:VEVENT
BEGIN:VEVENT
DTSTAMP:20260422T183620
DTSTART;TZID=Europe/Berlin:20261208T184500
DTEND;TZID=Europe/Berlin:20261208T200000
UID:W32256115-20261208T184500@VHSBÖBLINGEN-SINDELFINGEN
SUMMARY:Yogilates (W32256115) 
LOCATION:EH, Fronäckerschule, Raum 22, Gartenstr. 11, 71139 Ehningen
END:VEVENT
BEGIN:VEVENT
DTSTAMP:20260422T183620
DTSTART;TZID=Europe/Berlin:20261215T184500
DTEND;TZID=Europe/Berlin:20261215T200000
UID:W32256115-20261215T184500@VHSBÖBLINGEN-SINDELFINGEN
SUMMARY:Yogilates (W32256115) 
LOCATION:EH, Fronäckerschule, Raum 22, Gartenstr. 11, 71139 Ehningen
END:VEVENT
BEGIN:VEVENT
DTSTAMP:20260422T183620
DTSTART;TZID=Europe/Berlin:20261222T184500
DTEND;TZID=Europe/Berlin:20261222T200000
UID:W32256115-20261222T184500@VHSBÖBLINGEN-SINDELFINGEN
SUMMARY:Yogilates (W32256115) 
LOCATION:EH, Fronäckerschule, Raum 22, Gartenstr. 11, 71139 Ehningen
END:VEVENT
BEGIN:VEVENT
DTSTAMP:20260422T183620
DTSTART;TZID=Europe/Berlin:20270112T184500
DTEND;TZID=Europe/Berlin:20270112T200000
UID:W32256115-20270112T184500@VHSBÖBLINGEN-SINDELFINGEN
SUMMARY:Yogilates (W32256115) 
LOCATION:EH, Fronäckerschule, Raum 22, Gartenstr. 11, 71139 Ehningen
END:VEVENT
BEGIN:VEVENT
DTSTAMP:20260422T183620
DTSTART;TZID=Europe/Berlin:20270119T184500
DTEND;TZID=Europe/Berlin:20270119T200000
UID:W32256115-20270119T184500@VHSBÖBLINGEN-SINDELFINGEN
SUMMARY:Yogilates (W32256115) 
LOCATION:EH, Fronäckerschule, Raum 22, Gartenstr. 11, 71139 Ehningen
END:VEVENT
BEGIN:VEVENT
DTSTAMP:20260422T183620
DTSTART;TZID=Europe/Berlin:20270126T184500
DTEND;TZID=Europe/Berlin:20270126T200000
UID:W32256115-20270126T184500@VHSBÖBLINGEN-SINDELFINGEN
SUMMARY:Yogilates (W32256115) 
LOCATION:EH, Fronäckerschule, Raum 22, Gartenstr. 11, 71139 Ehningen
END:VEVENT
BEGIN:VEVENT
DTSTAMP:20260422T183620
DTSTART;TZID=Europe/Berlin:20270202T184500
DTEND;TZID=Europe/Berlin:20270202T200000
UID:W32256115-20270202T184500@VHSBÖBLINGEN-SINDELFINGEN
SUMMARY:Yogilates (W32256115) 
LOCATION:EH, Fronäckerschule, Raum 22, Gartenstr. 11, 71139 Ehningen
END:VEVENT
END:VCALENDAR