BEGIN:VCALENDAR
VERSION:2.0
PRODID:https://www.kufer.de/kuferweb / DE
METHOD:PUBLISH
CALSCALE:GREGORIAN
X-WR-TIMEZONE:Europe/Berlin
BEGIN:VTIMEZONE
TZID:Europe/Berlin
X-LIC-LOCATION:Europe/Berlin
BEGIN:DAYLIGHT
TZOFFSETFROM:+0100
TZOFFSETTO:+0200
TZNAME:CEST
DTSTART:19700329T020000
RRULE:FREQ=YEARLY;INTERVAL=1;BYDAY=-1SU;BYMONTH=3
END:DAYLIGHT
BEGIN:STANDARD
TZOFFSETFROM:+0200
TZOFFSETTO:+0100
TZNAME:CET
DTSTART:19701025T030000
RRULE:FREQ=YEARLY;INTERVAL=1;BYDAY=-1SU;BYMONTH=10
END:STANDARD
END:VTIMEZONE
BEGIN:VEVENT
DTSTAMP:20260420T193301
DTSTART;TZID=Europe/Berlin:20260916T192500
DTEND;TZID=Europe/Berlin:20260916T202500
UID:W32256021-20260916T192500@VHSBÖBLINGEN-SINDELFINGEN
SUMMARY:Yogilates (W32256021) 
LOCATION:HO, Rektor-Franke-Haus, Saal, Böblinger Str. 28, 71088 Holzgerlingen
END:VEVENT
BEGIN:VEVENT
DTSTAMP:20260420T193301
DTSTART;TZID=Europe/Berlin:20260923T192500
DTEND;TZID=Europe/Berlin:20260923T202500
UID:W32256021-20260923T192500@VHSBÖBLINGEN-SINDELFINGEN
SUMMARY:Yogilates (W32256021) 
LOCATION:HO, Rektor-Franke-Haus, Saal, Böblinger Str. 28, 71088 Holzgerlingen
END:VEVENT
BEGIN:VEVENT
DTSTAMP:20260420T193301
DTSTART;TZID=Europe/Berlin:20260930T192500
DTEND;TZID=Europe/Berlin:20260930T202500
UID:W32256021-20260930T192500@VHSBÖBLINGEN-SINDELFINGEN
SUMMARY:Yogilates (W32256021) 
LOCATION:HO, Rektor-Franke-Haus, Saal, Böblinger Str. 28, 71088 Holzgerlingen
END:VEVENT
BEGIN:VEVENT
DTSTAMP:20260420T193301
DTSTART;TZID=Europe/Berlin:20261007T192500
DTEND;TZID=Europe/Berlin:20261007T202500
UID:W32256021-20261007T192500@VHSBÖBLINGEN-SINDELFINGEN
SUMMARY:Yogilates (W32256021) 
LOCATION:HO, Rektor-Franke-Haus, Saal, Böblinger Str. 28, 71088 Holzgerlingen
END:VEVENT
BEGIN:VEVENT
DTSTAMP:20260420T193301
DTSTART;TZID=Europe/Berlin:20261014T192500
DTEND;TZID=Europe/Berlin:20261014T202500
UID:W32256021-20261014T192500@VHSBÖBLINGEN-SINDELFINGEN
SUMMARY:Yogilates (W32256021) 
LOCATION:HO, Rektor-Franke-Haus, Saal, Böblinger Str. 28, 71088 Holzgerlingen
END:VEVENT
BEGIN:VEVENT
DTSTAMP:20260420T193301
DTSTART;TZID=Europe/Berlin:20261021T192500
DTEND;TZID=Europe/Berlin:20261021T202500
UID:W32256021-20261021T192500@VHSBÖBLINGEN-SINDELFINGEN
SUMMARY:Yogilates (W32256021) 
LOCATION:HO, Rektor-Franke-Haus, Saal, Böblinger Str. 28, 71088 Holzgerlingen
END:VEVENT
BEGIN:VEVENT
DTSTAMP:20260420T193301
DTSTART;TZID=Europe/Berlin:20261104T192500
DTEND;TZID=Europe/Berlin:20261104T202500
UID:W32256021-20261104T192500@VHSBÖBLINGEN-SINDELFINGEN
SUMMARY:Yogilates (W32256021) 
LOCATION:HO, Rektor-Franke-Haus, Saal, Böblinger Str. 28, 71088 Holzgerlingen
END:VEVENT
BEGIN:VEVENT
DTSTAMP:20260420T193301
DTSTART;TZID=Europe/Berlin:20261111T192500
DTEND;TZID=Europe/Berlin:20261111T202500
UID:W32256021-20261111T192500@VHSBÖBLINGEN-SINDELFINGEN
SUMMARY:Yogilates (W32256021) 
LOCATION:HO, Rektor-Franke-Haus, Saal, Böblinger Str. 28, 71088 Holzgerlingen
END:VEVENT
BEGIN:VEVENT
DTSTAMP:20260420T193301
DTSTART;TZID=Europe/Berlin:20261118T192500
DTEND;TZID=Europe/Berlin:20261118T202500
UID:W32256021-20261118T192500@VHSBÖBLINGEN-SINDELFINGEN
SUMMARY:Yogilates (W32256021) 
LOCATION:HO, Rektor-Franke-Haus, Saal, Böblinger Str. 28, 71088 Holzgerlingen
END:VEVENT
BEGIN:VEVENT
DTSTAMP:20260420T193301
DTSTART;TZID=Europe/Berlin:20261125T192500
DTEND;TZID=Europe/Berlin:20261125T202500
UID:W32256021-20261125T192500@VHSBÖBLINGEN-SINDELFINGEN
SUMMARY:Yogilates (W32256021) 
LOCATION:HO, Rektor-Franke-Haus, Saal, Böblinger Str. 28, 71088 Holzgerlingen
END:VEVENT
BEGIN:VEVENT
DTSTAMP:20260420T193301
DTSTART;TZID=Europe/Berlin:20261202T192500
DTEND;TZID=Europe/Berlin:20261202T202500
UID:W32256021-20261202T192500@VHSBÖBLINGEN-SINDELFINGEN
SUMMARY:Yogilates (W32256021) 
LOCATION:HO, Rektor-Franke-Haus, Saal, Böblinger Str. 28, 71088 Holzgerlingen
END:VEVENT
BEGIN:VEVENT
DTSTAMP:20260420T193301
DTSTART;TZID=Europe/Berlin:20261209T192500
DTEND;TZID=Europe/Berlin:20261209T202500
UID:W32256021-20261209T192500@VHSBÖBLINGEN-SINDELFINGEN
SUMMARY:Yogilates (W32256021) 
LOCATION:HO, Rektor-Franke-Haus, Saal, Böblinger Str. 28, 71088 Holzgerlingen
END:VEVENT
BEGIN:VEVENT
DTSTAMP:20260420T193301
DTSTART;TZID=Europe/Berlin:20261216T192500
DTEND;TZID=Europe/Berlin:20261216T202500
UID:W32256021-20261216T192500@VHSBÖBLINGEN-SINDELFINGEN
SUMMARY:Yogilates (W32256021) 
LOCATION:HO, Rektor-Franke-Haus, Saal, Böblinger Str. 28, 71088 Holzgerlingen
END:VEVENT
BEGIN:VEVENT
DTSTAMP:20260420T193301
DTSTART;TZID=Europe/Berlin:20270113T192500
DTEND;TZID=Europe/Berlin:20270113T202500
UID:W32256021-20270113T192500@VHSBÖBLINGEN-SINDELFINGEN
SUMMARY:Yogilates (W32256021) 
LOCATION:HO, Rektor-Franke-Haus, Saal, Böblinger Str. 28, 71088 Holzgerlingen
END:VEVENT
BEGIN:VEVENT
DTSTAMP:20260420T193301
DTSTART;TZID=Europe/Berlin:20270120T192500
DTEND;TZID=Europe/Berlin:20270120T202500
UID:W32256021-20270120T192500@VHSBÖBLINGEN-SINDELFINGEN
SUMMARY:Yogilates (W32256021) 
LOCATION:HO, Rektor-Franke-Haus, Saal, Böblinger Str. 28, 71088 Holzgerlingen
END:VEVENT
BEGIN:VEVENT
DTSTAMP:20260420T193301
DTSTART;TZID=Europe/Berlin:20270127T192500
DTEND;TZID=Europe/Berlin:20270127T202500
UID:W32256021-20270127T192500@VHSBÖBLINGEN-SINDELFINGEN
SUMMARY:Yogilates (W32256021) 
LOCATION:HO, Rektor-Franke-Haus, Saal, Böblinger Str. 28, 71088 Holzgerlingen
END:VEVENT
BEGIN:VEVENT
DTSTAMP:20260420T193301
DTSTART;TZID=Europe/Berlin:20270203T192500
DTEND;TZID=Europe/Berlin:20270203T202500
UID:W32256021-20270203T192500@VHSBÖBLINGEN-SINDELFINGEN
SUMMARY:Yogilates (W32256021) 
LOCATION:HO, Rektor-Franke-Haus, Saal, Böblinger Str. 28, 71088 Holzgerlingen
END:VEVENT
END:VCALENDAR