BEGIN:VCALENDAR
VERSION:2.0
PRODID:https://www.kufer.de/kuferweb / DE
METHOD:PUBLISH
CALSCALE:GREGORIAN
X-WR-TIMEZONE:Europe/Berlin
BEGIN:VTIMEZONE
TZID:Europe/Berlin
X-LIC-LOCATION:Europe/Berlin
BEGIN:DAYLIGHT
TZOFFSETFROM:+0100
TZOFFSETTO:+0200
TZNAME:CEST
DTSTART:19700329T020000
RRULE:FREQ=YEARLY;INTERVAL=1;BYDAY=-1SU;BYMONTH=3
END:DAYLIGHT
BEGIN:STANDARD
TZOFFSETFROM:+0200
TZOFFSETTO:+0100
TZNAME:CET
DTSTART:19701025T030000
RRULE:FREQ=YEARLY;INTERVAL=1;BYDAY=-1SU;BYMONTH=10
END:STANDARD
END:VTIMEZONE
BEGIN:VEVENT
DTSTAMP:20260420T181627
DTSTART;TZID=Europe/Berlin:20260924T181500
DTEND;TZID=Europe/Berlin:20260924T193000
UID:W32255015-20260924T181500@VHSBÖBLINGEN-SINDELFINGEN
SUMMARY:Ashtanga Yoga (W32255015) 
LOCATION:EH, Fronäckerschule, Raum 22, Gartenstr. 11, 71139 Ehningen
END:VEVENT
BEGIN:VEVENT
DTSTAMP:20260420T181627
DTSTART;TZID=Europe/Berlin:20261001T181500
DTEND;TZID=Europe/Berlin:20261001T193000
UID:W32255015-20261001T181500@VHSBÖBLINGEN-SINDELFINGEN
SUMMARY:Ashtanga Yoga (W32255015) 
LOCATION:EH, Fronäckerschule, Raum 22, Gartenstr. 11, 71139 Ehningen
END:VEVENT
BEGIN:VEVENT
DTSTAMP:20260420T181627
DTSTART;TZID=Europe/Berlin:20261008T181500
DTEND;TZID=Europe/Berlin:20261008T193000
UID:W32255015-20261008T181500@VHSBÖBLINGEN-SINDELFINGEN
SUMMARY:Ashtanga Yoga (W32255015) 
LOCATION:EH, Fronäckerschule, Raum 22, Gartenstr. 11, 71139 Ehningen
END:VEVENT
BEGIN:VEVENT
DTSTAMP:20260420T181627
DTSTART;TZID=Europe/Berlin:20261015T181500
DTEND;TZID=Europe/Berlin:20261015T193000
UID:W32255015-20261015T181500@VHSBÖBLINGEN-SINDELFINGEN
SUMMARY:Ashtanga Yoga (W32255015) 
LOCATION:EH, Fronäckerschule, Raum 22, Gartenstr. 11, 71139 Ehningen
END:VEVENT
BEGIN:VEVENT
DTSTAMP:20260420T181627
DTSTART;TZID=Europe/Berlin:20261022T181500
DTEND;TZID=Europe/Berlin:20261022T193000
UID:W32255015-20261022T181500@VHSBÖBLINGEN-SINDELFINGEN
SUMMARY:Ashtanga Yoga (W32255015) 
LOCATION:EH, Fronäckerschule, Raum 22, Gartenstr. 11, 71139 Ehningen
END:VEVENT
BEGIN:VEVENT
DTSTAMP:20260420T181627
DTSTART;TZID=Europe/Berlin:20261105T181500
DTEND;TZID=Europe/Berlin:20261105T193000
UID:W32255015-20261105T181500@VHSBÖBLINGEN-SINDELFINGEN
SUMMARY:Ashtanga Yoga (W32255015) 
LOCATION:EH, Fronäckerschule, Raum 22, Gartenstr. 11, 71139 Ehningen
END:VEVENT
BEGIN:VEVENT
DTSTAMP:20260420T181627
DTSTART;TZID=Europe/Berlin:20261112T181500
DTEND;TZID=Europe/Berlin:20261112T193000
UID:W32255015-20261112T181500@VHSBÖBLINGEN-SINDELFINGEN
SUMMARY:Ashtanga Yoga (W32255015) 
LOCATION:EH, Fronäckerschule, Raum 22, Gartenstr. 11, 71139 Ehningen
END:VEVENT
BEGIN:VEVENT
DTSTAMP:20260420T181627
DTSTART;TZID=Europe/Berlin:20261119T181500
DTEND;TZID=Europe/Berlin:20261119T193000
UID:W32255015-20261119T181500@VHSBÖBLINGEN-SINDELFINGEN
SUMMARY:Ashtanga Yoga (W32255015) 
LOCATION:EH, Fronäckerschule, Raum 22, Gartenstr. 11, 71139 Ehningen
END:VEVENT
BEGIN:VEVENT
DTSTAMP:20260420T181627
DTSTART;TZID=Europe/Berlin:20261126T181500
DTEND;TZID=Europe/Berlin:20261126T193000
UID:W32255015-20261126T181500@VHSBÖBLINGEN-SINDELFINGEN
SUMMARY:Ashtanga Yoga (W32255015) 
LOCATION:EH, Fronäckerschule, Raum 22, Gartenstr. 11, 71139 Ehningen
END:VEVENT
BEGIN:VEVENT
DTSTAMP:20260420T181627
DTSTART;TZID=Europe/Berlin:20261203T181500
DTEND;TZID=Europe/Berlin:20261203T193000
UID:W32255015-20261203T181500@VHSBÖBLINGEN-SINDELFINGEN
SUMMARY:Ashtanga Yoga (W32255015) 
LOCATION:EH, Fronäckerschule, Raum 22, Gartenstr. 11, 71139 Ehningen
END:VEVENT
BEGIN:VEVENT
DTSTAMP:20260420T181627
DTSTART;TZID=Europe/Berlin:20261210T181500
DTEND;TZID=Europe/Berlin:20261210T193000
UID:W32255015-20261210T181500@VHSBÖBLINGEN-SINDELFINGEN
SUMMARY:Ashtanga Yoga (W32255015) 
LOCATION:EH, Fronäckerschule, Raum 22, Gartenstr. 11, 71139 Ehningen
END:VEVENT
BEGIN:VEVENT
DTSTAMP:20260420T181627
DTSTART;TZID=Europe/Berlin:20261217T181500
DTEND;TZID=Europe/Berlin:20261217T193000
UID:W32255015-20261217T181500@VHSBÖBLINGEN-SINDELFINGEN
SUMMARY:Ashtanga Yoga (W32255015) 
LOCATION:EH, Fronäckerschule, Raum 22, Gartenstr. 11, 71139 Ehningen
END:VEVENT
BEGIN:VEVENT
DTSTAMP:20260420T181627
DTSTART;TZID=Europe/Berlin:20270114T181500
DTEND;TZID=Europe/Berlin:20270114T193000
UID:W32255015-20270114T181500@VHSBÖBLINGEN-SINDELFINGEN
SUMMARY:Ashtanga Yoga (W32255015) 
LOCATION:EH, Fronäckerschule, Raum 22, Gartenstr. 11, 71139 Ehningen
END:VEVENT
BEGIN:VEVENT
DTSTAMP:20260420T181627
DTSTART;TZID=Europe/Berlin:20270121T181500
DTEND;TZID=Europe/Berlin:20270121T193000
UID:W32255015-20270121T181500@VHSBÖBLINGEN-SINDELFINGEN
SUMMARY:Ashtanga Yoga (W32255015) 
LOCATION:EH, Fronäckerschule, Raum 22, Gartenstr. 11, 71139 Ehningen
END:VEVENT
BEGIN:VEVENT
DTSTAMP:20260420T181627
DTSTART;TZID=Europe/Berlin:20270128T181500
DTEND;TZID=Europe/Berlin:20270128T193000
UID:W32255015-20270128T181500@VHSBÖBLINGEN-SINDELFINGEN
SUMMARY:Ashtanga Yoga (W32255015) 
LOCATION:EH, Fronäckerschule, Raum 22, Gartenstr. 11, 71139 Ehningen
END:VEVENT
BEGIN:VEVENT
DTSTAMP:20260420T181627
DTSTART;TZID=Europe/Berlin:20270204T181500
DTEND;TZID=Europe/Berlin:20270204T193000
UID:W32255015-20270204T181500@VHSBÖBLINGEN-SINDELFINGEN
SUMMARY:Ashtanga Yoga (W32255015) 
LOCATION:EH, Fronäckerschule, Raum 22, Gartenstr. 11, 71139 Ehningen
END:VEVENT
END:VCALENDAR