BEGIN:VCALENDAR
VERSION:2.0
PRODID:https://www.kufer.de/kuferweb / DE
METHOD:PUBLISH
CALSCALE:GREGORIAN
X-WR-TIMEZONE:Europe/Berlin
BEGIN:VTIMEZONE
TZID:Europe/Berlin
X-LIC-LOCATION:Europe/Berlin
BEGIN:DAYLIGHT
TZOFFSETFROM:+0100
TZOFFSETTO:+0200
TZNAME:CEST
DTSTART:19700329T020000
RRULE:FREQ=YEARLY;INTERVAL=1;BYDAY=-1SU;BYMONTH=3
END:DAYLIGHT
BEGIN:STANDARD
TZOFFSETFROM:+0200
TZOFFSETTO:+0100
TZNAME:CET
DTSTART:19701025T030000
RRULE:FREQ=YEARLY;INTERVAL=1;BYDAY=-1SU;BYMONTH=10
END:STANDARD
END:VTIMEZONE
BEGIN:VEVENT
DTSTAMP:20260421T142826
DTSTART;TZID=Europe/Berlin:20261109T202500
DTEND;TZID=Europe/Berlin:20261109T214000
UID:W32249031-20261109T202500@VHSBÖBLINGEN-SINDELFINGEN
SUMMARY:Yin Yoga und Yoga Nidra mit Klangschalen (W32249031) 
LOCATION:ST, Bürgerhaus, Bürgersaal, Stuttgarter Straße 7, 71144 Steinenbronn
END:VEVENT
BEGIN:VEVENT
DTSTAMP:20260421T142826
DTSTART;TZID=Europe/Berlin:20261116T202500
DTEND;TZID=Europe/Berlin:20261116T214000
UID:W32249031-20261116T202500@VHSBÖBLINGEN-SINDELFINGEN
SUMMARY:Yin Yoga und Yoga Nidra mit Klangschalen (W32249031) 
LOCATION:ST, Bürgerhaus, Bürgersaal, Stuttgarter Straße 7, 71144 Steinenbronn
END:VEVENT
BEGIN:VEVENT
DTSTAMP:20260421T142826
DTSTART;TZID=Europe/Berlin:20261123T202500
DTEND;TZID=Europe/Berlin:20261123T214000
UID:W32249031-20261123T202500@VHSBÖBLINGEN-SINDELFINGEN
SUMMARY:Yin Yoga und Yoga Nidra mit Klangschalen (W32249031) 
LOCATION:ST, Bürgerhaus, Bürgersaal, Stuttgarter Straße 7, 71144 Steinenbronn
END:VEVENT
BEGIN:VEVENT
DTSTAMP:20260421T142826
DTSTART;TZID=Europe/Berlin:20261130T202500
DTEND;TZID=Europe/Berlin:20261130T214000
UID:W32249031-20261130T202500@VHSBÖBLINGEN-SINDELFINGEN
SUMMARY:Yin Yoga und Yoga Nidra mit Klangschalen (W32249031) 
LOCATION:ST, Bürgerhaus, Bürgersaal, Stuttgarter Straße 7, 71144 Steinenbronn
END:VEVENT
END:VCALENDAR