BEGIN:VCALENDAR
VERSION:2.0
PRODID:https://www.kufer.de/kuferweb / DE
METHOD:PUBLISH
CALSCALE:GREGORIAN
X-WR-TIMEZONE:Europe/Berlin
BEGIN:VTIMEZONE
TZID:Europe/Berlin
X-LIC-LOCATION:Europe/Berlin
BEGIN:DAYLIGHT
TZOFFSETFROM:+0100
TZOFFSETTO:+0200
TZNAME:CEST
DTSTART:19700329T020000
RRULE:FREQ=YEARLY;INTERVAL=1;BYDAY=-1SU;BYMONTH=3
END:DAYLIGHT
BEGIN:STANDARD
TZOFFSETFROM:+0200
TZOFFSETTO:+0100
TZNAME:CET
DTSTART:19701025T030000
RRULE:FREQ=YEARLY;INTERVAL=1;BYDAY=-1SU;BYMONTH=10
END:STANDARD
END:VTIMEZONE
BEGIN:VEVENT
DTSTAMP:20260421T152543
DTSTART;TZID=Europe/Berlin:20260918T183000
DTEND;TZID=Europe/Berlin:20260918T193000
UID:W32245110-20260918T183000@VHSBÖBLINGEN-SINDELFINGEN
SUMMARY:Yoga Strong Core (W32245110) 
LOCATION:vhs.Werk, Halle 2, Wurmbergstr. 5, 71063 Sindelfingen
END:VEVENT
BEGIN:VEVENT
DTSTAMP:20260421T152543
DTSTART;TZID=Europe/Berlin:20260925T183000
DTEND;TZID=Europe/Berlin:20260925T193000
UID:W32245110-20260925T183000@VHSBÖBLINGEN-SINDELFINGEN
SUMMARY:Yoga Strong Core (W32245110) 
LOCATION:vhs.Werk, Halle 2, Wurmbergstr. 5, 71063 Sindelfingen
END:VEVENT
BEGIN:VEVENT
DTSTAMP:20260421T152543
DTSTART;TZID=Europe/Berlin:20261002T183000
DTEND;TZID=Europe/Berlin:20261002T193000
UID:W32245110-20261002T183000@VHSBÖBLINGEN-SINDELFINGEN
SUMMARY:Yoga Strong Core (W32245110) 
LOCATION:vhs.Werk, Halle 2, Wurmbergstr. 5, 71063 Sindelfingen
END:VEVENT
BEGIN:VEVENT
DTSTAMP:20260421T152543
DTSTART;TZID=Europe/Berlin:20261009T183000
DTEND;TZID=Europe/Berlin:20261009T193000
UID:W32245110-20261009T183000@VHSBÖBLINGEN-SINDELFINGEN
SUMMARY:Yoga Strong Core (W32245110) 
LOCATION:vhs.Werk, Halle 2, Wurmbergstr. 5, 71063 Sindelfingen
END:VEVENT
BEGIN:VEVENT
DTSTAMP:20260421T152543
DTSTART;TZID=Europe/Berlin:20261016T183000
DTEND;TZID=Europe/Berlin:20261016T193000
UID:W32245110-20261016T183000@VHSBÖBLINGEN-SINDELFINGEN
SUMMARY:Yoga Strong Core (W32245110) 
LOCATION:vhs.Werk, Halle 2, Wurmbergstr. 5, 71063 Sindelfingen
END:VEVENT
BEGIN:VEVENT
DTSTAMP:20260421T152543
DTSTART;TZID=Europe/Berlin:20261023T183000
DTEND;TZID=Europe/Berlin:20261023T193000
UID:W32245110-20261023T183000@VHSBÖBLINGEN-SINDELFINGEN
SUMMARY:Yoga Strong Core (W32245110) 
LOCATION:vhs.Werk, Halle 2, Wurmbergstr. 5, 71063 Sindelfingen
END:VEVENT
BEGIN:VEVENT
DTSTAMP:20260421T152543
DTSTART;TZID=Europe/Berlin:20261106T183000
DTEND;TZID=Europe/Berlin:20261106T193000
UID:W32245110-20261106T183000@VHSBÖBLINGEN-SINDELFINGEN
SUMMARY:Yoga Strong Core (W32245110) 
LOCATION:vhs.Werk, Halle 2, Wurmbergstr. 5, 71063 Sindelfingen
END:VEVENT
BEGIN:VEVENT
DTSTAMP:20260421T152543
DTSTART;TZID=Europe/Berlin:20261113T183000
DTEND;TZID=Europe/Berlin:20261113T193000
UID:W32245110-20261113T183000@VHSBÖBLINGEN-SINDELFINGEN
SUMMARY:Yoga Strong Core (W32245110) 
LOCATION:vhs.Werk, Halle 2, Wurmbergstr. 5, 71063 Sindelfingen
END:VEVENT
BEGIN:VEVENT
DTSTAMP:20260421T152543
DTSTART;TZID=Europe/Berlin:20261120T183000
DTEND;TZID=Europe/Berlin:20261120T193000
UID:W32245110-20261120T183000@VHSBÖBLINGEN-SINDELFINGEN
SUMMARY:Yoga Strong Core (W32245110) 
LOCATION:vhs.Werk, Halle 2, Wurmbergstr. 5, 71063 Sindelfingen
END:VEVENT
BEGIN:VEVENT
DTSTAMP:20260421T152543
DTSTART;TZID=Europe/Berlin:20261127T183000
DTEND;TZID=Europe/Berlin:20261127T193000
UID:W32245110-20261127T183000@VHSBÖBLINGEN-SINDELFINGEN
SUMMARY:Yoga Strong Core (W32245110) 
LOCATION:vhs.Werk, Halle 2, Wurmbergstr. 5, 71063 Sindelfingen
END:VEVENT
BEGIN:VEVENT
DTSTAMP:20260421T152543
DTSTART;TZID=Europe/Berlin:20261204T183000
DTEND;TZID=Europe/Berlin:20261204T193000
UID:W32245110-20261204T183000@VHSBÖBLINGEN-SINDELFINGEN
SUMMARY:Yoga Strong Core (W32245110) 
LOCATION:vhs.Werk, Halle 2, Wurmbergstr. 5, 71063 Sindelfingen
END:VEVENT
BEGIN:VEVENT
DTSTAMP:20260421T152543
DTSTART;TZID=Europe/Berlin:20261211T183000
DTEND;TZID=Europe/Berlin:20261211T193000
UID:W32245110-20261211T183000@VHSBÖBLINGEN-SINDELFINGEN
SUMMARY:Yoga Strong Core (W32245110) 
LOCATION:vhs.Werk, Halle 2, Wurmbergstr. 5, 71063 Sindelfingen
END:VEVENT
BEGIN:VEVENT
DTSTAMP:20260421T152543
DTSTART;TZID=Europe/Berlin:20261218T183000
DTEND;TZID=Europe/Berlin:20261218T193000
UID:W32245110-20261218T183000@VHSBÖBLINGEN-SINDELFINGEN
SUMMARY:Yoga Strong Core (W32245110) 
LOCATION:vhs.Werk, Halle 2, Wurmbergstr. 5, 71063 Sindelfingen
END:VEVENT
BEGIN:VEVENT
DTSTAMP:20260421T152543
DTSTART;TZID=Europe/Berlin:20270115T183000
DTEND;TZID=Europe/Berlin:20270115T193000
UID:W32245110-20270115T183000@VHSBÖBLINGEN-SINDELFINGEN
SUMMARY:Yoga Strong Core (W32245110) 
LOCATION:vhs.Werk, Halle 2, Wurmbergstr. 5, 71063 Sindelfingen
END:VEVENT
BEGIN:VEVENT
DTSTAMP:20260421T152543
DTSTART;TZID=Europe/Berlin:20270122T183000
DTEND;TZID=Europe/Berlin:20270122T193000
UID:W32245110-20270122T183000@VHSBÖBLINGEN-SINDELFINGEN
SUMMARY:Yoga Strong Core (W32245110) 
LOCATION:vhs.Werk, Halle 2, Wurmbergstr. 5, 71063 Sindelfingen
END:VEVENT
BEGIN:VEVENT
DTSTAMP:20260421T152543
DTSTART;TZID=Europe/Berlin:20270129T183000
DTEND;TZID=Europe/Berlin:20270129T193000
UID:W32245110-20270129T183000@VHSBÖBLINGEN-SINDELFINGEN
SUMMARY:Yoga Strong Core (W32245110) 
LOCATION:vhs.Werk, Halle 2, Wurmbergstr. 5, 71063 Sindelfingen
END:VEVENT
BEGIN:VEVENT
DTSTAMP:20260421T152543
DTSTART;TZID=Europe/Berlin:20270205T183000
DTEND;TZID=Europe/Berlin:20270205T193000
UID:W32245110-20270205T183000@VHSBÖBLINGEN-SINDELFINGEN
SUMMARY:Yoga Strong Core (W32245110) 
LOCATION:vhs.Werk, Halle 2, Wurmbergstr. 5, 71063 Sindelfingen
END:VEVENT
END:VCALENDAR