BEGIN:VCALENDAR
VERSION:2.0
PRODID:https://www.kufer.de/kuferweb / DE
METHOD:PUBLISH
CALSCALE:GREGORIAN
X-WR-TIMEZONE:Europe/Berlin
BEGIN:VTIMEZONE
TZID:Europe/Berlin
X-LIC-LOCATION:Europe/Berlin
BEGIN:DAYLIGHT
TZOFFSETFROM:+0100
TZOFFSETTO:+0200
TZNAME:CEST
DTSTART:19700329T020000
RRULE:FREQ=YEARLY;INTERVAL=1;BYDAY=-1SU;BYMONTH=3
END:DAYLIGHT
BEGIN:STANDARD
TZOFFSETFROM:+0200
TZOFFSETTO:+0100
TZNAME:CET
DTSTART:19701025T030000
RRULE:FREQ=YEARLY;INTERVAL=1;BYDAY=-1SU;BYMONTH=10
END:STANDARD
END:VTIMEZONE
BEGIN:VEVENT
DTSTAMP:20260421T041907
DTSTART;TZID=Europe/Berlin:20260924T171500
DTEND;TZID=Europe/Berlin:20260924T183000
UID:W32243810-20260924T171500@VHSBÖBLINGEN-SINDELFINGEN
SUMMARY:Somatisches Yin Yoga (W32243810) 
LOCATION:vhs.Werk, Halle 2, Wurmbergstr. 5, 71063 Sindelfingen
END:VEVENT
BEGIN:VEVENT
DTSTAMP:20260421T041907
DTSTART;TZID=Europe/Berlin:20261001T171500
DTEND;TZID=Europe/Berlin:20261001T183000
UID:W32243810-20261001T171500@VHSBÖBLINGEN-SINDELFINGEN
SUMMARY:Somatisches Yin Yoga (W32243810) 
LOCATION:vhs.Werk, Halle 2, Wurmbergstr. 5, 71063 Sindelfingen
END:VEVENT
BEGIN:VEVENT
DTSTAMP:20260421T041907
DTSTART;TZID=Europe/Berlin:20261008T171500
DTEND;TZID=Europe/Berlin:20261008T183000
UID:W32243810-20261008T171500@VHSBÖBLINGEN-SINDELFINGEN
SUMMARY:Somatisches Yin Yoga (W32243810) 
LOCATION:vhs.Werk, Halle 2, Wurmbergstr. 5, 71063 Sindelfingen
END:VEVENT
BEGIN:VEVENT
DTSTAMP:20260421T041907
DTSTART;TZID=Europe/Berlin:20261015T171500
DTEND;TZID=Europe/Berlin:20261015T183000
UID:W32243810-20261015T171500@VHSBÖBLINGEN-SINDELFINGEN
SUMMARY:Somatisches Yin Yoga (W32243810) 
LOCATION:vhs.Werk, Halle 2, Wurmbergstr. 5, 71063 Sindelfingen
END:VEVENT
BEGIN:VEVENT
DTSTAMP:20260421T041907
DTSTART;TZID=Europe/Berlin:20261105T171500
DTEND;TZID=Europe/Berlin:20261105T183000
UID:W32243810-20261105T171500@VHSBÖBLINGEN-SINDELFINGEN
SUMMARY:Somatisches Yin Yoga (W32243810) 
LOCATION:vhs.Werk, Halle 2, Wurmbergstr. 5, 71063 Sindelfingen
END:VEVENT
BEGIN:VEVENT
DTSTAMP:20260421T041907
DTSTART;TZID=Europe/Berlin:20261112T171500
DTEND;TZID=Europe/Berlin:20261112T183000
UID:W32243810-20261112T171500@VHSBÖBLINGEN-SINDELFINGEN
SUMMARY:Somatisches Yin Yoga (W32243810) 
LOCATION:vhs.Werk, Halle 2, Wurmbergstr. 5, 71063 Sindelfingen
END:VEVENT
BEGIN:VEVENT
DTSTAMP:20260421T041907
DTSTART;TZID=Europe/Berlin:20261119T171500
DTEND;TZID=Europe/Berlin:20261119T183000
UID:W32243810-20261119T171500@VHSBÖBLINGEN-SINDELFINGEN
SUMMARY:Somatisches Yin Yoga (W32243810) 
LOCATION:vhs.Werk, Halle 2, Wurmbergstr. 5, 71063 Sindelfingen
END:VEVENT
BEGIN:VEVENT
DTSTAMP:20260421T041907
DTSTART;TZID=Europe/Berlin:20261126T171500
DTEND;TZID=Europe/Berlin:20261126T183000
UID:W32243810-20261126T171500@VHSBÖBLINGEN-SINDELFINGEN
SUMMARY:Somatisches Yin Yoga (W32243810) 
LOCATION:vhs.Werk, Halle 2, Wurmbergstr. 5, 71063 Sindelfingen
END:VEVENT
BEGIN:VEVENT
DTSTAMP:20260421T041907
DTSTART;TZID=Europe/Berlin:20261203T171500
DTEND;TZID=Europe/Berlin:20261203T183000
UID:W32243810-20261203T171500@VHSBÖBLINGEN-SINDELFINGEN
SUMMARY:Somatisches Yin Yoga (W32243810) 
LOCATION:vhs.Werk, Halle 2, Wurmbergstr. 5, 71063 Sindelfingen
END:VEVENT
BEGIN:VEVENT
DTSTAMP:20260421T041907
DTSTART;TZID=Europe/Berlin:20261210T171500
DTEND;TZID=Europe/Berlin:20261210T183000
UID:W32243810-20261210T171500@VHSBÖBLINGEN-SINDELFINGEN
SUMMARY:Somatisches Yin Yoga (W32243810) 
LOCATION:vhs.Werk, Halle 2, Wurmbergstr. 5, 71063 Sindelfingen
END:VEVENT
BEGIN:VEVENT
DTSTAMP:20260421T041907
DTSTART;TZID=Europe/Berlin:20261217T171500
DTEND;TZID=Europe/Berlin:20261217T183000
UID:W32243810-20261217T171500@VHSBÖBLINGEN-SINDELFINGEN
SUMMARY:Somatisches Yin Yoga (W32243810) 
LOCATION:vhs.Werk, Halle 2, Wurmbergstr. 5, 71063 Sindelfingen
END:VEVENT
BEGIN:VEVENT
DTSTAMP:20260421T041907
DTSTART;TZID=Europe/Berlin:20270114T171500
DTEND;TZID=Europe/Berlin:20270114T183000
UID:W32243810-20270114T171500@VHSBÖBLINGEN-SINDELFINGEN
SUMMARY:Somatisches Yin Yoga (W32243810) 
LOCATION:vhs.Werk, Halle 2, Wurmbergstr. 5, 71063 Sindelfingen
END:VEVENT
BEGIN:VEVENT
DTSTAMP:20260421T041907
DTSTART;TZID=Europe/Berlin:20270121T171500
DTEND;TZID=Europe/Berlin:20270121T183000
UID:W32243810-20270121T171500@VHSBÖBLINGEN-SINDELFINGEN
SUMMARY:Somatisches Yin Yoga (W32243810) 
LOCATION:vhs.Werk, Halle 2, Wurmbergstr. 5, 71063 Sindelfingen
END:VEVENT
END:VCALENDAR