BEGIN:VCALENDAR
VERSION:2.0
PRODID:https://www.kufer.de/kuferweb / DE
METHOD:PUBLISH
CALSCALE:GREGORIAN
X-WR-TIMEZONE:Europe/Berlin
BEGIN:VTIMEZONE
TZID:Europe/Berlin
X-LIC-LOCATION:Europe/Berlin
BEGIN:DAYLIGHT
TZOFFSETFROM:+0100
TZOFFSETTO:+0200
TZNAME:CEST
DTSTART:19700329T020000
RRULE:FREQ=YEARLY;INTERVAL=1;BYDAY=-1SU;BYMONTH=3
END:DAYLIGHT
BEGIN:STANDARD
TZOFFSETFROM:+0200
TZOFFSETTO:+0100
TZNAME:CET
DTSTART:19701025T030000
RRULE:FREQ=YEARLY;INTERVAL=1;BYDAY=-1SU;BYMONTH=10
END:STANDARD
END:VTIMEZONE
BEGIN:VEVENT
DTSTAMP:20260421T134708
DTSTART;TZID=Europe/Berlin:20260921T194500
DTEND;TZID=Europe/Berlin:20260921T210000
UID:W32243610-20260921T194500@VHSBÖBLINGEN-SINDELFINGEN
SUMMARY:Yin Yoga (W32243610) 
LOCATION:GHH, 003, EG, Böblinger Str. 8, 71065 Sindelfingen
END:VEVENT
BEGIN:VEVENT
DTSTAMP:20260421T134708
DTSTART;TZID=Europe/Berlin:20260928T194500
DTEND;TZID=Europe/Berlin:20260928T210000
UID:W32243610-20260928T194500@VHSBÖBLINGEN-SINDELFINGEN
SUMMARY:Yin Yoga (W32243610) 
LOCATION:GHH, 003, EG, Böblinger Str. 8, 71065 Sindelfingen
END:VEVENT
BEGIN:VEVENT
DTSTAMP:20260421T134708
DTSTART;TZID=Europe/Berlin:20261005T194500
DTEND;TZID=Europe/Berlin:20261005T210000
UID:W32243610-20261005T194500@VHSBÖBLINGEN-SINDELFINGEN
SUMMARY:Yin Yoga (W32243610) 
LOCATION:GHH, 003, EG, Böblinger Str. 8, 71065 Sindelfingen
END:VEVENT
BEGIN:VEVENT
DTSTAMP:20260421T134708
DTSTART;TZID=Europe/Berlin:20261012T194500
DTEND;TZID=Europe/Berlin:20261012T210000
UID:W32243610-20261012T194500@VHSBÖBLINGEN-SINDELFINGEN
SUMMARY:Yin Yoga (W32243610) 
LOCATION:GHH, 003, EG, Böblinger Str. 8, 71065 Sindelfingen
END:VEVENT
BEGIN:VEVENT
DTSTAMP:20260421T134708
DTSTART;TZID=Europe/Berlin:20261102T194500
DTEND;TZID=Europe/Berlin:20261102T210000
UID:W32243610-20261102T194500@VHSBÖBLINGEN-SINDELFINGEN
SUMMARY:Yin Yoga (W32243610) 
LOCATION:GHH, 003, EG, Böblinger Str. 8, 71065 Sindelfingen
END:VEVENT
BEGIN:VEVENT
DTSTAMP:20260421T134708
DTSTART;TZID=Europe/Berlin:20261109T194500
DTEND;TZID=Europe/Berlin:20261109T210000
UID:W32243610-20261109T194500@VHSBÖBLINGEN-SINDELFINGEN
SUMMARY:Yin Yoga (W32243610) 
LOCATION:GHH, 003, EG, Böblinger Str. 8, 71065 Sindelfingen
END:VEVENT
BEGIN:VEVENT
DTSTAMP:20260421T134708
DTSTART;TZID=Europe/Berlin:20261116T194500
DTEND;TZID=Europe/Berlin:20261116T210000
UID:W32243610-20261116T194500@VHSBÖBLINGEN-SINDELFINGEN
SUMMARY:Yin Yoga (W32243610) 
LOCATION:GHH, 003, EG, Böblinger Str. 8, 71065 Sindelfingen
END:VEVENT
BEGIN:VEVENT
DTSTAMP:20260421T134708
DTSTART;TZID=Europe/Berlin:20261123T194500
DTEND;TZID=Europe/Berlin:20261123T210000
UID:W32243610-20261123T194500@VHSBÖBLINGEN-SINDELFINGEN
SUMMARY:Yin Yoga (W32243610) 
LOCATION:GHH, 003, EG, Böblinger Str. 8, 71065 Sindelfingen
END:VEVENT
BEGIN:VEVENT
DTSTAMP:20260421T134708
DTSTART;TZID=Europe/Berlin:20261130T194500
DTEND;TZID=Europe/Berlin:20261130T210000
UID:W32243610-20261130T194500@VHSBÖBLINGEN-SINDELFINGEN
SUMMARY:Yin Yoga (W32243610) 
LOCATION:GHH, 003, EG, Böblinger Str. 8, 71065 Sindelfingen
END:VEVENT
BEGIN:VEVENT
DTSTAMP:20260421T134708
DTSTART;TZID=Europe/Berlin:20261207T194500
DTEND;TZID=Europe/Berlin:20261207T210000
UID:W32243610-20261207T194500@VHSBÖBLINGEN-SINDELFINGEN
SUMMARY:Yin Yoga (W32243610) 
LOCATION:GHH, 003, EG, Böblinger Str. 8, 71065 Sindelfingen
END:VEVENT
BEGIN:VEVENT
DTSTAMP:20260421T134708
DTSTART;TZID=Europe/Berlin:20261214T194500
DTEND;TZID=Europe/Berlin:20261214T210000
UID:W32243610-20261214T194500@VHSBÖBLINGEN-SINDELFINGEN
SUMMARY:Yin Yoga (W32243610) 
LOCATION:GHH, 003, EG, Böblinger Str. 8, 71065 Sindelfingen
END:VEVENT
BEGIN:VEVENT
DTSTAMP:20260421T134708
DTSTART;TZID=Europe/Berlin:20261221T194500
DTEND;TZID=Europe/Berlin:20261221T210000
UID:W32243610-20261221T194500@VHSBÖBLINGEN-SINDELFINGEN
SUMMARY:Yin Yoga (W32243610) 
LOCATION:GHH, 003, EG, Böblinger Str. 8, 71065 Sindelfingen
END:VEVENT
BEGIN:VEVENT
DTSTAMP:20260421T134708
DTSTART;TZID=Europe/Berlin:20270111T194500
DTEND;TZID=Europe/Berlin:20270111T210000
UID:W32243610-20270111T194500@VHSBÖBLINGEN-SINDELFINGEN
SUMMARY:Yin Yoga (W32243610) 
LOCATION:GHH, 003, EG, Böblinger Str. 8, 71065 Sindelfingen
END:VEVENT
BEGIN:VEVENT
DTSTAMP:20260421T134708
DTSTART;TZID=Europe/Berlin:20270118T194500
DTEND;TZID=Europe/Berlin:20270118T210000
UID:W32243610-20270118T194500@VHSBÖBLINGEN-SINDELFINGEN
SUMMARY:Yin Yoga (W32243610) 
LOCATION:GHH, 003, EG, Böblinger Str. 8, 71065 Sindelfingen
END:VEVENT
END:VCALENDAR