BEGIN:VCALENDAR
VERSION:2.0
PRODID:https://www.kufer.de/kuferweb / DE
METHOD:PUBLISH
CALSCALE:GREGORIAN
X-WR-TIMEZONE:Europe/Berlin
BEGIN:VTIMEZONE
TZID:Europe/Berlin
X-LIC-LOCATION:Europe/Berlin
BEGIN:DAYLIGHT
TZOFFSETFROM:+0100
TZOFFSETTO:+0200
TZNAME:CEST
DTSTART:19700329T020000
RRULE:FREQ=YEARLY;INTERVAL=1;BYDAY=-1SU;BYMONTH=3
END:DAYLIGHT
BEGIN:STANDARD
TZOFFSETFROM:+0200
TZOFFSETTO:+0100
TZNAME:CET
DTSTART:19701025T030000
RRULE:FREQ=YEARLY;INTERVAL=1;BYDAY=-1SU;BYMONTH=10
END:STANDARD
END:VTIMEZONE
BEGIN:VEVENT
DTSTAMP:20260421T071453
DTSTART;TZID=Europe/Berlin:20260923T194500
DTEND;TZID=Europe/Berlin:20260923T210000
UID:W32243410-20260923T194500@VHSBÖBLINGEN-SINDELFINGEN
SUMMARY:Yin Yoga (W32243410) 
LOCATION:Höfle, Saal, 107, 1. OG, Pestalozzistr. 4, 71032 Böblingen
END:VEVENT
BEGIN:VEVENT
DTSTAMP:20260421T071453
DTSTART;TZID=Europe/Berlin:20261007T194500
DTEND;TZID=Europe/Berlin:20261007T210000
UID:W32243410-20261007T194500@VHSBÖBLINGEN-SINDELFINGEN
SUMMARY:Yin Yoga (W32243410) 
LOCATION:Höfle, Saal, 107, 1. OG, Pestalozzistr. 4, 71032 Böblingen
END:VEVENT
BEGIN:VEVENT
DTSTAMP:20260421T071453
DTSTART;TZID=Europe/Berlin:20261014T194500
DTEND;TZID=Europe/Berlin:20261014T210000
UID:W32243410-20261014T194500@VHSBÖBLINGEN-SINDELFINGEN
SUMMARY:Yin Yoga (W32243410) 
LOCATION:Höfle, Saal, 107, 1. OG, Pestalozzistr. 4, 71032 Böblingen
END:VEVENT
BEGIN:VEVENT
DTSTAMP:20260421T071453
DTSTART;TZID=Europe/Berlin:20261021T194500
DTEND;TZID=Europe/Berlin:20261021T210000
UID:W32243410-20261021T194500@VHSBÖBLINGEN-SINDELFINGEN
SUMMARY:Yin Yoga (W32243410) 
LOCATION:Höfle, Saal, 107, 1. OG, Pestalozzistr. 4, 71032 Böblingen
END:VEVENT
BEGIN:VEVENT
DTSTAMP:20260421T071453
DTSTART;TZID=Europe/Berlin:20261111T194500
DTEND;TZID=Europe/Berlin:20261111T210000
UID:W32243410-20261111T194500@VHSBÖBLINGEN-SINDELFINGEN
SUMMARY:Yin Yoga (W32243410) 
LOCATION:Höfle, Saal, 107, 1. OG, Pestalozzistr. 4, 71032 Böblingen
END:VEVENT
BEGIN:VEVENT
DTSTAMP:20260421T071453
DTSTART;TZID=Europe/Berlin:20261118T194500
DTEND;TZID=Europe/Berlin:20261118T210000
UID:W32243410-20261118T194500@VHSBÖBLINGEN-SINDELFINGEN
SUMMARY:Yin Yoga (W32243410) 
LOCATION:Höfle, Saal, 107, 1. OG, Pestalozzistr. 4, 71032 Böblingen
END:VEVENT
BEGIN:VEVENT
DTSTAMP:20260421T071453
DTSTART;TZID=Europe/Berlin:20261125T194500
DTEND;TZID=Europe/Berlin:20261125T210000
UID:W32243410-20261125T194500@VHSBÖBLINGEN-SINDELFINGEN
SUMMARY:Yin Yoga (W32243410) 
LOCATION:Höfle, Saal, 107, 1. OG, Pestalozzistr. 4, 71032 Böblingen
END:VEVENT
BEGIN:VEVENT
DTSTAMP:20260421T071453
DTSTART;TZID=Europe/Berlin:20261202T194500
DTEND;TZID=Europe/Berlin:20261202T210000
UID:W32243410-20261202T194500@VHSBÖBLINGEN-SINDELFINGEN
SUMMARY:Yin Yoga (W32243410) 
LOCATION:Höfle, Saal, 107, 1. OG, Pestalozzistr. 4, 71032 Böblingen
END:VEVENT
BEGIN:VEVENT
DTSTAMP:20260421T071453
DTSTART;TZID=Europe/Berlin:20261209T194500
DTEND;TZID=Europe/Berlin:20261209T210000
UID:W32243410-20261209T194500@VHSBÖBLINGEN-SINDELFINGEN
SUMMARY:Yin Yoga (W32243410) 
LOCATION:Höfle, Saal, 107, 1. OG, Pestalozzistr. 4, 71032 Böblingen
END:VEVENT
BEGIN:VEVENT
DTSTAMP:20260421T071453
DTSTART;TZID=Europe/Berlin:20261216T194500
DTEND;TZID=Europe/Berlin:20261216T210000
UID:W32243410-20261216T194500@VHSBÖBLINGEN-SINDELFINGEN
SUMMARY:Yin Yoga (W32243410) 
LOCATION:Höfle, Saal, 107, 1. OG, Pestalozzistr. 4, 71032 Böblingen
END:VEVENT
BEGIN:VEVENT
DTSTAMP:20260421T071453
DTSTART;TZID=Europe/Berlin:20270113T194500
DTEND;TZID=Europe/Berlin:20270113T210000
UID:W32243410-20270113T194500@VHSBÖBLINGEN-SINDELFINGEN
SUMMARY:Yin Yoga (W32243410) 
LOCATION:Höfle, Saal, 107, 1. OG, Pestalozzistr. 4, 71032 Böblingen
END:VEVENT
BEGIN:VEVENT
DTSTAMP:20260421T071453
DTSTART;TZID=Europe/Berlin:20270120T194500
DTEND;TZID=Europe/Berlin:20270120T210000
UID:W32243410-20270120T194500@VHSBÖBLINGEN-SINDELFINGEN
SUMMARY:Yin Yoga (W32243410) 
LOCATION:Höfle, Saal, 107, 1. OG, Pestalozzistr. 4, 71032 Böblingen
END:VEVENT
BEGIN:VEVENT
DTSTAMP:20260421T071453
DTSTART;TZID=Europe/Berlin:20270127T194500
DTEND;TZID=Europe/Berlin:20270127T210000
UID:W32243410-20270127T194500@VHSBÖBLINGEN-SINDELFINGEN
SUMMARY:Yin Yoga (W32243410) 
LOCATION:Höfle, Saal, 107, 1. OG, Pestalozzistr. 4, 71032 Böblingen
END:VEVENT
BEGIN:VEVENT
DTSTAMP:20260421T071453
DTSTART;TZID=Europe/Berlin:20270203T194500
DTEND;TZID=Europe/Berlin:20270203T210000
UID:W32243410-20270203T194500@VHSBÖBLINGEN-SINDELFINGEN
SUMMARY:Yin Yoga (W32243410) 
LOCATION:Höfle, Saal, 107, 1. OG, Pestalozzistr. 4, 71032 Böblingen
END:VEVENT
END:VCALENDAR