BEGIN:VCALENDAR
VERSION:2.0
PRODID:https://www.kufer.de/kuferweb / DE
METHOD:PUBLISH
CALSCALE:GREGORIAN
X-WR-TIMEZONE:Europe/Berlin
BEGIN:VTIMEZONE
TZID:Europe/Berlin
X-LIC-LOCATION:Europe/Berlin
BEGIN:DAYLIGHT
TZOFFSETFROM:+0100
TZOFFSETTO:+0200
TZNAME:CEST
DTSTART:19700329T020000
RRULE:FREQ=YEARLY;INTERVAL=1;BYDAY=-1SU;BYMONTH=3
END:DAYLIGHT
BEGIN:STANDARD
TZOFFSETFROM:+0200
TZOFFSETTO:+0100
TZNAME:CET
DTSTART:19701025T030000
RRULE:FREQ=YEARLY;INTERVAL=1;BYDAY=-1SU;BYMONTH=10
END:STANDARD
END:VTIMEZONE
BEGIN:VEVENT
DTSTAMP:20260421T043203
DTSTART;TZID=Europe/Berlin:20260923T181500
DTEND;TZID=Europe/Berlin:20260923T194500
UID:W32243310-20260923T181500@VHSBÖBLINGEN-SINDELFINGEN
SUMMARY:Rücken Yoga meets Yin Yoga (W32243310) 
LOCATION:GHH, 003, EG, Böblinger Str. 8, 71065 Sindelfingen
END:VEVENT
BEGIN:VEVENT
DTSTAMP:20260421T043203
DTSTART;TZID=Europe/Berlin:20260930T181500
DTEND;TZID=Europe/Berlin:20260930T194500
UID:W32243310-20260930T181500@VHSBÖBLINGEN-SINDELFINGEN
SUMMARY:Rücken Yoga meets Yin Yoga (W32243310) 
LOCATION:GHH, 003, EG, Böblinger Str. 8, 71065 Sindelfingen
END:VEVENT
BEGIN:VEVENT
DTSTAMP:20260421T043203
DTSTART;TZID=Europe/Berlin:20261007T181500
DTEND;TZID=Europe/Berlin:20261007T194500
UID:W32243310-20261007T181500@VHSBÖBLINGEN-SINDELFINGEN
SUMMARY:Rücken Yoga meets Yin Yoga (W32243310) 
LOCATION:GHH, 003, EG, Böblinger Str. 8, 71065 Sindelfingen
END:VEVENT
BEGIN:VEVENT
DTSTAMP:20260421T043203
DTSTART;TZID=Europe/Berlin:20261014T181500
DTEND;TZID=Europe/Berlin:20261014T194500
UID:W32243310-20261014T181500@VHSBÖBLINGEN-SINDELFINGEN
SUMMARY:Rücken Yoga meets Yin Yoga (W32243310) 
LOCATION:GHH, 003, EG, Böblinger Str. 8, 71065 Sindelfingen
END:VEVENT
BEGIN:VEVENT
DTSTAMP:20260421T043203
DTSTART;TZID=Europe/Berlin:20261021T181500
DTEND;TZID=Europe/Berlin:20261021T194500
UID:W32243310-20261021T181500@VHSBÖBLINGEN-SINDELFINGEN
SUMMARY:Rücken Yoga meets Yin Yoga (W32243310) 
LOCATION:GHH, 003, EG, Böblinger Str. 8, 71065 Sindelfingen
END:VEVENT
BEGIN:VEVENT
DTSTAMP:20260421T043203
DTSTART;TZID=Europe/Berlin:20261104T181500
DTEND;TZID=Europe/Berlin:20261104T194500
UID:W32243310-20261104T181500@VHSBÖBLINGEN-SINDELFINGEN
SUMMARY:Rücken Yoga meets Yin Yoga (W32243310) 
LOCATION:GHH, 003, EG, Böblinger Str. 8, 71065 Sindelfingen
END:VEVENT
BEGIN:VEVENT
DTSTAMP:20260421T043203
DTSTART;TZID=Europe/Berlin:20261111T181500
DTEND;TZID=Europe/Berlin:20261111T194500
UID:W32243310-20261111T181500@VHSBÖBLINGEN-SINDELFINGEN
SUMMARY:Rücken Yoga meets Yin Yoga (W32243310) 
LOCATION:GHH, 003, EG, Böblinger Str. 8, 71065 Sindelfingen
END:VEVENT
BEGIN:VEVENT
DTSTAMP:20260421T043203
DTSTART;TZID=Europe/Berlin:20261118T181500
DTEND;TZID=Europe/Berlin:20261118T194500
UID:W32243310-20261118T181500@VHSBÖBLINGEN-SINDELFINGEN
SUMMARY:Rücken Yoga meets Yin Yoga (W32243310) 
LOCATION:GHH, 003, EG, Böblinger Str. 8, 71065 Sindelfingen
END:VEVENT
BEGIN:VEVENT
DTSTAMP:20260421T043203
DTSTART;TZID=Europe/Berlin:20261125T181500
DTEND;TZID=Europe/Berlin:20261125T194500
UID:W32243310-20261125T181500@VHSBÖBLINGEN-SINDELFINGEN
SUMMARY:Rücken Yoga meets Yin Yoga (W32243310) 
LOCATION:GHH, 003, EG, Böblinger Str. 8, 71065 Sindelfingen
END:VEVENT
BEGIN:VEVENT
DTSTAMP:20260421T043203
DTSTART;TZID=Europe/Berlin:20261202T181500
DTEND;TZID=Europe/Berlin:20261202T194500
UID:W32243310-20261202T181500@VHSBÖBLINGEN-SINDELFINGEN
SUMMARY:Rücken Yoga meets Yin Yoga (W32243310) 
LOCATION:GHH, 003, EG, Böblinger Str. 8, 71065 Sindelfingen
END:VEVENT
BEGIN:VEVENT
DTSTAMP:20260421T043203
DTSTART;TZID=Europe/Berlin:20261209T181500
DTEND;TZID=Europe/Berlin:20261209T194500
UID:W32243310-20261209T181500@VHSBÖBLINGEN-SINDELFINGEN
SUMMARY:Rücken Yoga meets Yin Yoga (W32243310) 
LOCATION:GHH, 003, EG, Böblinger Str. 8, 71065 Sindelfingen
END:VEVENT
BEGIN:VEVENT
DTSTAMP:20260421T043203
DTSTART;TZID=Europe/Berlin:20261216T181500
DTEND;TZID=Europe/Berlin:20261216T194500
UID:W32243310-20261216T181500@VHSBÖBLINGEN-SINDELFINGEN
SUMMARY:Rücken Yoga meets Yin Yoga (W32243310) 
LOCATION:GHH, 003, EG, Böblinger Str. 8, 71065 Sindelfingen
END:VEVENT
BEGIN:VEVENT
DTSTAMP:20260421T043203
DTSTART;TZID=Europe/Berlin:20270113T181500
DTEND;TZID=Europe/Berlin:20270113T194500
UID:W32243310-20270113T181500@VHSBÖBLINGEN-SINDELFINGEN
SUMMARY:Rücken Yoga meets Yin Yoga (W32243310) 
LOCATION:GHH, 003, EG, Böblinger Str. 8, 71065 Sindelfingen
END:VEVENT
BEGIN:VEVENT
DTSTAMP:20260421T043203
DTSTART;TZID=Europe/Berlin:20270120T181500
DTEND;TZID=Europe/Berlin:20270120T194500
UID:W32243310-20270120T181500@VHSBÖBLINGEN-SINDELFINGEN
SUMMARY:Rücken Yoga meets Yin Yoga (W32243310) 
LOCATION:GHH, 003, EG, Böblinger Str. 8, 71065 Sindelfingen
END:VEVENT
BEGIN:VEVENT
DTSTAMP:20260421T043203
DTSTART;TZID=Europe/Berlin:20270127T181500
DTEND;TZID=Europe/Berlin:20270127T194500
UID:W32243310-20270127T181500@VHSBÖBLINGEN-SINDELFINGEN
SUMMARY:Rücken Yoga meets Yin Yoga (W32243310) 
LOCATION:GHH, 003, EG, Böblinger Str. 8, 71065 Sindelfingen
END:VEVENT
END:VCALENDAR