BEGIN:VCALENDAR
VERSION:2.0
PRODID:https://www.kufer.de/kuferweb / DE
METHOD:PUBLISH
CALSCALE:GREGORIAN
X-WR-TIMEZONE:Europe/Berlin
BEGIN:VTIMEZONE
TZID:Europe/Berlin
X-LIC-LOCATION:Europe/Berlin
BEGIN:DAYLIGHT
TZOFFSETFROM:+0100
TZOFFSETTO:+0200
TZNAME:CEST
DTSTART:19700329T020000
RRULE:FREQ=YEARLY;INTERVAL=1;BYDAY=-1SU;BYMONTH=3
END:DAYLIGHT
BEGIN:STANDARD
TZOFFSETFROM:+0200
TZOFFSETTO:+0100
TZNAME:CET
DTSTART:19701025T030000
RRULE:FREQ=YEARLY;INTERVAL=1;BYDAY=-1SU;BYMONTH=10
END:STANDARD
END:VTIMEZONE
BEGIN:VEVENT
DTSTAMP:20260421T134753
DTSTART;TZID=Europe/Berlin:20260915T181500
DTEND;TZID=Europe/Berlin:20260915T193000
UID:W32243018-20260915T181500@VHSBÖBLINGEN-SINDELFINGEN
SUMMARY:Rücken Yoga (W32243018) 
LOCATION:GR, Grundschule Dätzingen, Turnhalle, Döffinger Str. 55, 71120 Grafenau
END:VEVENT
BEGIN:VEVENT
DTSTAMP:20260421T134753
DTSTART;TZID=Europe/Berlin:20260922T181500
DTEND;TZID=Europe/Berlin:20260922T193000
UID:W32243018-20260922T181500@VHSBÖBLINGEN-SINDELFINGEN
SUMMARY:Rücken Yoga (W32243018) 
LOCATION:GR, Grundschule Dätzingen, Turnhalle, Döffinger Str. 55, 71120 Grafenau
END:VEVENT
BEGIN:VEVENT
DTSTAMP:20260421T134753
DTSTART;TZID=Europe/Berlin:20260929T181500
DTEND;TZID=Europe/Berlin:20260929T193000
UID:W32243018-20260929T181500@VHSBÖBLINGEN-SINDELFINGEN
SUMMARY:Rücken Yoga (W32243018) 
LOCATION:GR, Grundschule Dätzingen, Turnhalle, Döffinger Str. 55, 71120 Grafenau
END:VEVENT
BEGIN:VEVENT
DTSTAMP:20260421T134753
DTSTART;TZID=Europe/Berlin:20261006T181500
DTEND;TZID=Europe/Berlin:20261006T193000
UID:W32243018-20261006T181500@VHSBÖBLINGEN-SINDELFINGEN
SUMMARY:Rücken Yoga (W32243018) 
LOCATION:GR, Grundschule Dätzingen, Turnhalle, Döffinger Str. 55, 71120 Grafenau
END:VEVENT
BEGIN:VEVENT
DTSTAMP:20260421T134753
DTSTART;TZID=Europe/Berlin:20261013T181500
DTEND;TZID=Europe/Berlin:20261013T193000
UID:W32243018-20261013T181500@VHSBÖBLINGEN-SINDELFINGEN
SUMMARY:Rücken Yoga (W32243018) 
LOCATION:GR, Grundschule Dätzingen, Turnhalle, Döffinger Str. 55, 71120 Grafenau
END:VEVENT
BEGIN:VEVENT
DTSTAMP:20260421T134753
DTSTART;TZID=Europe/Berlin:20261020T181500
DTEND;TZID=Europe/Berlin:20261020T193000
UID:W32243018-20261020T181500@VHSBÖBLINGEN-SINDELFINGEN
SUMMARY:Rücken Yoga (W32243018) 
LOCATION:GR, Grundschule Dätzingen, Turnhalle, Döffinger Str. 55, 71120 Grafenau
END:VEVENT
BEGIN:VEVENT
DTSTAMP:20260421T134753
DTSTART;TZID=Europe/Berlin:20261103T181500
DTEND;TZID=Europe/Berlin:20261103T193000
UID:W32243018-20261103T181500@VHSBÖBLINGEN-SINDELFINGEN
SUMMARY:Rücken Yoga (W32243018) 
LOCATION:GR, Grundschule Dätzingen, Turnhalle, Döffinger Str. 55, 71120 Grafenau
END:VEVENT
BEGIN:VEVENT
DTSTAMP:20260421T134753
DTSTART;TZID=Europe/Berlin:20261110T181500
DTEND;TZID=Europe/Berlin:20261110T193000
UID:W32243018-20261110T181500@VHSBÖBLINGEN-SINDELFINGEN
SUMMARY:Rücken Yoga (W32243018) 
LOCATION:GR, Grundschule Dätzingen, Turnhalle, Döffinger Str. 55, 71120 Grafenau
END:VEVENT
BEGIN:VEVENT
DTSTAMP:20260421T134753
DTSTART;TZID=Europe/Berlin:20261117T181500
DTEND;TZID=Europe/Berlin:20261117T193000
UID:W32243018-20261117T181500@VHSBÖBLINGEN-SINDELFINGEN
SUMMARY:Rücken Yoga (W32243018) 
LOCATION:GR, Grundschule Dätzingen, Turnhalle, Döffinger Str. 55, 71120 Grafenau
END:VEVENT
BEGIN:VEVENT
DTSTAMP:20260421T134753
DTSTART;TZID=Europe/Berlin:20261124T181500
DTEND;TZID=Europe/Berlin:20261124T193000
UID:W32243018-20261124T181500@VHSBÖBLINGEN-SINDELFINGEN
SUMMARY:Rücken Yoga (W32243018) 
LOCATION:GR, Grundschule Dätzingen, Turnhalle, Döffinger Str. 55, 71120 Grafenau
END:VEVENT
BEGIN:VEVENT
DTSTAMP:20260421T134753
DTSTART;TZID=Europe/Berlin:20261201T181500
DTEND;TZID=Europe/Berlin:20261201T193000
UID:W32243018-20261201T181500@VHSBÖBLINGEN-SINDELFINGEN
SUMMARY:Rücken Yoga (W32243018) 
LOCATION:GR, Grundschule Dätzingen, Turnhalle, Döffinger Str. 55, 71120 Grafenau
END:VEVENT
BEGIN:VEVENT
DTSTAMP:20260421T134753
DTSTART;TZID=Europe/Berlin:20261208T181500
DTEND;TZID=Europe/Berlin:20261208T193000
UID:W32243018-20261208T181500@VHSBÖBLINGEN-SINDELFINGEN
SUMMARY:Rücken Yoga (W32243018) 
LOCATION:GR, Grundschule Dätzingen, Turnhalle, Döffinger Str. 55, 71120 Grafenau
END:VEVENT
BEGIN:VEVENT
DTSTAMP:20260421T134753
DTSTART;TZID=Europe/Berlin:20261215T181500
DTEND;TZID=Europe/Berlin:20261215T193000
UID:W32243018-20261215T181500@VHSBÖBLINGEN-SINDELFINGEN
SUMMARY:Rücken Yoga (W32243018) 
LOCATION:GR, Grundschule Dätzingen, Turnhalle, Döffinger Str. 55, 71120 Grafenau
END:VEVENT
BEGIN:VEVENT
DTSTAMP:20260421T134753
DTSTART;TZID=Europe/Berlin:20261222T181500
DTEND;TZID=Europe/Berlin:20261222T193000
UID:W32243018-20261222T181500@VHSBÖBLINGEN-SINDELFINGEN
SUMMARY:Rücken Yoga (W32243018) 
LOCATION:GR, Grundschule Dätzingen, Turnhalle, Döffinger Str. 55, 71120 Grafenau
END:VEVENT
BEGIN:VEVENT
DTSTAMP:20260421T134753
DTSTART;TZID=Europe/Berlin:20270112T181500
DTEND;TZID=Europe/Berlin:20270112T193000
UID:W32243018-20270112T181500@VHSBÖBLINGEN-SINDELFINGEN
SUMMARY:Rücken Yoga (W32243018) 
LOCATION:GR, Grundschule Dätzingen, Turnhalle, Döffinger Str. 55, 71120 Grafenau
END:VEVENT
BEGIN:VEVENT
DTSTAMP:20260421T134753
DTSTART;TZID=Europe/Berlin:20270119T181500
DTEND;TZID=Europe/Berlin:20270119T193000
UID:W32243018-20270119T181500@VHSBÖBLINGEN-SINDELFINGEN
SUMMARY:Rücken Yoga (W32243018) 
LOCATION:GR, Grundschule Dätzingen, Turnhalle, Döffinger Str. 55, 71120 Grafenau
END:VEVENT
BEGIN:VEVENT
DTSTAMP:20260421T134753
DTSTART;TZID=Europe/Berlin:20270126T181500
DTEND;TZID=Europe/Berlin:20270126T193000
UID:W32243018-20270126T181500@VHSBÖBLINGEN-SINDELFINGEN
SUMMARY:Rücken Yoga (W32243018) 
LOCATION:GR, Grundschule Dätzingen, Turnhalle, Döffinger Str. 55, 71120 Grafenau
END:VEVENT
END:VCALENDAR