BEGIN:VCALENDAR
VERSION:2.0
PRODID:https://www.kufer.de/kuferweb / DE
METHOD:PUBLISH
CALSCALE:GREGORIAN
X-WR-TIMEZONE:Europe/Berlin
BEGIN:VTIMEZONE
TZID:Europe/Berlin
X-LIC-LOCATION:Europe/Berlin
BEGIN:DAYLIGHT
TZOFFSETFROM:+0100
TZOFFSETTO:+0200
TZNAME:CEST
DTSTART:19700329T020000
RRULE:FREQ=YEARLY;INTERVAL=1;BYDAY=-1SU;BYMONTH=3
END:DAYLIGHT
BEGIN:STANDARD
TZOFFSETFROM:+0200
TZOFFSETTO:+0100
TZNAME:CET
DTSTART:19701025T030000
RRULE:FREQ=YEARLY;INTERVAL=1;BYDAY=-1SU;BYMONTH=10
END:STANDARD
END:VTIMEZONE
BEGIN:VEVENT
DTSTAMP:20260421T073526
DTSTART;TZID=Europe/Berlin:20260922T184500
DTEND;TZID=Europe/Berlin:20260922T194500
UID:W32243010-20260922T184500@VHSBÖBLINGEN-SINDELFINGEN
SUMMARY:Rücken Yoga (W32243010) 
LOCATION:vhs.Werk, Halle 2, Wurmbergstr. 5, 71063 Sindelfingen
END:VEVENT
BEGIN:VEVENT
DTSTAMP:20260421T073526
DTSTART;TZID=Europe/Berlin:20260929T184500
DTEND;TZID=Europe/Berlin:20260929T194500
UID:W32243010-20260929T184500@VHSBÖBLINGEN-SINDELFINGEN
SUMMARY:Rücken Yoga (W32243010) 
LOCATION:vhs.Werk, Halle 2, Wurmbergstr. 5, 71063 Sindelfingen
END:VEVENT
BEGIN:VEVENT
DTSTAMP:20260421T073526
DTSTART;TZID=Europe/Berlin:20261006T184500
DTEND;TZID=Europe/Berlin:20261006T194500
UID:W32243010-20261006T184500@VHSBÖBLINGEN-SINDELFINGEN
SUMMARY:Rücken Yoga (W32243010) 
LOCATION:vhs.Werk, Halle 2, Wurmbergstr. 5, 71063 Sindelfingen
END:VEVENT
BEGIN:VEVENT
DTSTAMP:20260421T073526
DTSTART;TZID=Europe/Berlin:20261013T184500
DTEND;TZID=Europe/Berlin:20261013T194500
UID:W32243010-20261013T184500@VHSBÖBLINGEN-SINDELFINGEN
SUMMARY:Rücken Yoga (W32243010) 
LOCATION:vhs.Werk, Halle 2, Wurmbergstr. 5, 71063 Sindelfingen
END:VEVENT
BEGIN:VEVENT
DTSTAMP:20260421T073526
DTSTART;TZID=Europe/Berlin:20261020T184500
DTEND;TZID=Europe/Berlin:20261020T194500
UID:W32243010-20261020T184500@VHSBÖBLINGEN-SINDELFINGEN
SUMMARY:Rücken Yoga (W32243010) 
LOCATION:vhs.Werk, Halle 2, Wurmbergstr. 5, 71063 Sindelfingen
END:VEVENT
BEGIN:VEVENT
DTSTAMP:20260421T073526
DTSTART;TZID=Europe/Berlin:20261103T184500
DTEND;TZID=Europe/Berlin:20261103T194500
UID:W32243010-20261103T184500@VHSBÖBLINGEN-SINDELFINGEN
SUMMARY:Rücken Yoga (W32243010) 
LOCATION:vhs.Werk, Halle 2, Wurmbergstr. 5, 71063 Sindelfingen
END:VEVENT
BEGIN:VEVENT
DTSTAMP:20260421T073526
DTSTART;TZID=Europe/Berlin:20261110T184500
DTEND;TZID=Europe/Berlin:20261110T194500
UID:W32243010-20261110T184500@VHSBÖBLINGEN-SINDELFINGEN
SUMMARY:Rücken Yoga (W32243010) 
LOCATION:vhs.Werk, Halle 2, Wurmbergstr. 5, 71063 Sindelfingen
END:VEVENT
BEGIN:VEVENT
DTSTAMP:20260421T073526
DTSTART;TZID=Europe/Berlin:20261117T184500
DTEND;TZID=Europe/Berlin:20261117T194500
UID:W32243010-20261117T184500@VHSBÖBLINGEN-SINDELFINGEN
SUMMARY:Rücken Yoga (W32243010) 
LOCATION:vhs.Werk, Halle 2, Wurmbergstr. 5, 71063 Sindelfingen
END:VEVENT
BEGIN:VEVENT
DTSTAMP:20260421T073526
DTSTART;TZID=Europe/Berlin:20261124T184500
DTEND;TZID=Europe/Berlin:20261124T194500
UID:W32243010-20261124T184500@VHSBÖBLINGEN-SINDELFINGEN
SUMMARY:Rücken Yoga (W32243010) 
LOCATION:vhs.Werk, Halle 2, Wurmbergstr. 5, 71063 Sindelfingen
END:VEVENT
END:VCALENDAR