BEGIN:VCALENDAR
VERSION:2.0
PRODID:https://www.kufer.de/kuferweb / DE
METHOD:PUBLISH
CALSCALE:GREGORIAN
X-WR-TIMEZONE:Europe/Berlin
BEGIN:VTIMEZONE
TZID:Europe/Berlin
X-LIC-LOCATION:Europe/Berlin
BEGIN:DAYLIGHT
TZOFFSETFROM:+0100
TZOFFSETTO:+0200
TZNAME:CEST
DTSTART:19700329T020000
RRULE:FREQ=YEARLY;INTERVAL=1;BYDAY=-1SU;BYMONTH=3
END:DAYLIGHT
BEGIN:STANDARD
TZOFFSETFROM:+0200
TZOFFSETTO:+0100
TZNAME:CET
DTSTART:19701025T030000
RRULE:FREQ=YEARLY;INTERVAL=1;BYDAY=-1SU;BYMONTH=10
END:STANDARD
END:VTIMEZONE
BEGIN:VEVENT
DTSTAMP:20260421T023728
DTSTART;TZID=Europe/Berlin:20260925T173000
DTEND;TZID=Europe/Berlin:20260925T190000
UID:W31840810-20260925T173000@VHSBÖBLINGEN-SINDELFINGEN
SUMMARY:Qi Gong mit Meditation und Entspannung (W31840810) 
LOCATION:GHH, 003, EG, Böblinger Str. 8, 71065 Sindelfingen
END:VEVENT
BEGIN:VEVENT
DTSTAMP:20260421T023728
DTSTART;TZID=Europe/Berlin:20261002T173000
DTEND;TZID=Europe/Berlin:20261002T190000
UID:W31840810-20261002T173000@VHSBÖBLINGEN-SINDELFINGEN
SUMMARY:Qi Gong mit Meditation und Entspannung (W31840810) 
LOCATION:GHH, 003, EG, Böblinger Str. 8, 71065 Sindelfingen
END:VEVENT
BEGIN:VEVENT
DTSTAMP:20260421T023728
DTSTART;TZID=Europe/Berlin:20261009T173000
DTEND;TZID=Europe/Berlin:20261009T190000
UID:W31840810-20261009T173000@VHSBÖBLINGEN-SINDELFINGEN
SUMMARY:Qi Gong mit Meditation und Entspannung (W31840810) 
LOCATION:GHH, 003, EG, Böblinger Str. 8, 71065 Sindelfingen
END:VEVENT
BEGIN:VEVENT
DTSTAMP:20260421T023728
DTSTART;TZID=Europe/Berlin:20261016T173000
DTEND;TZID=Europe/Berlin:20261016T190000
UID:W31840810-20261016T173000@VHSBÖBLINGEN-SINDELFINGEN
SUMMARY:Qi Gong mit Meditation und Entspannung (W31840810) 
LOCATION:GHH, 003, EG, Böblinger Str. 8, 71065 Sindelfingen
END:VEVENT
BEGIN:VEVENT
DTSTAMP:20260421T023728
DTSTART;TZID=Europe/Berlin:20261023T173000
DTEND;TZID=Europe/Berlin:20261023T190000
UID:W31840810-20261023T173000@VHSBÖBLINGEN-SINDELFINGEN
SUMMARY:Qi Gong mit Meditation und Entspannung (W31840810) 
LOCATION:GHH, 003, EG, Böblinger Str. 8, 71065 Sindelfingen
END:VEVENT
BEGIN:VEVENT
DTSTAMP:20260421T023728
DTSTART;TZID=Europe/Berlin:20261113T173000
DTEND;TZID=Europe/Berlin:20261113T190000
UID:W31840810-20261113T173000@VHSBÖBLINGEN-SINDELFINGEN
SUMMARY:Qi Gong mit Meditation und Entspannung (W31840810) 
LOCATION:GHH, 003, EG, Böblinger Str. 8, 71065 Sindelfingen
END:VEVENT
BEGIN:VEVENT
DTSTAMP:20260421T023728
DTSTART;TZID=Europe/Berlin:20261120T173000
DTEND;TZID=Europe/Berlin:20261120T190000
UID:W31840810-20261120T173000@VHSBÖBLINGEN-SINDELFINGEN
SUMMARY:Qi Gong mit Meditation und Entspannung (W31840810) 
LOCATION:GHH, 003, EG, Böblinger Str. 8, 71065 Sindelfingen
END:VEVENT
BEGIN:VEVENT
DTSTAMP:20260421T023728
DTSTART;TZID=Europe/Berlin:20261127T173000
DTEND;TZID=Europe/Berlin:20261127T190000
UID:W31840810-20261127T173000@VHSBÖBLINGEN-SINDELFINGEN
SUMMARY:Qi Gong mit Meditation und Entspannung (W31840810) 
LOCATION:GHH, 003, EG, Böblinger Str. 8, 71065 Sindelfingen
END:VEVENT
BEGIN:VEVENT
DTSTAMP:20260421T023728
DTSTART;TZID=Europe/Berlin:20261204T173000
DTEND;TZID=Europe/Berlin:20261204T190000
UID:W31840810-20261204T173000@VHSBÖBLINGEN-SINDELFINGEN
SUMMARY:Qi Gong mit Meditation und Entspannung (W31840810) 
LOCATION:GHH, 003, EG, Böblinger Str. 8, 71065 Sindelfingen
END:VEVENT
BEGIN:VEVENT
DTSTAMP:20260421T023728
DTSTART;TZID=Europe/Berlin:20261211T173000
DTEND;TZID=Europe/Berlin:20261211T190000
UID:W31840810-20261211T173000@VHSBÖBLINGEN-SINDELFINGEN
SUMMARY:Qi Gong mit Meditation und Entspannung (W31840810) 
LOCATION:GHH, 003, EG, Böblinger Str. 8, 71065 Sindelfingen
END:VEVENT
BEGIN:VEVENT
DTSTAMP:20260421T023728
DTSTART;TZID=Europe/Berlin:20261218T173000
DTEND;TZID=Europe/Berlin:20261218T190000
UID:W31840810-20261218T173000@VHSBÖBLINGEN-SINDELFINGEN
SUMMARY:Qi Gong mit Meditation und Entspannung (W31840810) 
LOCATION:GHH, 003, EG, Böblinger Str. 8, 71065 Sindelfingen
END:VEVENT
BEGIN:VEVENT
DTSTAMP:20260421T023728
DTSTART;TZID=Europe/Berlin:20270122T173000
DTEND;TZID=Europe/Berlin:20270122T190000
UID:W31840810-20270122T173000@VHSBÖBLINGEN-SINDELFINGEN
SUMMARY:Qi Gong mit Meditation und Entspannung (W31840810) 
LOCATION:GHH, 003, EG, Böblinger Str. 8, 71065 Sindelfingen
END:VEVENT
BEGIN:VEVENT
DTSTAMP:20260421T023728
DTSTART;TZID=Europe/Berlin:20270129T173000
DTEND;TZID=Europe/Berlin:20270129T190000
UID:W31840810-20270129T173000@VHSBÖBLINGEN-SINDELFINGEN
SUMMARY:Qi Gong mit Meditation und Entspannung (W31840810) 
LOCATION:GHH, 003, EG, Böblinger Str. 8, 71065 Sindelfingen
END:VEVENT
BEGIN:VEVENT
DTSTAMP:20260421T023728
DTSTART;TZID=Europe/Berlin:20270205T173000
DTEND;TZID=Europe/Berlin:20270205T190000
UID:W31840810-20270205T173000@VHSBÖBLINGEN-SINDELFINGEN
SUMMARY:Qi Gong mit Meditation und Entspannung (W31840810) 
LOCATION:GHH, 003, EG, Böblinger Str. 8, 71065 Sindelfingen
END:VEVENT
END:VCALENDAR