BEGIN:VCALENDAR
VERSION:2.0
PRODID:https://www.kufer.de/kuferweb / DE
METHOD:PUBLISH
CALSCALE:GREGORIAN
X-WR-TIMEZONE:Europe/Berlin
BEGIN:VTIMEZONE
TZID:Europe/Berlin
X-LIC-LOCATION:Europe/Berlin
BEGIN:DAYLIGHT
TZOFFSETFROM:+0100
TZOFFSETTO:+0200
TZNAME:CEST
DTSTART:19700329T020000
RRULE:FREQ=YEARLY;INTERVAL=1;BYDAY=-1SU;BYMONTH=3
END:DAYLIGHT
BEGIN:STANDARD
TZOFFSETFROM:+0200
TZOFFSETTO:+0100
TZNAME:CET
DTSTART:19701025T030000
RRULE:FREQ=YEARLY;INTERVAL=1;BYDAY=-1SU;BYMONTH=10
END:STANDARD
END:VTIMEZONE
BEGIN:VEVENT
DTSTAMP:20260421T081848
DTSTART;TZID=Europe/Berlin:20260916T163000
DTEND;TZID=Europe/Berlin:20260916T180000
UID:W31131024-20260916T163000@VHSBÖBLINGEN-SINDELFINGEN
SUMMARY:Wohlfühlen - bewegen - entspannen (W31131024) 
LOCATION:Bürgerhaus Maichingen, Übungsraum 1, Sindelfinger Str. 44, 71069 Sindelfingen
END:VEVENT
BEGIN:VEVENT
DTSTAMP:20260421T081848
DTSTART;TZID=Europe/Berlin:20260923T163000
DTEND;TZID=Europe/Berlin:20260923T180000
UID:W31131024-20260923T163000@VHSBÖBLINGEN-SINDELFINGEN
SUMMARY:Wohlfühlen - bewegen - entspannen (W31131024) 
LOCATION:Bürgerhaus Maichingen, Übungsraum 1, Sindelfinger Str. 44, 71069 Sindelfingen
END:VEVENT
BEGIN:VEVENT
DTSTAMP:20260421T081848
DTSTART;TZID=Europe/Berlin:20260930T163000
DTEND;TZID=Europe/Berlin:20260930T180000
UID:W31131024-20260930T163000@VHSBÖBLINGEN-SINDELFINGEN
SUMMARY:Wohlfühlen - bewegen - entspannen (W31131024) 
LOCATION:Bürgerhaus Maichingen, Übungsraum 1, Sindelfinger Str. 44, 71069 Sindelfingen
END:VEVENT
BEGIN:VEVENT
DTSTAMP:20260421T081848
DTSTART;TZID=Europe/Berlin:20261007T163000
DTEND;TZID=Europe/Berlin:20261007T180000
UID:W31131024-20261007T163000@VHSBÖBLINGEN-SINDELFINGEN
SUMMARY:Wohlfühlen - bewegen - entspannen (W31131024) 
LOCATION:Bürgerhaus Maichingen, Übungsraum 1, Sindelfinger Str. 44, 71069 Sindelfingen
END:VEVENT
BEGIN:VEVENT
DTSTAMP:20260421T081848
DTSTART;TZID=Europe/Berlin:20261014T163000
DTEND;TZID=Europe/Berlin:20261014T180000
UID:W31131024-20261014T163000@VHSBÖBLINGEN-SINDELFINGEN
SUMMARY:Wohlfühlen - bewegen - entspannen (W31131024) 
LOCATION:Bürgerhaus Maichingen, Übungsraum 1, Sindelfinger Str. 44, 71069 Sindelfingen
END:VEVENT
BEGIN:VEVENT
DTSTAMP:20260421T081848
DTSTART;TZID=Europe/Berlin:20261021T163000
DTEND;TZID=Europe/Berlin:20261021T180000
UID:W31131024-20261021T163000@VHSBÖBLINGEN-SINDELFINGEN
SUMMARY:Wohlfühlen - bewegen - entspannen (W31131024) 
LOCATION:Bürgerhaus Maichingen, Übungsraum 1, Sindelfinger Str. 44, 71069 Sindelfingen
END:VEVENT
BEGIN:VEVENT
DTSTAMP:20260421T081848
DTSTART;TZID=Europe/Berlin:20261104T163000
DTEND;TZID=Europe/Berlin:20261104T180000
UID:W31131024-20261104T163000@VHSBÖBLINGEN-SINDELFINGEN
SUMMARY:Wohlfühlen - bewegen - entspannen (W31131024) 
LOCATION:Bürgerhaus Maichingen, Übungsraum 1, Sindelfinger Str. 44, 71069 Sindelfingen
END:VEVENT
BEGIN:VEVENT
DTSTAMP:20260421T081848
DTSTART;TZID=Europe/Berlin:20261111T163000
DTEND;TZID=Europe/Berlin:20261111T180000
UID:W31131024-20261111T163000@VHSBÖBLINGEN-SINDELFINGEN
SUMMARY:Wohlfühlen - bewegen - entspannen (W31131024) 
LOCATION:Bürgerhaus Maichingen, Übungsraum 1, Sindelfinger Str. 44, 71069 Sindelfingen
END:VEVENT
BEGIN:VEVENT
DTSTAMP:20260421T081848
DTSTART;TZID=Europe/Berlin:20261118T163000
DTEND;TZID=Europe/Berlin:20261118T180000
UID:W31131024-20261118T163000@VHSBÖBLINGEN-SINDELFINGEN
SUMMARY:Wohlfühlen - bewegen - entspannen (W31131024) 
LOCATION:Bürgerhaus Maichingen, Übungsraum 1, Sindelfinger Str. 44, 71069 Sindelfingen
END:VEVENT
BEGIN:VEVENT
DTSTAMP:20260421T081848
DTSTART;TZID=Europe/Berlin:20261125T163000
DTEND;TZID=Europe/Berlin:20261125T180000
UID:W31131024-20261125T163000@VHSBÖBLINGEN-SINDELFINGEN
SUMMARY:Wohlfühlen - bewegen - entspannen (W31131024) 
LOCATION:Bürgerhaus Maichingen, Übungsraum 1, Sindelfinger Str. 44, 71069 Sindelfingen
END:VEVENT
BEGIN:VEVENT
DTSTAMP:20260421T081848
DTSTART;TZID=Europe/Berlin:20261202T163000
DTEND;TZID=Europe/Berlin:20261202T180000
UID:W31131024-20261202T163000@VHSBÖBLINGEN-SINDELFINGEN
SUMMARY:Wohlfühlen - bewegen - entspannen (W31131024) 
LOCATION:Bürgerhaus Maichingen, Übungsraum 1, Sindelfinger Str. 44, 71069 Sindelfingen
END:VEVENT
BEGIN:VEVENT
DTSTAMP:20260421T081848
DTSTART;TZID=Europe/Berlin:20261209T163000
DTEND;TZID=Europe/Berlin:20261209T180000
UID:W31131024-20261209T163000@VHSBÖBLINGEN-SINDELFINGEN
SUMMARY:Wohlfühlen - bewegen - entspannen (W31131024) 
LOCATION:Bürgerhaus Maichingen, Übungsraum 1, Sindelfinger Str. 44, 71069 Sindelfingen
END:VEVENT
BEGIN:VEVENT
DTSTAMP:20260421T081848
DTSTART;TZID=Europe/Berlin:20261216T163000
DTEND;TZID=Europe/Berlin:20261216T180000
UID:W31131024-20261216T163000@VHSBÖBLINGEN-SINDELFINGEN
SUMMARY:Wohlfühlen - bewegen - entspannen (W31131024) 
LOCATION:Bürgerhaus Maichingen, Übungsraum 1, Sindelfinger Str. 44, 71069 Sindelfingen
END:VEVENT
BEGIN:VEVENT
DTSTAMP:20260421T081848
DTSTART;TZID=Europe/Berlin:20270113T163000
DTEND;TZID=Europe/Berlin:20270113T180000
UID:W31131024-20270113T163000@VHSBÖBLINGEN-SINDELFINGEN
SUMMARY:Wohlfühlen - bewegen - entspannen (W31131024) 
LOCATION:Bürgerhaus Maichingen, Übungsraum 1, Sindelfinger Str. 44, 71069 Sindelfingen
END:VEVENT
BEGIN:VEVENT
DTSTAMP:20260421T081848
DTSTART;TZID=Europe/Berlin:20270120T163000
DTEND;TZID=Europe/Berlin:20270120T180000
UID:W31131024-20270120T163000@VHSBÖBLINGEN-SINDELFINGEN
SUMMARY:Wohlfühlen - bewegen - entspannen (W31131024) 
LOCATION:Bürgerhaus Maichingen, Übungsraum 1, Sindelfinger Str. 44, 71069 Sindelfingen
END:VEVENT
BEGIN:VEVENT
DTSTAMP:20260421T081848
DTSTART;TZID=Europe/Berlin:20270127T163000
DTEND;TZID=Europe/Berlin:20270127T180000
UID:W31131024-20270127T163000@VHSBÖBLINGEN-SINDELFINGEN
SUMMARY:Wohlfühlen - bewegen - entspannen (W31131024) 
LOCATION:Bürgerhaus Maichingen, Übungsraum 1, Sindelfinger Str. 44, 71069 Sindelfingen
END:VEVENT
BEGIN:VEVENT
DTSTAMP:20260421T081848
DTSTART;TZID=Europe/Berlin:20270203T163000
DTEND;TZID=Europe/Berlin:20270203T180000
UID:W31131024-20270203T163000@VHSBÖBLINGEN-SINDELFINGEN
SUMMARY:Wohlfühlen - bewegen - entspannen (W31131024) 
LOCATION:Bürgerhaus Maichingen, Übungsraum 1, Sindelfinger Str. 44, 71069 Sindelfingen
END:VEVENT
END:VCALENDAR