BEGIN:VCALENDAR
VERSION:2.0
PRODID:https://www.kufer.de/kuferweb / DE
METHOD:PUBLISH
CALSCALE:GREGORIAN
X-WR-TIMEZONE:Europe/Berlin
BEGIN:VTIMEZONE
TZID:Europe/Berlin
X-LIC-LOCATION:Europe/Berlin
BEGIN:DAYLIGHT
TZOFFSETFROM:+0100
TZOFFSETTO:+0200
TZNAME:CEST
DTSTART:19700329T020000
RRULE:FREQ=YEARLY;INTERVAL=1;BYDAY=-1SU;BYMONTH=3
END:DAYLIGHT
BEGIN:STANDARD
TZOFFSETFROM:+0200
TZOFFSETTO:+0100
TZNAME:CET
DTSTART:19701025T030000
RRULE:FREQ=YEARLY;INTERVAL=1;BYDAY=-1SU;BYMONTH=10
END:STANDARD
END:VTIMEZONE
BEGIN:VEVENT
DTSTAMP:20260422T184404
DTSTART;TZID=Europe/Berlin:20260929T183000
DTEND;TZID=Europe/Berlin:20260929T200000
UID:W29419710-20260929T183000@VHSBÖBLINGEN-SINDELFINGEN
SUMMARY:Arbeitskreis ambitionierter Hobbyfotografinnen und Hobbyfotografen (W29419710) 
LOCATION:vba.Seminarraum, Pestalozzistr. 4, 71032 Böblingen
END:VEVENT
BEGIN:VEVENT
DTSTAMP:20260422T184404
DTSTART;TZID=Europe/Berlin:20261013T183000
DTEND;TZID=Europe/Berlin:20261013T200000
UID:W29419710-20261013T183000@VHSBÖBLINGEN-SINDELFINGEN
SUMMARY:Arbeitskreis ambitionierter Hobbyfotografinnen und Hobbyfotografen (W29419710) 
LOCATION:vba.Seminarraum, Pestalozzistr. 4, 71032 Böblingen
END:VEVENT
BEGIN:VEVENT
DTSTAMP:20260422T184404
DTSTART;TZID=Europe/Berlin:20261027T183000
DTEND;TZID=Europe/Berlin:20261027T200000
UID:W29419710-20261027T183000@VHSBÖBLINGEN-SINDELFINGEN
SUMMARY:Arbeitskreis ambitionierter Hobbyfotografinnen und Hobbyfotografen (W29419710) 
LOCATION:vba.Seminarraum, Pestalozzistr. 4, 71032 Böblingen
END:VEVENT
BEGIN:VEVENT
DTSTAMP:20260422T184404
DTSTART;TZID=Europe/Berlin:20261110T183000
DTEND;TZID=Europe/Berlin:20261110T200000
UID:W29419710-20261110T183000@VHSBÖBLINGEN-SINDELFINGEN
SUMMARY:Arbeitskreis ambitionierter Hobbyfotografinnen und Hobbyfotografen (W29419710) 
LOCATION:vba.Seminarraum, Pestalozzistr. 4, 71032 Böblingen
END:VEVENT
BEGIN:VEVENT
DTSTAMP:20260422T184404
DTSTART;TZID=Europe/Berlin:20261124T183000
DTEND;TZID=Europe/Berlin:20261124T200000
UID:W29419710-20261124T183000@VHSBÖBLINGEN-SINDELFINGEN
SUMMARY:Arbeitskreis ambitionierter Hobbyfotografinnen und Hobbyfotografen (W29419710) 
LOCATION:vba.Seminarraum, Pestalozzistr. 4, 71032 Böblingen
END:VEVENT
BEGIN:VEVENT
DTSTAMP:20260422T184404
DTSTART;TZID=Europe/Berlin:20261208T183000
DTEND;TZID=Europe/Berlin:20261208T200000
UID:W29419710-20261208T183000@VHSBÖBLINGEN-SINDELFINGEN
SUMMARY:Arbeitskreis ambitionierter Hobbyfotografinnen und Hobbyfotografen (W29419710) 
LOCATION:vba.Seminarraum, Pestalozzistr. 4, 71032 Böblingen
END:VEVENT
BEGIN:VEVENT
DTSTAMP:20260422T184404
DTSTART;TZID=Europe/Berlin:20270112T183000
DTEND;TZID=Europe/Berlin:20270112T200000
UID:W29419710-20270112T183000@VHSBÖBLINGEN-SINDELFINGEN
SUMMARY:Arbeitskreis ambitionierter Hobbyfotografinnen und Hobbyfotografen (W29419710) 
LOCATION:vba.Seminarraum, Pestalozzistr. 4, 71032 Böblingen
END:VEVENT
BEGIN:VEVENT
DTSTAMP:20260422T184404
DTSTART;TZID=Europe/Berlin:20270126T183000
DTEND;TZID=Europe/Berlin:20270126T200000
UID:W29419710-20270126T183000@VHSBÖBLINGEN-SINDELFINGEN
SUMMARY:Arbeitskreis ambitionierter Hobbyfotografinnen und Hobbyfotografen (W29419710) 
LOCATION:vba.Seminarraum, Pestalozzistr. 4, 71032 Böblingen
END:VEVENT
END:VCALENDAR