BEGIN:VCALENDAR
VERSION:2.0
PRODID:https://www.kufer.de/kuferweb / DE
METHOD:PUBLISH
CALSCALE:GREGORIAN
X-WR-TIMEZONE:Europe/Berlin
BEGIN:VTIMEZONE
TZID:Europe/Berlin
X-LIC-LOCATION:Europe/Berlin
BEGIN:DAYLIGHT
TZOFFSETFROM:+0100
TZOFFSETTO:+0200
TZNAME:CEST
DTSTART:19700329T020000
RRULE:FREQ=YEARLY;INTERVAL=1;BYDAY=-1SU;BYMONTH=3
END:DAYLIGHT
BEGIN:STANDARD
TZOFFSETFROM:+0200
TZOFFSETTO:+0100
TZNAME:CET
DTSTART:19701025T030000
RRULE:FREQ=YEARLY;INTERVAL=1;BYDAY=-1SU;BYMONTH=10
END:STANDARD
END:VTIMEZONE
BEGIN:VEVENT
DTSTAMP:20260421T041947
DTSTART;TZID=Europe/Berlin:20270113T180000
DTEND;TZID=Europe/Berlin:20270113T200000
UID:W28100315-20270113T180000@VHSBÖBLINGEN-SINDELFINGEN
SUMMARY:Nähkurs von A bis Z –  Schritt für Schritt zum ersten Projekt (W28100315) 
LOCATION:EH, Fronäckerschule, Raum 25, Gartenstr. 11, 71139 Ehningen
END:VEVENT
BEGIN:VEVENT
DTSTAMP:20260421T041947
DTSTART;TZID=Europe/Berlin:20270120T180000
DTEND;TZID=Europe/Berlin:20270120T200000
UID:W28100315-20270120T180000@VHSBÖBLINGEN-SINDELFINGEN
SUMMARY:Nähkurs von A bis Z –  Schritt für Schritt zum ersten Projekt (W28100315) 
LOCATION:EH, Fronäckerschule, Raum 25, Gartenstr. 11, 71139 Ehningen
END:VEVENT
BEGIN:VEVENT
DTSTAMP:20260421T041947
DTSTART;TZID=Europe/Berlin:20270127T180000
DTEND;TZID=Europe/Berlin:20270127T200000
UID:W28100315-20270127T180000@VHSBÖBLINGEN-SINDELFINGEN
SUMMARY:Nähkurs von A bis Z –  Schritt für Schritt zum ersten Projekt (W28100315) 
LOCATION:EH, Fronäckerschule, Raum 25, Gartenstr. 11, 71139 Ehningen
END:VEVENT
BEGIN:VEVENT
DTSTAMP:20260421T041947
DTSTART;TZID=Europe/Berlin:20270203T180000
DTEND;TZID=Europe/Berlin:20270203T200000
UID:W28100315-20270203T180000@VHSBÖBLINGEN-SINDELFINGEN
SUMMARY:Nähkurs von A bis Z –  Schritt für Schritt zum ersten Projekt (W28100315) 
LOCATION:EH, Fronäckerschule, Raum 25, Gartenstr. 11, 71139 Ehningen
END:VEVENT
END:VCALENDAR