BEGIN:VCALENDAR
VERSION:2.0
PRODID:https://www.kufer.de/kuferweb / DE
METHOD:PUBLISH
CALSCALE:GREGORIAN
X-WR-TIMEZONE:Europe/Berlin
BEGIN:VTIMEZONE
TZID:Europe/Berlin
X-LIC-LOCATION:Europe/Berlin
BEGIN:DAYLIGHT
TZOFFSETFROM:+0100
TZOFFSETTO:+0200
TZNAME:CEST
DTSTART:19700329T020000
RRULE:FREQ=YEARLY;INTERVAL=1;BYDAY=-1SU;BYMONTH=3
END:DAYLIGHT
BEGIN:STANDARD
TZOFFSETFROM:+0200
TZOFFSETTO:+0100
TZNAME:CET
DTSTART:19701025T030000
RRULE:FREQ=YEARLY;INTERVAL=1;BYDAY=-1SU;BYMONTH=10
END:STANDARD
END:VTIMEZONE
BEGIN:VEVENT
DTSTAMP:20260421T042002
DTSTART;TZID=Europe/Berlin:20260922T180000
DTEND;TZID=Europe/Berlin:20260922T200000
UID:W28100022-20260922T180000@VHSBÖBLINGEN-SINDELFINGEN
SUMMARY:Nähkurs von A bis Z –  Schritt für Schritt zum ersten Projekt (W28100022) 
LOCATION:MA, Johannes Kepler GMS, Hauptschulgeb., Werkraum, Marienstr. 5, 71106 Magstadt
END:VEVENT
BEGIN:VEVENT
DTSTAMP:20260421T042002
DTSTART;TZID=Europe/Berlin:20260929T180000
DTEND;TZID=Europe/Berlin:20260929T200000
UID:W28100022-20260929T180000@VHSBÖBLINGEN-SINDELFINGEN
SUMMARY:Nähkurs von A bis Z –  Schritt für Schritt zum ersten Projekt (W28100022) 
LOCATION:MA, Johannes Kepler GMS, Hauptschulgeb., Werkraum, Marienstr. 5, 71106 Magstadt
END:VEVENT
BEGIN:VEVENT
DTSTAMP:20260421T042002
DTSTART;TZID=Europe/Berlin:20261006T180000
DTEND;TZID=Europe/Berlin:20261006T200000
UID:W28100022-20261006T180000@VHSBÖBLINGEN-SINDELFINGEN
SUMMARY:Nähkurs von A bis Z –  Schritt für Schritt zum ersten Projekt (W28100022) 
LOCATION:MA, Johannes Kepler GMS, Hauptschulgeb., Werkraum, Marienstr. 5, 71106 Magstadt
END:VEVENT
BEGIN:VEVENT
DTSTAMP:20260421T042002
DTSTART;TZID=Europe/Berlin:20261013T180000
DTEND;TZID=Europe/Berlin:20261013T200000
UID:W28100022-20261013T180000@VHSBÖBLINGEN-SINDELFINGEN
SUMMARY:Nähkurs von A bis Z –  Schritt für Schritt zum ersten Projekt (W28100022) 
LOCATION:MA, Johannes Kepler GMS, Hauptschulgeb., Werkraum, Marienstr. 5, 71106 Magstadt
END:VEVENT
END:VCALENDAR