BEGIN:VCALENDAR
VERSION:2.0
PRODID:https://www.kufer.de/kuferweb / DE
METHOD:PUBLISH
CALSCALE:GREGORIAN
X-WR-TIMEZONE:Europe/Berlin
BEGIN:VTIMEZONE
TZID:Europe/Berlin
X-LIC-LOCATION:Europe/Berlin
BEGIN:DAYLIGHT
TZOFFSETFROM:+0100
TZOFFSETTO:+0200
TZNAME:CEST
DTSTART:19700329T020000
RRULE:FREQ=YEARLY;INTERVAL=1;BYDAY=-1SU;BYMONTH=3
END:DAYLIGHT
BEGIN:STANDARD
TZOFFSETFROM:+0200
TZOFFSETTO:+0100
TZNAME:CET
DTSTART:19701025T030000
RRULE:FREQ=YEARLY;INTERVAL=1;BYDAY=-1SU;BYMONTH=10
END:STANDARD
END:VTIMEZONE
BEGIN:VEVENT
DTSTAMP:20260421T152724
DTSTART;TZID=Europe/Berlin:20260929T163000
DTEND;TZID=Europe/Berlin:20260929T171500
UID:W25930510K-20260929T163000@VHSBÖBLINGEN-SINDELFINGEN
SUMMARY:Ballett für Kinder Tänzerische Früherziehung (W25930510K) 
LOCATION:Höfle, Saal, 107, 1. OG, Pestalozzistr. 4, 71032 Böblingen
END:VEVENT
BEGIN:VEVENT
DTSTAMP:20260421T152724
DTSTART;TZID=Europe/Berlin:20261006T163000
DTEND;TZID=Europe/Berlin:20261006T171500
UID:W25930510K-20261006T163000@VHSBÖBLINGEN-SINDELFINGEN
SUMMARY:Ballett für Kinder Tänzerische Früherziehung (W25930510K) 
LOCATION:Höfle, Saal, 107, 1. OG, Pestalozzistr. 4, 71032 Böblingen
END:VEVENT
BEGIN:VEVENT
DTSTAMP:20260421T152724
DTSTART;TZID=Europe/Berlin:20261013T163000
DTEND;TZID=Europe/Berlin:20261013T171500
UID:W25930510K-20261013T163000@VHSBÖBLINGEN-SINDELFINGEN
SUMMARY:Ballett für Kinder Tänzerische Früherziehung (W25930510K) 
LOCATION:Höfle, Saal, 107, 1. OG, Pestalozzistr. 4, 71032 Böblingen
END:VEVENT
BEGIN:VEVENT
DTSTAMP:20260421T152724
DTSTART;TZID=Europe/Berlin:20261020T163000
DTEND;TZID=Europe/Berlin:20261020T171500
UID:W25930510K-20261020T163000@VHSBÖBLINGEN-SINDELFINGEN
SUMMARY:Ballett für Kinder Tänzerische Früherziehung (W25930510K) 
LOCATION:Höfle, Saal, 107, 1. OG, Pestalozzistr. 4, 71032 Böblingen
END:VEVENT
BEGIN:VEVENT
DTSTAMP:20260421T152724
DTSTART;TZID=Europe/Berlin:20261103T163000
DTEND;TZID=Europe/Berlin:20261103T171500
UID:W25930510K-20261103T163000@VHSBÖBLINGEN-SINDELFINGEN
SUMMARY:Ballett für Kinder Tänzerische Früherziehung (W25930510K) 
LOCATION:Höfle, Saal, 107, 1. OG, Pestalozzistr. 4, 71032 Böblingen
END:VEVENT
BEGIN:VEVENT
DTSTAMP:20260421T152724
DTSTART;TZID=Europe/Berlin:20261110T163000
DTEND;TZID=Europe/Berlin:20261110T171500
UID:W25930510K-20261110T163000@VHSBÖBLINGEN-SINDELFINGEN
SUMMARY:Ballett für Kinder Tänzerische Früherziehung (W25930510K) 
LOCATION:Höfle, Saal, 107, 1. OG, Pestalozzistr. 4, 71032 Böblingen
END:VEVENT
BEGIN:VEVENT
DTSTAMP:20260421T152724
DTSTART;TZID=Europe/Berlin:20261117T163000
DTEND;TZID=Europe/Berlin:20261117T171500
UID:W25930510K-20261117T163000@VHSBÖBLINGEN-SINDELFINGEN
SUMMARY:Ballett für Kinder Tänzerische Früherziehung (W25930510K) 
LOCATION:Höfle, Saal, 107, 1. OG, Pestalozzistr. 4, 71032 Böblingen
END:VEVENT
BEGIN:VEVENT
DTSTAMP:20260421T152724
DTSTART;TZID=Europe/Berlin:20261124T163000
DTEND;TZID=Europe/Berlin:20261124T171500
UID:W25930510K-20261124T163000@VHSBÖBLINGEN-SINDELFINGEN
SUMMARY:Ballett für Kinder Tänzerische Früherziehung (W25930510K) 
LOCATION:Höfle, Saal, 107, 1. OG, Pestalozzistr. 4, 71032 Böblingen
END:VEVENT
BEGIN:VEVENT
DTSTAMP:20260421T152724
DTSTART;TZID=Europe/Berlin:20261201T163000
DTEND;TZID=Europe/Berlin:20261201T171500
UID:W25930510K-20261201T163000@VHSBÖBLINGEN-SINDELFINGEN
SUMMARY:Ballett für Kinder Tänzerische Früherziehung (W25930510K) 
LOCATION:Höfle, Saal, 107, 1. OG, Pestalozzistr. 4, 71032 Böblingen
END:VEVENT
BEGIN:VEVENT
DTSTAMP:20260421T152724
DTSTART;TZID=Europe/Berlin:20261208T163000
DTEND;TZID=Europe/Berlin:20261208T171500
UID:W25930510K-20261208T163000@VHSBÖBLINGEN-SINDELFINGEN
SUMMARY:Ballett für Kinder Tänzerische Früherziehung (W25930510K) 
LOCATION:Höfle, Saal, 107, 1. OG, Pestalozzistr. 4, 71032 Böblingen
END:VEVENT
BEGIN:VEVENT
DTSTAMP:20260421T152724
DTSTART;TZID=Europe/Berlin:20261215T163000
DTEND;TZID=Europe/Berlin:20261215T171500
UID:W25930510K-20261215T163000@VHSBÖBLINGEN-SINDELFINGEN
SUMMARY:Ballett für Kinder Tänzerische Früherziehung (W25930510K) 
LOCATION:Höfle, Saal, 107, 1. OG, Pestalozzistr. 4, 71032 Böblingen
END:VEVENT
BEGIN:VEVENT
DTSTAMP:20260421T152724
DTSTART;TZID=Europe/Berlin:20261222T163000
DTEND;TZID=Europe/Berlin:20261222T171500
UID:W25930510K-20261222T163000@VHSBÖBLINGEN-SINDELFINGEN
SUMMARY:Ballett für Kinder Tänzerische Früherziehung (W25930510K) 
LOCATION:Höfle, Saal, 107, 1. OG, Pestalozzistr. 4, 71032 Böblingen
END:VEVENT
BEGIN:VEVENT
DTSTAMP:20260421T152724
DTSTART;TZID=Europe/Berlin:20270112T163000
DTEND;TZID=Europe/Berlin:20270112T171500
UID:W25930510K-20270112T163000@VHSBÖBLINGEN-SINDELFINGEN
SUMMARY:Ballett für Kinder Tänzerische Früherziehung (W25930510K) 
LOCATION:Höfle, Saal, 107, 1. OG, Pestalozzistr. 4, 71032 Böblingen
END:VEVENT
BEGIN:VEVENT
DTSTAMP:20260421T152724
DTSTART;TZID=Europe/Berlin:20270119T163000
DTEND;TZID=Europe/Berlin:20270119T171500
UID:W25930510K-20270119T163000@VHSBÖBLINGEN-SINDELFINGEN
SUMMARY:Ballett für Kinder Tänzerische Früherziehung (W25930510K) 
LOCATION:Höfle, Saal, 107, 1. OG, Pestalozzistr. 4, 71032 Böblingen
END:VEVENT
BEGIN:VEVENT
DTSTAMP:20260421T152724
DTSTART;TZID=Europe/Berlin:20270126T163000
DTEND;TZID=Europe/Berlin:20270126T171500
UID:W25930510K-20270126T163000@VHSBÖBLINGEN-SINDELFINGEN
SUMMARY:Ballett für Kinder Tänzerische Früherziehung (W25930510K) 
LOCATION:Höfle, Saal, 107, 1. OG, Pestalozzistr. 4, 71032 Böblingen
END:VEVENT
END:VCALENDAR