BEGIN:VCALENDAR
VERSION:2.0
PRODID:https://www.kufer.de/kuferweb / DE
METHOD:PUBLISH
CALSCALE:GREGORIAN
X-WR-TIMEZONE:Europe/Berlin
BEGIN:VTIMEZONE
TZID:Europe/Berlin
X-LIC-LOCATION:Europe/Berlin
BEGIN:DAYLIGHT
TZOFFSETFROM:+0100
TZOFFSETTO:+0200
TZNAME:CEST
DTSTART:19700329T020000
RRULE:FREQ=YEARLY;INTERVAL=1;BYDAY=-1SU;BYMONTH=3
END:DAYLIGHT
BEGIN:STANDARD
TZOFFSETFROM:+0200
TZOFFSETTO:+0100
TZNAME:CET
DTSTART:19701025T030000
RRULE:FREQ=YEARLY;INTERVAL=1;BYDAY=-1SU;BYMONTH=10
END:STANDARD
END:VTIMEZONE
BEGIN:VEVENT
DTSTAMP:20260421T100444
DTSTART;TZID=Europe/Berlin:20260929T154000
DTEND;TZID=Europe/Berlin:20260929T162500
UID:W25930010K-20260929T154000@VHSBÖBLINGEN-SINDELFINGEN
SUMMARY:Ballett für Kinder Tänzerische Früherziehung (W25930010K) 
LOCATION:Höfle, Saal, 107, 1. OG, Pestalozzistr. 4, 71032 Böblingen
END:VEVENT
BEGIN:VEVENT
DTSTAMP:20260421T100444
DTSTART;TZID=Europe/Berlin:20261006T154000
DTEND;TZID=Europe/Berlin:20261006T162500
UID:W25930010K-20261006T154000@VHSBÖBLINGEN-SINDELFINGEN
SUMMARY:Ballett für Kinder Tänzerische Früherziehung (W25930010K) 
LOCATION:Höfle, Saal, 107, 1. OG, Pestalozzistr. 4, 71032 Böblingen
END:VEVENT
BEGIN:VEVENT
DTSTAMP:20260421T100444
DTSTART;TZID=Europe/Berlin:20261013T154000
DTEND;TZID=Europe/Berlin:20261013T162500
UID:W25930010K-20261013T154000@VHSBÖBLINGEN-SINDELFINGEN
SUMMARY:Ballett für Kinder Tänzerische Früherziehung (W25930010K) 
LOCATION:Höfle, Saal, 107, 1. OG, Pestalozzistr. 4, 71032 Böblingen
END:VEVENT
BEGIN:VEVENT
DTSTAMP:20260421T100444
DTSTART;TZID=Europe/Berlin:20261020T154000
DTEND;TZID=Europe/Berlin:20261020T162500
UID:W25930010K-20261020T154000@VHSBÖBLINGEN-SINDELFINGEN
SUMMARY:Ballett für Kinder Tänzerische Früherziehung (W25930010K) 
LOCATION:Höfle, Saal, 107, 1. OG, Pestalozzistr. 4, 71032 Böblingen
END:VEVENT
BEGIN:VEVENT
DTSTAMP:20260421T100444
DTSTART;TZID=Europe/Berlin:20261103T154000
DTEND;TZID=Europe/Berlin:20261103T162500
UID:W25930010K-20261103T154000@VHSBÖBLINGEN-SINDELFINGEN
SUMMARY:Ballett für Kinder Tänzerische Früherziehung (W25930010K) 
LOCATION:Höfle, Saal, 107, 1. OG, Pestalozzistr. 4, 71032 Böblingen
END:VEVENT
BEGIN:VEVENT
DTSTAMP:20260421T100444
DTSTART;TZID=Europe/Berlin:20261110T154000
DTEND;TZID=Europe/Berlin:20261110T162500
UID:W25930010K-20261110T154000@VHSBÖBLINGEN-SINDELFINGEN
SUMMARY:Ballett für Kinder Tänzerische Früherziehung (W25930010K) 
LOCATION:Höfle, Saal, 107, 1. OG, Pestalozzistr. 4, 71032 Böblingen
END:VEVENT
BEGIN:VEVENT
DTSTAMP:20260421T100444
DTSTART;TZID=Europe/Berlin:20261117T154000
DTEND;TZID=Europe/Berlin:20261117T162500
UID:W25930010K-20261117T154000@VHSBÖBLINGEN-SINDELFINGEN
SUMMARY:Ballett für Kinder Tänzerische Früherziehung (W25930010K) 
LOCATION:Höfle, Saal, 107, 1. OG, Pestalozzistr. 4, 71032 Böblingen
END:VEVENT
BEGIN:VEVENT
DTSTAMP:20260421T100444
DTSTART;TZID=Europe/Berlin:20261124T154000
DTEND;TZID=Europe/Berlin:20261124T162500
UID:W25930010K-20261124T154000@VHSBÖBLINGEN-SINDELFINGEN
SUMMARY:Ballett für Kinder Tänzerische Früherziehung (W25930010K) 
LOCATION:Höfle, Saal, 107, 1. OG, Pestalozzistr. 4, 71032 Böblingen
END:VEVENT
BEGIN:VEVENT
DTSTAMP:20260421T100444
DTSTART;TZID=Europe/Berlin:20261201T154000
DTEND;TZID=Europe/Berlin:20261201T162500
UID:W25930010K-20261201T154000@VHSBÖBLINGEN-SINDELFINGEN
SUMMARY:Ballett für Kinder Tänzerische Früherziehung (W25930010K) 
LOCATION:Höfle, Saal, 107, 1. OG, Pestalozzistr. 4, 71032 Böblingen
END:VEVENT
BEGIN:VEVENT
DTSTAMP:20260421T100444
DTSTART;TZID=Europe/Berlin:20261208T154000
DTEND;TZID=Europe/Berlin:20261208T162500
UID:W25930010K-20261208T154000@VHSBÖBLINGEN-SINDELFINGEN
SUMMARY:Ballett für Kinder Tänzerische Früherziehung (W25930010K) 
LOCATION:Höfle, Saal, 107, 1. OG, Pestalozzistr. 4, 71032 Böblingen
END:VEVENT
BEGIN:VEVENT
DTSTAMP:20260421T100444
DTSTART;TZID=Europe/Berlin:20261215T154000
DTEND;TZID=Europe/Berlin:20261215T162500
UID:W25930010K-20261215T154000@VHSBÖBLINGEN-SINDELFINGEN
SUMMARY:Ballett für Kinder Tänzerische Früherziehung (W25930010K) 
LOCATION:Höfle, Saal, 107, 1. OG, Pestalozzistr. 4, 71032 Böblingen
END:VEVENT
BEGIN:VEVENT
DTSTAMP:20260421T100444
DTSTART;TZID=Europe/Berlin:20261222T154000
DTEND;TZID=Europe/Berlin:20261222T162500
UID:W25930010K-20261222T154000@VHSBÖBLINGEN-SINDELFINGEN
SUMMARY:Ballett für Kinder Tänzerische Früherziehung (W25930010K) 
LOCATION:Höfle, Saal, 107, 1. OG, Pestalozzistr. 4, 71032 Böblingen
END:VEVENT
BEGIN:VEVENT
DTSTAMP:20260421T100444
DTSTART;TZID=Europe/Berlin:20270112T154000
DTEND;TZID=Europe/Berlin:20270112T162500
UID:W25930010K-20270112T154000@VHSBÖBLINGEN-SINDELFINGEN
SUMMARY:Ballett für Kinder Tänzerische Früherziehung (W25930010K) 
LOCATION:Höfle, Saal, 107, 1. OG, Pestalozzistr. 4, 71032 Böblingen
END:VEVENT
BEGIN:VEVENT
DTSTAMP:20260421T100444
DTSTART;TZID=Europe/Berlin:20270119T154000
DTEND;TZID=Europe/Berlin:20270119T162500
UID:W25930010K-20270119T154000@VHSBÖBLINGEN-SINDELFINGEN
SUMMARY:Ballett für Kinder Tänzerische Früherziehung (W25930010K) 
LOCATION:Höfle, Saal, 107, 1. OG, Pestalozzistr. 4, 71032 Böblingen
END:VEVENT
BEGIN:VEVENT
DTSTAMP:20260421T100444
DTSTART;TZID=Europe/Berlin:20270126T154000
DTEND;TZID=Europe/Berlin:20270126T162500
UID:W25930010K-20270126T154000@VHSBÖBLINGEN-SINDELFINGEN
SUMMARY:Ballett für Kinder Tänzerische Früherziehung (W25930010K) 
LOCATION:Höfle, Saal, 107, 1. OG, Pestalozzistr. 4, 71032 Böblingen
END:VEVENT
END:VCALENDAR