BEGIN:VCALENDAR
VERSION:2.0
PRODID:https://www.kufer.de/kuferweb / DE
METHOD:PUBLISH
CALSCALE:GREGORIAN
X-WR-TIMEZONE:Europe/Berlin
BEGIN:VTIMEZONE
TZID:Europe/Berlin
X-LIC-LOCATION:Europe/Berlin
BEGIN:DAYLIGHT
TZOFFSETFROM:+0100
TZOFFSETTO:+0200
TZNAME:CEST
DTSTART:19700329T020000
RRULE:FREQ=YEARLY;INTERVAL=1;BYDAY=-1SU;BYMONTH=3
END:DAYLIGHT
BEGIN:STANDARD
TZOFFSETFROM:+0200
TZOFFSETTO:+0100
TZNAME:CET
DTSTART:19701025T030000
RRULE:FREQ=YEARLY;INTERVAL=1;BYDAY=-1SU;BYMONTH=10
END:STANDARD
END:VTIMEZONE
BEGIN:VEVENT
DTSTAMP:20260421T043225
DTSTART;TZID=Europe/Berlin:20260922T193000
DTEND;TZID=Europe/Berlin:20260922T203000
UID:W25430661-20260922T193000@VHSBÖBLINGEN-SINDELFINGEN
SUMMARY:Latin Dance Fitness (W25430661) 
LOCATION:WE, Halle Breitenstein, ___, Albert-Einstein-Str. 22, 71093 Weil im Schönbuch
END:VEVENT
BEGIN:VEVENT
DTSTAMP:20260421T043225
DTSTART;TZID=Europe/Berlin:20260929T193000
DTEND;TZID=Europe/Berlin:20260929T203000
UID:W25430661-20260929T193000@VHSBÖBLINGEN-SINDELFINGEN
SUMMARY:Latin Dance Fitness (W25430661) 
LOCATION:WE, Halle Breitenstein, ___, Albert-Einstein-Str. 22, 71093 Weil im Schönbuch
END:VEVENT
BEGIN:VEVENT
DTSTAMP:20260421T043225
DTSTART;TZID=Europe/Berlin:20261006T193000
DTEND;TZID=Europe/Berlin:20261006T203000
UID:W25430661-20261006T193000@VHSBÖBLINGEN-SINDELFINGEN
SUMMARY:Latin Dance Fitness (W25430661) 
LOCATION:WE, Halle Breitenstein, ___, Albert-Einstein-Str. 22, 71093 Weil im Schönbuch
END:VEVENT
BEGIN:VEVENT
DTSTAMP:20260421T043225
DTSTART;TZID=Europe/Berlin:20261020T193000
DTEND;TZID=Europe/Berlin:20261020T203000
UID:W25430661-20261020T193000@VHSBÖBLINGEN-SINDELFINGEN
SUMMARY:Latin Dance Fitness (W25430661) 
LOCATION:WE, Halle Breitenstein, ___, Albert-Einstein-Str. 22, 71093 Weil im Schönbuch
END:VEVENT
BEGIN:VEVENT
DTSTAMP:20260421T043225
DTSTART;TZID=Europe/Berlin:20261103T193000
DTEND;TZID=Europe/Berlin:20261103T203000
UID:W25430661-20261103T193000@VHSBÖBLINGEN-SINDELFINGEN
SUMMARY:Latin Dance Fitness (W25430661) 
LOCATION:WE, Halle Breitenstein, ___, Albert-Einstein-Str. 22, 71093 Weil im Schönbuch
END:VEVENT
BEGIN:VEVENT
DTSTAMP:20260421T043225
DTSTART;TZID=Europe/Berlin:20261110T193000
DTEND;TZID=Europe/Berlin:20261110T203000
UID:W25430661-20261110T193000@VHSBÖBLINGEN-SINDELFINGEN
SUMMARY:Latin Dance Fitness (W25430661) 
LOCATION:WE, Halle Breitenstein, ___, Albert-Einstein-Str. 22, 71093 Weil im Schönbuch
END:VEVENT
BEGIN:VEVENT
DTSTAMP:20260421T043225
DTSTART;TZID=Europe/Berlin:20261117T193000
DTEND;TZID=Europe/Berlin:20261117T203000
UID:W25430661-20261117T193000@VHSBÖBLINGEN-SINDELFINGEN
SUMMARY:Latin Dance Fitness (W25430661) 
LOCATION:WE, Halle Breitenstein, ___, Albert-Einstein-Str. 22, 71093 Weil im Schönbuch
END:VEVENT
BEGIN:VEVENT
DTSTAMP:20260421T043225
DTSTART;TZID=Europe/Berlin:20261124T193000
DTEND;TZID=Europe/Berlin:20261124T203000
UID:W25430661-20261124T193000@VHSBÖBLINGEN-SINDELFINGEN
SUMMARY:Latin Dance Fitness (W25430661) 
LOCATION:WE, Halle Breitenstein, ___, Albert-Einstein-Str. 22, 71093 Weil im Schönbuch
END:VEVENT
BEGIN:VEVENT
DTSTAMP:20260421T043225
DTSTART;TZID=Europe/Berlin:20261201T193000
DTEND;TZID=Europe/Berlin:20261201T203000
UID:W25430661-20261201T193000@VHSBÖBLINGEN-SINDELFINGEN
SUMMARY:Latin Dance Fitness (W25430661) 
LOCATION:WE, Halle Breitenstein, ___, Albert-Einstein-Str. 22, 71093 Weil im Schönbuch
END:VEVENT
BEGIN:VEVENT
DTSTAMP:20260421T043225
DTSTART;TZID=Europe/Berlin:20261208T193000
DTEND;TZID=Europe/Berlin:20261208T203000
UID:W25430661-20261208T193000@VHSBÖBLINGEN-SINDELFINGEN
SUMMARY:Latin Dance Fitness (W25430661) 
LOCATION:WE, Halle Breitenstein, ___, Albert-Einstein-Str. 22, 71093 Weil im Schönbuch
END:VEVENT
BEGIN:VEVENT
DTSTAMP:20260421T043225
DTSTART;TZID=Europe/Berlin:20261215T193000
DTEND;TZID=Europe/Berlin:20261215T203000
UID:W25430661-20261215T193000@VHSBÖBLINGEN-SINDELFINGEN
SUMMARY:Latin Dance Fitness (W25430661) 
LOCATION:WE, Halle Breitenstein, ___, Albert-Einstein-Str. 22, 71093 Weil im Schönbuch
END:VEVENT
BEGIN:VEVENT
DTSTAMP:20260421T043225
DTSTART;TZID=Europe/Berlin:20270112T193000
DTEND;TZID=Europe/Berlin:20270112T203000
UID:W25430661-20270112T193000@VHSBÖBLINGEN-SINDELFINGEN
SUMMARY:Latin Dance Fitness (W25430661) 
LOCATION:WE, Halle Breitenstein, ___, Albert-Einstein-Str. 22, 71093 Weil im Schönbuch
END:VEVENT
BEGIN:VEVENT
DTSTAMP:20260421T043225
DTSTART;TZID=Europe/Berlin:20270119T193000
DTEND;TZID=Europe/Berlin:20270119T203000
UID:W25430661-20270119T193000@VHSBÖBLINGEN-SINDELFINGEN
SUMMARY:Latin Dance Fitness (W25430661) 
LOCATION:WE, Halle Breitenstein, ___, Albert-Einstein-Str. 22, 71093 Weil im Schönbuch
END:VEVENT
BEGIN:VEVENT
DTSTAMP:20260421T043225
DTSTART;TZID=Europe/Berlin:20270126T193000
DTEND;TZID=Europe/Berlin:20270126T203000
UID:W25430661-20270126T193000@VHSBÖBLINGEN-SINDELFINGEN
SUMMARY:Latin Dance Fitness (W25430661) 
LOCATION:WE, Halle Breitenstein, ___, Albert-Einstein-Str. 22, 71093 Weil im Schönbuch
END:VEVENT
END:VCALENDAR