BEGIN:VCALENDAR
VERSION:2.0
PRODID:https://www.kufer.de/kuferweb / DE
METHOD:PUBLISH
CALSCALE:GREGORIAN
X-WR-TIMEZONE:Europe/Berlin
BEGIN:VTIMEZONE
TZID:Europe/Berlin
X-LIC-LOCATION:Europe/Berlin
BEGIN:DAYLIGHT
TZOFFSETFROM:+0100
TZOFFSETTO:+0200
TZNAME:CEST
DTSTART:19700329T020000
RRULE:FREQ=YEARLY;INTERVAL=1;BYDAY=-1SU;BYMONTH=3
END:DAYLIGHT
BEGIN:STANDARD
TZOFFSETFROM:+0200
TZOFFSETTO:+0100
TZNAME:CET
DTSTART:19701025T030000
RRULE:FREQ=YEARLY;INTERVAL=1;BYDAY=-1SU;BYMONTH=10
END:STANDARD
END:VTIMEZONE
BEGIN:VEVENT
DTSTAMP:20260421T023510
DTSTART;TZID=Europe/Berlin:20261106T190000
DTEND;TZID=Europe/Berlin:20261106T203000
UID:W20088010-20261106T190000@VHSBÖBLINGEN-SINDELFINGEN
SUMMARY:Literaturvortrag zu Sir Arthur Conan Doyle & seinem Sherlock Holmes  „Ich bin ein Gehirn, Watson. Der Rest von mir ist nur ein Anhängsel.“ (Die Reise mit dem Mazarin-Stein, 1921) (W20088010) 
LOCATION:vhs.Werk, Halle 1, Wurmbergstr. 5, 71063 Sindelfingen
END:VEVENT
END:VCALENDAR