BEGIN:VCALENDAR
VERSION:2.0
PRODID:https://www.kufer.de/kuferweb / DE
METHOD:PUBLISH
CALSCALE:GREGORIAN
X-WR-TIMEZONE:Europe/Berlin
BEGIN:VTIMEZONE
TZID:Europe/Berlin
X-LIC-LOCATION:Europe/Berlin
BEGIN:DAYLIGHT
TZOFFSETFROM:+0100
TZOFFSETTO:+0200
TZNAME:CEST
DTSTART:19700329T020000
RRULE:FREQ=YEARLY;INTERVAL=1;BYDAY=-1SU;BYMONTH=3
END:DAYLIGHT
BEGIN:STANDARD
TZOFFSETFROM:+0200
TZOFFSETTO:+0100
TZNAME:CET
DTSTART:19701025T030000
RRULE:FREQ=YEARLY;INTERVAL=1;BYDAY=-1SU;BYMONTH=10
END:STANDARD
END:VTIMEZONE
BEGIN:VEVENT
DTSTAMP:20260420T175447
DTSTART;TZID=Europe/Berlin:20260312T180000
DTEND;TZID=Europe/Berlin:20260312T193000
UID:V85141010-20260312T180000@VHSBÖBLINGEN-SINDELFINGEN
SUMMARY:Rhetoriktraining - Kommunikation, Stimme, Präsenz (V85141010) 
LOCATION:Online vhs, Zürich (Alfaview), Online vhs
END:VEVENT
BEGIN:VEVENT
DTSTAMP:20260420T175447
DTSTART;TZID=Europe/Berlin:20260319T180000
DTEND;TZID=Europe/Berlin:20260319T193000
UID:V85141010-20260319T180000@VHSBÖBLINGEN-SINDELFINGEN
SUMMARY:Rhetoriktraining - Kommunikation, Stimme, Präsenz (V85141010) 
LOCATION:Online vhs, Zürich (Alfaview), Online vhs
END:VEVENT
BEGIN:VEVENT
DTSTAMP:20260420T175447
DTSTART;TZID=Europe/Berlin:20260326T180000
DTEND;TZID=Europe/Berlin:20260326T193000
UID:V85141010-20260326T180000@VHSBÖBLINGEN-SINDELFINGEN
SUMMARY:Rhetoriktraining - Kommunikation, Stimme, Präsenz (V85141010) 
LOCATION:Online vhs, Zürich (Alfaview), Online vhs
END:VEVENT
END:VCALENDAR