BEGIN:VCALENDAR
VERSION:2.0
PRODID:https://www.kufer.de/kuferweb / DE
METHOD:PUBLISH
CALSCALE:GREGORIAN
X-WR-TIMEZONE:Europe/Berlin
BEGIN:VTIMEZONE
TZID:Europe/Berlin
X-LIC-LOCATION:Europe/Berlin
BEGIN:DAYLIGHT
TZOFFSETFROM:+0100
TZOFFSETTO:+0200
TZNAME:CEST
DTSTART:19700329T020000
RRULE:FREQ=YEARLY;INTERVAL=1;BYDAY=-1SU;BYMONTH=3
END:DAYLIGHT
BEGIN:STANDARD
TZOFFSETFROM:+0200
TZOFFSETTO:+0100
TZNAME:CET
DTSTART:19701025T030000
RRULE:FREQ=YEARLY;INTERVAL=1;BYDAY=-1SU;BYMONTH=10
END:STANDARD
END:VTIMEZONE
BEGIN:VEVENT
DTSTAMP:20260421T005123
DTSTART;TZID=Europe/Berlin:20260304T180000
DTEND;TZID=Europe/Berlin:20260304T191500
UID:V84560010-20260304T180000@VHSBÖBLINGEN-SINDELFINGEN
SUMMARY:Türkisch A1, Anfängerkurs ab Lektion 1 (V84560010) 
LOCATION:Online vhs, Monaco (Alfaview), Online vhs
END:VEVENT
BEGIN:VEVENT
DTSTAMP:20260421T005123
DTSTART;TZID=Europe/Berlin:20260311T180000
DTEND;TZID=Europe/Berlin:20260311T191500
UID:V84560010-20260311T180000@VHSBÖBLINGEN-SINDELFINGEN
SUMMARY:Türkisch A1, Anfängerkurs ab Lektion 1 (V84560010) 
LOCATION:Online vhs, Monaco (Alfaview), Online vhs
END:VEVENT
BEGIN:VEVENT
DTSTAMP:20260421T005123
DTSTART;TZID=Europe/Berlin:20260318T180000
DTEND;TZID=Europe/Berlin:20260318T191500
UID:V84560010-20260318T180000@VHSBÖBLINGEN-SINDELFINGEN
SUMMARY:Türkisch A1, Anfängerkurs ab Lektion 1 (V84560010) 
LOCATION:Online vhs, Monaco (Alfaview), Online vhs
END:VEVENT
BEGIN:VEVENT
DTSTAMP:20260421T005123
DTSTART;TZID=Europe/Berlin:20260325T180000
DTEND;TZID=Europe/Berlin:20260325T191500
UID:V84560010-20260325T180000@VHSBÖBLINGEN-SINDELFINGEN
SUMMARY:Türkisch A1, Anfängerkurs ab Lektion 1 (V84560010) 
LOCATION:Online vhs, Monaco (Alfaview), Online vhs
END:VEVENT
BEGIN:VEVENT
DTSTAMP:20260421T005123
DTSTART;TZID=Europe/Berlin:20260415T180000
DTEND;TZID=Europe/Berlin:20260415T191500
UID:V84560010-20260415T180000@VHSBÖBLINGEN-SINDELFINGEN
SUMMARY:Türkisch A1, Anfängerkurs ab Lektion 1 (V84560010) 
LOCATION:Online vhs, Monaco (Alfaview), Online vhs
END:VEVENT
BEGIN:VEVENT
DTSTAMP:20260421T005123
DTSTART;TZID=Europe/Berlin:20260422T180000
DTEND;TZID=Europe/Berlin:20260422T191500
UID:V84560010-20260422T180000@VHSBÖBLINGEN-SINDELFINGEN
SUMMARY:Türkisch A1, Anfängerkurs ab Lektion 1 (V84560010) 
LOCATION:Online vhs, Monaco (Alfaview), Online vhs
END:VEVENT
BEGIN:VEVENT
DTSTAMP:20260421T005123
DTSTART;TZID=Europe/Berlin:20260429T180000
DTEND;TZID=Europe/Berlin:20260429T191500
UID:V84560010-20260429T180000@VHSBÖBLINGEN-SINDELFINGEN
SUMMARY:Türkisch A1, Anfängerkurs ab Lektion 1 (V84560010) 
LOCATION:Online vhs, Monaco (Alfaview), Online vhs
END:VEVENT
BEGIN:VEVENT
DTSTAMP:20260421T005123
DTSTART;TZID=Europe/Berlin:20260506T180000
DTEND;TZID=Europe/Berlin:20260506T191500
UID:V84560010-20260506T180000@VHSBÖBLINGEN-SINDELFINGEN
SUMMARY:Türkisch A1, Anfängerkurs ab Lektion 1 (V84560010) 
LOCATION:Online vhs, Monaco (Alfaview), Online vhs
END:VEVENT
END:VCALENDAR