BEGIN:VCALENDAR
VERSION:2.0
PRODID:https://www.kufer.de/kuferweb / DE
METHOD:PUBLISH
CALSCALE:GREGORIAN
X-WR-TIMEZONE:Europe/Berlin
BEGIN:VTIMEZONE
TZID:Europe/Berlin
X-LIC-LOCATION:Europe/Berlin
BEGIN:DAYLIGHT
TZOFFSETFROM:+0100
TZOFFSETTO:+0200
TZNAME:CEST
DTSTART:19700329T020000
RRULE:FREQ=YEARLY;INTERVAL=1;BYDAY=-1SU;BYMONTH=3
END:DAYLIGHT
BEGIN:STANDARD
TZOFFSETFROM:+0200
TZOFFSETTO:+0100
TZNAME:CET
DTSTART:19701025T030000
RRULE:FREQ=YEARLY;INTERVAL=1;BYDAY=-1SU;BYMONTH=10
END:STANDARD
END:VTIMEZONE
BEGIN:VEVENT
DTSTAMP:20260421T081843
DTSTART;TZID=Europe/Berlin:20260508T120000
DTEND;TZID=Europe/Berlin:20260508T131500
UID:V84552110-20260508T120000@VHSBÖBLINGEN-SINDELFINGEN
SUMMARY:Schwedisch A1, mit geringen Vorkenntnissen in der Mittagspause - ab Lektion 3 (V84552110) 
LOCATION:Online vhs, Rotterdam (Alfaview), Online vhs
END:VEVENT
BEGIN:VEVENT
DTSTAMP:20260421T081843
DTSTART;TZID=Europe/Berlin:20260522T120000
DTEND;TZID=Europe/Berlin:20260522T131500
UID:V84552110-20260522T120000@VHSBÖBLINGEN-SINDELFINGEN
SUMMARY:Schwedisch A1, mit geringen Vorkenntnissen in der Mittagspause - ab Lektion 3 (V84552110) 
LOCATION:Online vhs, Rotterdam (Alfaview), Online vhs
END:VEVENT
BEGIN:VEVENT
DTSTAMP:20260421T081843
DTSTART;TZID=Europe/Berlin:20260612T120000
DTEND;TZID=Europe/Berlin:20260612T131500
UID:V84552110-20260612T120000@VHSBÖBLINGEN-SINDELFINGEN
SUMMARY:Schwedisch A1, mit geringen Vorkenntnissen in der Mittagspause - ab Lektion 3 (V84552110) 
LOCATION:Online vhs, Rotterdam (Alfaview), Online vhs
END:VEVENT
BEGIN:VEVENT
DTSTAMP:20260421T081843
DTSTART;TZID=Europe/Berlin:20260619T120000
DTEND;TZID=Europe/Berlin:20260619T131500
UID:V84552110-20260619T120000@VHSBÖBLINGEN-SINDELFINGEN
SUMMARY:Schwedisch A1, mit geringen Vorkenntnissen in der Mittagspause - ab Lektion 3 (V84552110) 
LOCATION:Online vhs, Rotterdam (Alfaview), Online vhs
END:VEVENT
BEGIN:VEVENT
DTSTAMP:20260421T081843
DTSTART;TZID=Europe/Berlin:20260626T120000
DTEND;TZID=Europe/Berlin:20260626T131500
UID:V84552110-20260626T120000@VHSBÖBLINGEN-SINDELFINGEN
SUMMARY:Schwedisch A1, mit geringen Vorkenntnissen in der Mittagspause - ab Lektion 3 (V84552110) 
LOCATION:Online vhs, Rotterdam (Alfaview), Online vhs
END:VEVENT
BEGIN:VEVENT
DTSTAMP:20260421T081843
DTSTART;TZID=Europe/Berlin:20260703T120000
DTEND;TZID=Europe/Berlin:20260703T131500
UID:V84552110-20260703T120000@VHSBÖBLINGEN-SINDELFINGEN
SUMMARY:Schwedisch A1, mit geringen Vorkenntnissen in der Mittagspause - ab Lektion 3 (V84552110) 
LOCATION:Online vhs, Rotterdam (Alfaview), Online vhs
END:VEVENT
BEGIN:VEVENT
DTSTAMP:20260421T081843
DTSTART;TZID=Europe/Berlin:20260710T120000
DTEND;TZID=Europe/Berlin:20260710T131500
UID:V84552110-20260710T120000@VHSBÖBLINGEN-SINDELFINGEN
SUMMARY:Schwedisch A1, mit geringen Vorkenntnissen in der Mittagspause - ab Lektion 3 (V84552110) 
LOCATION:Online vhs, Rotterdam (Alfaview), Online vhs
END:VEVENT
BEGIN:VEVENT
DTSTAMP:20260421T081843
DTSTART;TZID=Europe/Berlin:20260717T120000
DTEND;TZID=Europe/Berlin:20260717T131500
UID:V84552110-20260717T120000@VHSBÖBLINGEN-SINDELFINGEN
SUMMARY:Schwedisch A1, mit geringen Vorkenntnissen in der Mittagspause - ab Lektion 3 (V84552110) 
LOCATION:Online vhs, Rotterdam (Alfaview), Online vhs
END:VEVENT
BEGIN:VEVENT
DTSTAMP:20260421T081843
DTSTART;TZID=Europe/Berlin:20260724T120000
DTEND;TZID=Europe/Berlin:20260724T131500
UID:V84552110-20260724T120000@VHSBÖBLINGEN-SINDELFINGEN
SUMMARY:Schwedisch A1, mit geringen Vorkenntnissen in der Mittagspause - ab Lektion 3 (V84552110) 
LOCATION:Online vhs, Rotterdam (Alfaview), Online vhs
END:VEVENT
END:VCALENDAR