BEGIN:VCALENDAR
VERSION:2.0
PRODID:https://www.kufer.de/kuferweb / DE
METHOD:PUBLISH
CALSCALE:GREGORIAN
X-WR-TIMEZONE:Europe/Berlin
BEGIN:VTIMEZONE
TZID:Europe/Berlin
X-LIC-LOCATION:Europe/Berlin
BEGIN:DAYLIGHT
TZOFFSETFROM:+0100
TZOFFSETTO:+0200
TZNAME:CEST
DTSTART:19700329T020000
RRULE:FREQ=YEARLY;INTERVAL=1;BYDAY=-1SU;BYMONTH=3
END:DAYLIGHT
BEGIN:STANDARD
TZOFFSETFROM:+0200
TZOFFSETTO:+0100
TZNAME:CET
DTSTART:19701025T030000
RRULE:FREQ=YEARLY;INTERVAL=1;BYDAY=-1SU;BYMONTH=10
END:STANDARD
END:VTIMEZONE
BEGIN:VEVENT
DTSTAMP:20260421T182522
DTSTART;TZID=Europe/Berlin:20260306T120000
DTEND;TZID=Europe/Berlin:20260306T131500
UID:V84552010-20260306T120000@VHSBÖBLINGEN-SINDELFINGEN
SUMMARY:Schwedisch A1, Anfängerkurs in der Mittagspause - ab Lektion 1 (V84552010) 
LOCATION:Online vhs, Rotterdam (Alfaview), Online vhs
END:VEVENT
BEGIN:VEVENT
DTSTAMP:20260421T182522
DTSTART;TZID=Europe/Berlin:20260313T120000
DTEND;TZID=Europe/Berlin:20260313T131500
UID:V84552010-20260313T120000@VHSBÖBLINGEN-SINDELFINGEN
SUMMARY:Schwedisch A1, Anfängerkurs in der Mittagspause - ab Lektion 1 (V84552010) 
LOCATION:Online vhs, Rotterdam (Alfaview), Online vhs
END:VEVENT
BEGIN:VEVENT
DTSTAMP:20260421T182522
DTSTART;TZID=Europe/Berlin:20260320T120000
DTEND;TZID=Europe/Berlin:20260320T131500
UID:V84552010-20260320T120000@VHSBÖBLINGEN-SINDELFINGEN
SUMMARY:Schwedisch A1, Anfängerkurs in der Mittagspause - ab Lektion 1 (V84552010) 
LOCATION:Online vhs, Rotterdam (Alfaview), Online vhs
END:VEVENT
BEGIN:VEVENT
DTSTAMP:20260421T182522
DTSTART;TZID=Europe/Berlin:20260327T120000
DTEND;TZID=Europe/Berlin:20260327T131500
UID:V84552010-20260327T120000@VHSBÖBLINGEN-SINDELFINGEN
SUMMARY:Schwedisch A1, Anfängerkurs in der Mittagspause - ab Lektion 1 (V84552010) 
LOCATION:Online vhs, Rotterdam (Alfaview), Online vhs
END:VEVENT
BEGIN:VEVENT
DTSTAMP:20260421T182522
DTSTART;TZID=Europe/Berlin:20260417T120000
DTEND;TZID=Europe/Berlin:20260417T131500
UID:V84552010-20260417T120000@VHSBÖBLINGEN-SINDELFINGEN
SUMMARY:Schwedisch A1, Anfängerkurs in der Mittagspause - ab Lektion 1 (V84552010) 
LOCATION:Online vhs, Rotterdam (Alfaview), Online vhs
END:VEVENT
BEGIN:VEVENT
DTSTAMP:20260421T182522
DTSTART;TZID=Europe/Berlin:20260424T120000
DTEND;TZID=Europe/Berlin:20260424T131500
UID:V84552010-20260424T120000@VHSBÖBLINGEN-SINDELFINGEN
SUMMARY:Schwedisch A1, Anfängerkurs in der Mittagspause - ab Lektion 1 (V84552010) 
LOCATION:Online vhs, Rotterdam (Alfaview), Online vhs
END:VEVENT
END:VCALENDAR