BEGIN:VCALENDAR
VERSION:2.0
PRODID:https://www.kufer.de/kuferweb / DE
METHOD:PUBLISH
CALSCALE:GREGORIAN
X-WR-TIMEZONE:Europe/Berlin
BEGIN:VTIMEZONE
TZID:Europe/Berlin
X-LIC-LOCATION:Europe/Berlin
BEGIN:DAYLIGHT
TZOFFSETFROM:+0100
TZOFFSETTO:+0200
TZNAME:CEST
DTSTART:19700329T020000
RRULE:FREQ=YEARLY;INTERVAL=1;BYDAY=-1SU;BYMONTH=3
END:DAYLIGHT
BEGIN:STANDARD
TZOFFSETFROM:+0200
TZOFFSETTO:+0100
TZNAME:CET
DTSTART:19701025T030000
RRULE:FREQ=YEARLY;INTERVAL=1;BYDAY=-1SU;BYMONTH=10
END:STANDARD
END:VTIMEZONE
BEGIN:VEVENT
DTSTAMP:20260421T152909
DTSTART;TZID=Europe/Berlin:20260223T190000
DTEND;TZID=Europe/Berlin:20260223T194500
UID:V84532510-20260223T190000@VHSBÖBLINGEN-SINDELFINGEN
SUMMARY:Kroatisch A2/B1 ab Lektion 4 (V84532510) 
LOCATION:Online vhs, Lissabon (Alfaview), Online vhs
END:VEVENT
BEGIN:VEVENT
DTSTAMP:20260421T152909
DTSTART;TZID=Europe/Berlin:20260302T190000
DTEND;TZID=Europe/Berlin:20260302T194500
UID:V84532510-20260302T190000@VHSBÖBLINGEN-SINDELFINGEN
SUMMARY:Kroatisch A2/B1 ab Lektion 4 (V84532510) 
LOCATION:Online vhs, Lissabon (Alfaview), Online vhs
END:VEVENT
BEGIN:VEVENT
DTSTAMP:20260421T152909
DTSTART;TZID=Europe/Berlin:20260309T190000
DTEND;TZID=Europe/Berlin:20260309T194500
UID:V84532510-20260309T190000@VHSBÖBLINGEN-SINDELFINGEN
SUMMARY:Kroatisch A2/B1 ab Lektion 4 (V84532510) 
LOCATION:Online vhs, Lissabon (Alfaview), Online vhs
END:VEVENT
BEGIN:VEVENT
DTSTAMP:20260421T152909
DTSTART;TZID=Europe/Berlin:20260316T190000
DTEND;TZID=Europe/Berlin:20260316T194500
UID:V84532510-20260316T190000@VHSBÖBLINGEN-SINDELFINGEN
SUMMARY:Kroatisch A2/B1 ab Lektion 4 (V84532510) 
LOCATION:Online vhs, Lissabon (Alfaview), Online vhs
END:VEVENT
BEGIN:VEVENT
DTSTAMP:20260421T152909
DTSTART;TZID=Europe/Berlin:20260323T190000
DTEND;TZID=Europe/Berlin:20260323T194500
UID:V84532510-20260323T190000@VHSBÖBLINGEN-SINDELFINGEN
SUMMARY:Kroatisch A2/B1 ab Lektion 4 (V84532510) 
LOCATION:Online vhs, Lissabon (Alfaview), Online vhs
END:VEVENT
BEGIN:VEVENT
DTSTAMP:20260421T152909
DTSTART;TZID=Europe/Berlin:20260413T190000
DTEND;TZID=Europe/Berlin:20260413T194500
UID:V84532510-20260413T190000@VHSBÖBLINGEN-SINDELFINGEN
SUMMARY:Kroatisch A2/B1 ab Lektion 4 (V84532510) 
LOCATION:Online vhs, Lissabon (Alfaview), Online vhs
END:VEVENT
BEGIN:VEVENT
DTSTAMP:20260421T152909
DTSTART;TZID=Europe/Berlin:20260420T190000
DTEND;TZID=Europe/Berlin:20260420T194500
UID:V84532510-20260420T190000@VHSBÖBLINGEN-SINDELFINGEN
SUMMARY:Kroatisch A2/B1 ab Lektion 4 (V84532510) 
LOCATION:Online vhs, Lissabon (Alfaview), Online vhs
END:VEVENT
BEGIN:VEVENT
DTSTAMP:20260421T152909
DTSTART;TZID=Europe/Berlin:20260427T190000
DTEND;TZID=Europe/Berlin:20260427T194500
UID:V84532510-20260427T190000@VHSBÖBLINGEN-SINDELFINGEN
SUMMARY:Kroatisch A2/B1 ab Lektion 4 (V84532510) 
LOCATION:Online vhs, Lissabon (Alfaview), Online vhs
END:VEVENT
BEGIN:VEVENT
DTSTAMP:20260421T152909
DTSTART;TZID=Europe/Berlin:20260504T190000
DTEND;TZID=Europe/Berlin:20260504T194500
UID:V84532510-20260504T190000@VHSBÖBLINGEN-SINDELFINGEN
SUMMARY:Kroatisch A2/B1 ab Lektion 4 (V84532510) 
LOCATION:Online vhs, Lissabon (Alfaview), Online vhs
END:VEVENT
BEGIN:VEVENT
DTSTAMP:20260421T152909
DTSTART;TZID=Europe/Berlin:20260511T190000
DTEND;TZID=Europe/Berlin:20260511T194500
UID:V84532510-20260511T190000@VHSBÖBLINGEN-SINDELFINGEN
SUMMARY:Kroatisch A2/B1 ab Lektion 4 (V84532510) 
LOCATION:Online vhs, Lissabon (Alfaview), Online vhs
END:VEVENT
BEGIN:VEVENT
DTSTAMP:20260421T152909
DTSTART;TZID=Europe/Berlin:20260608T190000
DTEND;TZID=Europe/Berlin:20260608T194500
UID:V84532510-20260608T190000@VHSBÖBLINGEN-SINDELFINGEN
SUMMARY:Kroatisch A2/B1 ab Lektion 4 (V84532510) 
LOCATION:Online vhs, Lissabon (Alfaview), Online vhs
END:VEVENT
BEGIN:VEVENT
DTSTAMP:20260421T152909
DTSTART;TZID=Europe/Berlin:20260615T190000
DTEND;TZID=Europe/Berlin:20260615T194500
UID:V84532510-20260615T190000@VHSBÖBLINGEN-SINDELFINGEN
SUMMARY:Kroatisch A2/B1 ab Lektion 4 (V84532510) 
LOCATION:Online vhs, Lissabon (Alfaview), Online vhs
END:VEVENT
BEGIN:VEVENT
DTSTAMP:20260421T152909
DTSTART;TZID=Europe/Berlin:20260622T190000
DTEND;TZID=Europe/Berlin:20260622T194500
UID:V84532510-20260622T190000@VHSBÖBLINGEN-SINDELFINGEN
SUMMARY:Kroatisch A2/B1 ab Lektion 4 (V84532510) 
LOCATION:Online vhs, Lissabon (Alfaview), Online vhs
END:VEVENT
BEGIN:VEVENT
DTSTAMP:20260421T152909
DTSTART;TZID=Europe/Berlin:20260629T190000
DTEND;TZID=Europe/Berlin:20260629T194500
UID:V84532510-20260629T190000@VHSBÖBLINGEN-SINDELFINGEN
SUMMARY:Kroatisch A2/B1 ab Lektion 4 (V84532510) 
LOCATION:Online vhs, Lissabon (Alfaview), Online vhs
END:VEVENT
END:VCALENDAR