BEGIN:VCALENDAR
VERSION:2.0
PRODID:https://www.kufer.de/kuferweb / DE
METHOD:PUBLISH
CALSCALE:GREGORIAN
X-WR-TIMEZONE:Europe/Berlin
BEGIN:VTIMEZONE
TZID:Europe/Berlin
X-LIC-LOCATION:Europe/Berlin
BEGIN:DAYLIGHT
TZOFFSETFROM:+0100
TZOFFSETTO:+0200
TZNAME:CEST
DTSTART:19700329T020000
RRULE:FREQ=YEARLY;INTERVAL=1;BYDAY=-1SU;BYMONTH=3
END:DAYLIGHT
BEGIN:STANDARD
TZOFFSETFROM:+0200
TZOFFSETTO:+0100
TZNAME:CET
DTSTART:19701025T030000
RRULE:FREQ=YEARLY;INTERVAL=1;BYDAY=-1SU;BYMONTH=10
END:STANDARD
END:VTIMEZONE
BEGIN:VEVENT
DTSTAMP:20260421T035257
DTSTART;TZID=Europe/Berlin:20260331T180000
DTEND;TZID=Europe/Berlin:20260331T191500
UID:V84525010-20260331T180000@VHSBÖBLINGEN-SINDELFINGEN
SUMMARY:Japanisch A2 ab Lektion 7/8 (V84525010) 
LOCATION:Online vhs, Florenz (Alfaview), Online vhs
END:VEVENT
BEGIN:VEVENT
DTSTAMP:20260421T035257
DTSTART;TZID=Europe/Berlin:20260407T180000
DTEND;TZID=Europe/Berlin:20260407T191500
UID:V84525010-20260407T180000@VHSBÖBLINGEN-SINDELFINGEN
SUMMARY:Japanisch A2 ab Lektion 7/8 (V84525010) 
LOCATION:Online vhs, Florenz (Alfaview), Online vhs
END:VEVENT
BEGIN:VEVENT
DTSTAMP:20260421T035257
DTSTART;TZID=Europe/Berlin:20260421T180000
DTEND;TZID=Europe/Berlin:20260421T191500
UID:V84525010-20260421T180000@VHSBÖBLINGEN-SINDELFINGEN
SUMMARY:Japanisch A2 ab Lektion 7/8 (V84525010) 
LOCATION:Online vhs, Florenz (Alfaview), Online vhs
END:VEVENT
BEGIN:VEVENT
DTSTAMP:20260421T035257
DTSTART;TZID=Europe/Berlin:20260428T180000
DTEND;TZID=Europe/Berlin:20260428T191500
UID:V84525010-20260428T180000@VHSBÖBLINGEN-SINDELFINGEN
SUMMARY:Japanisch A2 ab Lektion 7/8 (V84525010) 
LOCATION:Online vhs, Florenz (Alfaview), Online vhs
END:VEVENT
BEGIN:VEVENT
DTSTAMP:20260421T035257
DTSTART;TZID=Europe/Berlin:20260526T180000
DTEND;TZID=Europe/Berlin:20260526T191500
UID:V84525010-20260526T180000@VHSBÖBLINGEN-SINDELFINGEN
SUMMARY:Japanisch A2 ab Lektion 7/8 (V84525010) 
LOCATION:Online vhs, Florenz (Alfaview), Online vhs
END:VEVENT
BEGIN:VEVENT
DTSTAMP:20260421T035257
DTSTART;TZID=Europe/Berlin:20260602T180000
DTEND;TZID=Europe/Berlin:20260602T191500
UID:V84525010-20260602T180000@VHSBÖBLINGEN-SINDELFINGEN
SUMMARY:Japanisch A2 ab Lektion 7/8 (V84525010) 
LOCATION:Online vhs, Florenz (Alfaview), Online vhs
END:VEVENT
END:VCALENDAR