BEGIN:VCALENDAR
VERSION:2.0
PRODID:https://www.kufer.de/kuferweb / DE
METHOD:PUBLISH
CALSCALE:GREGORIAN
X-WR-TIMEZONE:Europe/Berlin
BEGIN:VTIMEZONE
TZID:Europe/Berlin
X-LIC-LOCATION:Europe/Berlin
BEGIN:DAYLIGHT
TZOFFSETFROM:+0100
TZOFFSETTO:+0200
TZNAME:CEST
DTSTART:19700329T020000
RRULE:FREQ=YEARLY;INTERVAL=1;BYDAY=-1SU;BYMONTH=3
END:DAYLIGHT
BEGIN:STANDARD
TZOFFSETFROM:+0200
TZOFFSETTO:+0100
TZNAME:CET
DTSTART:19701025T030000
RRULE:FREQ=YEARLY;INTERVAL=1;BYDAY=-1SU;BYMONTH=10
END:STANDARD
END:VTIMEZONE
BEGIN:VEVENT
DTSTAMP:20260421T042053
DTSTART;TZID=Europe/Berlin:20260415T090000
DTEND;TZID=Europe/Berlin:20260415T094500
UID:V84432110-20260415T090000@VHSBÖBLINGEN-SINDELFINGEN
SUMMARY:Spanisch B1, Conversación (V84432110) 
LOCATION:Online vhs, Barcelona (Alfaview), Online vhs
END:VEVENT
BEGIN:VEVENT
DTSTAMP:20260421T042053
DTSTART;TZID=Europe/Berlin:20260422T090000
DTEND;TZID=Europe/Berlin:20260422T094500
UID:V84432110-20260422T090000@VHSBÖBLINGEN-SINDELFINGEN
SUMMARY:Spanisch B1, Conversación (V84432110) 
LOCATION:Online vhs, Barcelona (Alfaview), Online vhs
END:VEVENT
BEGIN:VEVENT
DTSTAMP:20260421T042053
DTSTART;TZID=Europe/Berlin:20260429T090000
DTEND;TZID=Europe/Berlin:20260429T094500
UID:V84432110-20260429T090000@VHSBÖBLINGEN-SINDELFINGEN
SUMMARY:Spanisch B1, Conversación (V84432110) 
LOCATION:Online vhs, Barcelona (Alfaview), Online vhs
END:VEVENT
BEGIN:VEVENT
DTSTAMP:20260421T042053
DTSTART;TZID=Europe/Berlin:20260506T090000
DTEND;TZID=Europe/Berlin:20260506T094500
UID:V84432110-20260506T090000@VHSBÖBLINGEN-SINDELFINGEN
SUMMARY:Spanisch B1, Conversación (V84432110) 
LOCATION:Online vhs, Barcelona (Alfaview), Online vhs
END:VEVENT
BEGIN:VEVENT
DTSTAMP:20260421T042053
DTSTART;TZID=Europe/Berlin:20260513T090000
DTEND;TZID=Europe/Berlin:20260513T094500
UID:V84432110-20260513T090000@VHSBÖBLINGEN-SINDELFINGEN
SUMMARY:Spanisch B1, Conversación (V84432110) 
LOCATION:Online vhs, Barcelona (Alfaview), Online vhs
END:VEVENT
BEGIN:VEVENT
DTSTAMP:20260421T042053
DTSTART;TZID=Europe/Berlin:20260520T090000
DTEND;TZID=Europe/Berlin:20260520T094500
UID:V84432110-20260520T090000@VHSBÖBLINGEN-SINDELFINGEN
SUMMARY:Spanisch B1, Conversación (V84432110) 
LOCATION:Online vhs, Barcelona (Alfaview), Online vhs
END:VEVENT
END:VCALENDAR