BEGIN:VCALENDAR
VERSION:2.0
PRODID:https://www.kufer.de/kuferweb / DE
METHOD:PUBLISH
CALSCALE:GREGORIAN
X-WR-TIMEZONE:Europe/Berlin
BEGIN:VTIMEZONE
TZID:Europe/Berlin
X-LIC-LOCATION:Europe/Berlin
BEGIN:DAYLIGHT
TZOFFSETFROM:+0100
TZOFFSETTO:+0200
TZNAME:CEST
DTSTART:19700329T020000
RRULE:FREQ=YEARLY;INTERVAL=1;BYDAY=-1SU;BYMONTH=3
END:DAYLIGHT
BEGIN:STANDARD
TZOFFSETFROM:+0200
TZOFFSETTO:+0100
TZNAME:CET
DTSTART:19701025T030000
RRULE:FREQ=YEARLY;INTERVAL=1;BYDAY=-1SU;BYMONTH=10
END:STANDARD
END:VTIMEZONE
BEGIN:VEVENT
DTSTAMP:20260420T145313
DTSTART;TZID=Europe/Berlin:20260414T200000
DTEND;TZID=Europe/Berlin:20260414T204500
UID:V84421210-20260414T200000@VHSBÖBLINGEN-SINDELFINGEN
SUMMARY:Spanisch A2 ab Mitte Lektion 2 (V84421210) 
LOCATION:Online vhs, Palma (Alfaview), Online vhs
END:VEVENT
BEGIN:VEVENT
DTSTAMP:20260420T145313
DTSTART;TZID=Europe/Berlin:20260421T200000
DTEND;TZID=Europe/Berlin:20260421T204500
UID:V84421210-20260421T200000@VHSBÖBLINGEN-SINDELFINGEN
SUMMARY:Spanisch A2 ab Mitte Lektion 2 (V84421210) 
LOCATION:Online vhs, Palma (Alfaview), Online vhs
END:VEVENT
BEGIN:VEVENT
DTSTAMP:20260420T145313
DTSTART;TZID=Europe/Berlin:20260428T200000
DTEND;TZID=Europe/Berlin:20260428T204500
UID:V84421210-20260428T200000@VHSBÖBLINGEN-SINDELFINGEN
SUMMARY:Spanisch A2 ab Mitte Lektion 2 (V84421210) 
LOCATION:Online vhs, Palma (Alfaview), Online vhs
END:VEVENT
BEGIN:VEVENT
DTSTAMP:20260420T145313
DTSTART;TZID=Europe/Berlin:20260505T200000
DTEND;TZID=Europe/Berlin:20260505T204500
UID:V84421210-20260505T200000@VHSBÖBLINGEN-SINDELFINGEN
SUMMARY:Spanisch A2 ab Mitte Lektion 2 (V84421210) 
LOCATION:Online vhs, Palma (Alfaview), Online vhs
END:VEVENT
BEGIN:VEVENT
DTSTAMP:20260420T145313
DTSTART;TZID=Europe/Berlin:20260512T200000
DTEND;TZID=Europe/Berlin:20260512T204500
UID:V84421210-20260512T200000@VHSBÖBLINGEN-SINDELFINGEN
SUMMARY:Spanisch A2 ab Mitte Lektion 2 (V84421210) 
LOCATION:Online vhs, Palma (Alfaview), Online vhs
END:VEVENT
BEGIN:VEVENT
DTSTAMP:20260420T145313
DTSTART;TZID=Europe/Berlin:20260519T200000
DTEND;TZID=Europe/Berlin:20260519T204500
UID:V84421210-20260519T200000@VHSBÖBLINGEN-SINDELFINGEN
SUMMARY:Spanisch A2 ab Mitte Lektion 2 (V84421210) 
LOCATION:Online vhs, Palma (Alfaview), Online vhs
END:VEVENT
BEGIN:VEVENT
DTSTAMP:20260420T145313
DTSTART;TZID=Europe/Berlin:20260609T200000
DTEND;TZID=Europe/Berlin:20260609T204500
UID:V84421210-20260609T200000@VHSBÖBLINGEN-SINDELFINGEN
SUMMARY:Spanisch A2 ab Mitte Lektion 2 (V84421210) 
LOCATION:Online vhs, Palma (Alfaview), Online vhs
END:VEVENT
BEGIN:VEVENT
DTSTAMP:20260420T145313
DTSTART;TZID=Europe/Berlin:20260616T200000
DTEND;TZID=Europe/Berlin:20260616T204500
UID:V84421210-20260616T200000@VHSBÖBLINGEN-SINDELFINGEN
SUMMARY:Spanisch A2 ab Mitte Lektion 2 (V84421210) 
LOCATION:Online vhs, Palma (Alfaview), Online vhs
END:VEVENT
BEGIN:VEVENT
DTSTAMP:20260420T145313
DTSTART;TZID=Europe/Berlin:20260623T200000
DTEND;TZID=Europe/Berlin:20260623T204500
UID:V84421210-20260623T200000@VHSBÖBLINGEN-SINDELFINGEN
SUMMARY:Spanisch A2 ab Mitte Lektion 2 (V84421210) 
LOCATION:Online vhs, Palma (Alfaview), Online vhs
END:VEVENT
BEGIN:VEVENT
DTSTAMP:20260420T145313
DTSTART;TZID=Europe/Berlin:20260630T200000
DTEND;TZID=Europe/Berlin:20260630T204500
UID:V84421210-20260630T200000@VHSBÖBLINGEN-SINDELFINGEN
SUMMARY:Spanisch A2 ab Mitte Lektion 2 (V84421210) 
LOCATION:Online vhs, Palma (Alfaview), Online vhs
END:VEVENT
BEGIN:VEVENT
DTSTAMP:20260420T145313
DTSTART;TZID=Europe/Berlin:20260707T200000
DTEND;TZID=Europe/Berlin:20260707T204500
UID:V84421210-20260707T200000@VHSBÖBLINGEN-SINDELFINGEN
SUMMARY:Spanisch A2 ab Mitte Lektion 2 (V84421210) 
LOCATION:Online vhs, Palma (Alfaview), Online vhs
END:VEVENT
BEGIN:VEVENT
DTSTAMP:20260420T145313
DTSTART;TZID=Europe/Berlin:20260714T200000
DTEND;TZID=Europe/Berlin:20260714T204500
UID:V84421210-20260714T200000@VHSBÖBLINGEN-SINDELFINGEN
SUMMARY:Spanisch A2 ab Mitte Lektion 2 (V84421210) 
LOCATION:Online vhs, Palma (Alfaview), Online vhs
END:VEVENT
BEGIN:VEVENT
DTSTAMP:20260420T145313
DTSTART;TZID=Europe/Berlin:20260721T200000
DTEND;TZID=Europe/Berlin:20260721T204500
UID:V84421210-20260721T200000@VHSBÖBLINGEN-SINDELFINGEN
SUMMARY:Spanisch A2 ab Mitte Lektion 2 (V84421210) 
LOCATION:Online vhs, Palma (Alfaview), Online vhs
END:VEVENT
END:VCALENDAR