BEGIN:VCALENDAR
VERSION:2.0
PRODID:https://www.kufer.de/kuferweb / DE
METHOD:PUBLISH
CALSCALE:GREGORIAN
X-WR-TIMEZONE:Europe/Berlin
BEGIN:VTIMEZONE
TZID:Europe/Berlin
X-LIC-LOCATION:Europe/Berlin
BEGIN:DAYLIGHT
TZOFFSETFROM:+0100
TZOFFSETTO:+0200
TZNAME:CEST
DTSTART:19700329T020000
RRULE:FREQ=YEARLY;INTERVAL=1;BYDAY=-1SU;BYMONTH=3
END:DAYLIGHT
BEGIN:STANDARD
TZOFFSETFROM:+0200
TZOFFSETTO:+0100
TZNAME:CET
DTSTART:19701025T030000
RRULE:FREQ=YEARLY;INTERVAL=1;BYDAY=-1SU;BYMONTH=10
END:STANDARD
END:VTIMEZONE
BEGIN:VEVENT
DTSTAMP:20260420T192333
DTSTART;TZID=Europe/Berlin:20260513T173000
DTEND;TZID=Europe/Berlin:20260513T184500
UID:V84421110-20260513T173000@VHSBÖBLINGEN-SINDELFINGEN
SUMMARY:Spanisch A2 ab Lektion 8 (V84421110) 
LOCATION:Online vhs, Palma (Alfaview), Online vhs
END:VEVENT
BEGIN:VEVENT
DTSTAMP:20260420T192333
DTSTART;TZID=Europe/Berlin:20260520T173000
DTEND;TZID=Europe/Berlin:20260520T184500
UID:V84421110-20260520T173000@VHSBÖBLINGEN-SINDELFINGEN
SUMMARY:Spanisch A2 ab Lektion 8 (V84421110) 
LOCATION:Online vhs, Palma (Alfaview), Online vhs
END:VEVENT
BEGIN:VEVENT
DTSTAMP:20260420T192333
DTSTART;TZID=Europe/Berlin:20260610T173000
DTEND;TZID=Europe/Berlin:20260610T184500
UID:V84421110-20260610T173000@VHSBÖBLINGEN-SINDELFINGEN
SUMMARY:Spanisch A2 ab Lektion 8 (V84421110) 
LOCATION:Online vhs, Palma (Alfaview), Online vhs
END:VEVENT
BEGIN:VEVENT
DTSTAMP:20260420T192333
DTSTART;TZID=Europe/Berlin:20260617T173000
DTEND;TZID=Europe/Berlin:20260617T184500
UID:V84421110-20260617T173000@VHSBÖBLINGEN-SINDELFINGEN
SUMMARY:Spanisch A2 ab Lektion 8 (V84421110) 
LOCATION:Online vhs, Palma (Alfaview), Online vhs
END:VEVENT
BEGIN:VEVENT
DTSTAMP:20260420T192333
DTSTART;TZID=Europe/Berlin:20260624T173000
DTEND;TZID=Europe/Berlin:20260624T184500
UID:V84421110-20260624T173000@VHSBÖBLINGEN-SINDELFINGEN
SUMMARY:Spanisch A2 ab Lektion 8 (V84421110) 
LOCATION:Online vhs, Palma (Alfaview), Online vhs
END:VEVENT
BEGIN:VEVENT
DTSTAMP:20260420T192333
DTSTART;TZID=Europe/Berlin:20260701T173000
DTEND;TZID=Europe/Berlin:20260701T184500
UID:V84421110-20260701T173000@VHSBÖBLINGEN-SINDELFINGEN
SUMMARY:Spanisch A2 ab Lektion 8 (V84421110) 
LOCATION:Online vhs, Palma (Alfaview), Online vhs
END:VEVENT
BEGIN:VEVENT
DTSTAMP:20260420T192333
DTSTART;TZID=Europe/Berlin:20260708T173000
DTEND;TZID=Europe/Berlin:20260708T184500
UID:V84421110-20260708T173000@VHSBÖBLINGEN-SINDELFINGEN
SUMMARY:Spanisch A2 ab Lektion 8 (V84421110) 
LOCATION:Online vhs, Palma (Alfaview), Online vhs
END:VEVENT
BEGIN:VEVENT
DTSTAMP:20260420T192333
DTSTART;TZID=Europe/Berlin:20260715T173000
DTEND;TZID=Europe/Berlin:20260715T184500
UID:V84421110-20260715T173000@VHSBÖBLINGEN-SINDELFINGEN
SUMMARY:Spanisch A2 ab Lektion 8 (V84421110) 
LOCATION:Online vhs, Palma (Alfaview), Online vhs
END:VEVENT
END:VCALENDAR