BEGIN:VCALENDAR
VERSION:2.0
PRODID:https://www.kufer.de/kuferweb / DE
METHOD:PUBLISH
CALSCALE:GREGORIAN
X-WR-TIMEZONE:Europe/Berlin
BEGIN:VTIMEZONE
TZID:Europe/Berlin
X-LIC-LOCATION:Europe/Berlin
BEGIN:DAYLIGHT
TZOFFSETFROM:+0100
TZOFFSETTO:+0200
TZNAME:CEST
DTSTART:19700329T020000
RRULE:FREQ=YEARLY;INTERVAL=1;BYDAY=-1SU;BYMONTH=3
END:DAYLIGHT
BEGIN:STANDARD
TZOFFSETFROM:+0200
TZOFFSETTO:+0100
TZNAME:CET
DTSTART:19701025T030000
RRULE:FREQ=YEARLY;INTERVAL=1;BYDAY=-1SU;BYMONTH=10
END:STANDARD
END:VTIMEZONE
BEGIN:VEVENT
DTSTAMP:20260421T085950
DTSTART;TZID=Europe/Berlin:20260511T103000
DTEND;TZID=Europe/Berlin:20260511T120000
UID:V84420510-20260511T103000@VHSBÖBLINGEN-SINDELFINGEN
SUMMARY:Spanisch A2 ab Lektion 2 (V84420510) 
LOCATION:Online vhs, Madrid (Alfaview), Online vhs
END:VEVENT
BEGIN:VEVENT
DTSTAMP:20260421T085950
DTSTART;TZID=Europe/Berlin:20260518T103000
DTEND;TZID=Europe/Berlin:20260518T120000
UID:V84420510-20260518T103000@VHSBÖBLINGEN-SINDELFINGEN
SUMMARY:Spanisch A2 ab Lektion 2 (V84420510) 
LOCATION:Online vhs, Madrid (Alfaview), Online vhs
END:VEVENT
BEGIN:VEVENT
DTSTAMP:20260421T085950
DTSTART;TZID=Europe/Berlin:20260608T103000
DTEND;TZID=Europe/Berlin:20260608T120000
UID:V84420510-20260608T103000@VHSBÖBLINGEN-SINDELFINGEN
SUMMARY:Spanisch A2 ab Lektion 2 (V84420510) 
LOCATION:Online vhs, Madrid (Alfaview), Online vhs
END:VEVENT
BEGIN:VEVENT
DTSTAMP:20260421T085950
DTSTART;TZID=Europe/Berlin:20260615T103000
DTEND;TZID=Europe/Berlin:20260615T120000
UID:V84420510-20260615T103000@VHSBÖBLINGEN-SINDELFINGEN
SUMMARY:Spanisch A2 ab Lektion 2 (V84420510) 
LOCATION:Online vhs, Madrid (Alfaview), Online vhs
END:VEVENT
BEGIN:VEVENT
DTSTAMP:20260421T085950
DTSTART;TZID=Europe/Berlin:20260622T103000
DTEND;TZID=Europe/Berlin:20260622T120000
UID:V84420510-20260622T103000@VHSBÖBLINGEN-SINDELFINGEN
SUMMARY:Spanisch A2 ab Lektion 2 (V84420510) 
LOCATION:Online vhs, Madrid (Alfaview), Online vhs
END:VEVENT
BEGIN:VEVENT
DTSTAMP:20260421T085950
DTSTART;TZID=Europe/Berlin:20260629T103000
DTEND;TZID=Europe/Berlin:20260629T120000
UID:V84420510-20260629T103000@VHSBÖBLINGEN-SINDELFINGEN
SUMMARY:Spanisch A2 ab Lektion 2 (V84420510) 
LOCATION:Online vhs, Madrid (Alfaview), Online vhs
END:VEVENT
BEGIN:VEVENT
DTSTAMP:20260421T085950
DTSTART;TZID=Europe/Berlin:20260706T103000
DTEND;TZID=Europe/Berlin:20260706T120000
UID:V84420510-20260706T103000@VHSBÖBLINGEN-SINDELFINGEN
SUMMARY:Spanisch A2 ab Lektion 2 (V84420510) 
LOCATION:Online vhs, Madrid (Alfaview), Online vhs
END:VEVENT
BEGIN:VEVENT
DTSTAMP:20260421T085950
DTSTART;TZID=Europe/Berlin:20260713T103000
DTEND;TZID=Europe/Berlin:20260713T120000
UID:V84420510-20260713T103000@VHSBÖBLINGEN-SINDELFINGEN
SUMMARY:Spanisch A2 ab Lektion 2 (V84420510) 
LOCATION:Online vhs, Madrid (Alfaview), Online vhs
END:VEVENT
END:VCALENDAR