BEGIN:VCALENDAR
VERSION:2.0
PRODID:https://www.kufer.de/kuferweb / DE
METHOD:PUBLISH
CALSCALE:GREGORIAN
X-WR-TIMEZONE:Europe/Berlin
BEGIN:VTIMEZONE
TZID:Europe/Berlin
X-LIC-LOCATION:Europe/Berlin
BEGIN:DAYLIGHT
TZOFFSETFROM:+0100
TZOFFSETTO:+0200
TZNAME:CEST
DTSTART:19700329T020000
RRULE:FREQ=YEARLY;INTERVAL=1;BYDAY=-1SU;BYMONTH=3
END:DAYLIGHT
BEGIN:STANDARD
TZOFFSETFROM:+0200
TZOFFSETTO:+0100
TZNAME:CET
DTSTART:19701025T030000
RRULE:FREQ=YEARLY;INTERVAL=1;BYDAY=-1SU;BYMONTH=10
END:STANDARD
END:VTIMEZONE
BEGIN:VEVENT
DTSTAMP:20260421T004205
DTSTART;TZID=Europe/Berlin:20260512T164500
DTEND;TZID=Europe/Berlin:20260512T181500
UID:V84420210-20260512T164500@VHSBÖBLINGEN-SINDELFINGEN
SUMMARY:Spanisch A2 ab Lektion 2 (V84420210) 
LOCATION:Online vhs, Amsterdam (Alfaview), Online vhs
END:VEVENT
BEGIN:VEVENT
DTSTAMP:20260421T004205
DTSTART;TZID=Europe/Berlin:20260519T164500
DTEND;TZID=Europe/Berlin:20260519T181500
UID:V84420210-20260519T164500@VHSBÖBLINGEN-SINDELFINGEN
SUMMARY:Spanisch A2 ab Lektion 2 (V84420210) 
LOCATION:Online vhs, Amsterdam (Alfaview), Online vhs
END:VEVENT
BEGIN:VEVENT
DTSTAMP:20260421T004205
DTSTART;TZID=Europe/Berlin:20260609T164500
DTEND;TZID=Europe/Berlin:20260609T181500
UID:V84420210-20260609T164500@VHSBÖBLINGEN-SINDELFINGEN
SUMMARY:Spanisch A2 ab Lektion 2 (V84420210) 
LOCATION:Online vhs, Amsterdam (Alfaview), Online vhs
END:VEVENT
BEGIN:VEVENT
DTSTAMP:20260421T004205
DTSTART;TZID=Europe/Berlin:20260616T164500
DTEND;TZID=Europe/Berlin:20260616T181500
UID:V84420210-20260616T164500@VHSBÖBLINGEN-SINDELFINGEN
SUMMARY:Spanisch A2 ab Lektion 2 (V84420210) 
LOCATION:Online vhs, Amsterdam (Alfaview), Online vhs
END:VEVENT
BEGIN:VEVENT
DTSTAMP:20260421T004205
DTSTART;TZID=Europe/Berlin:20260623T164500
DTEND;TZID=Europe/Berlin:20260623T181500
UID:V84420210-20260623T164500@VHSBÖBLINGEN-SINDELFINGEN
SUMMARY:Spanisch A2 ab Lektion 2 (V84420210) 
LOCATION:Online vhs, Amsterdam (Alfaview), Online vhs
END:VEVENT
BEGIN:VEVENT
DTSTAMP:20260421T004205
DTSTART;TZID=Europe/Berlin:20260630T164500
DTEND;TZID=Europe/Berlin:20260630T181500
UID:V84420210-20260630T164500@VHSBÖBLINGEN-SINDELFINGEN
SUMMARY:Spanisch A2 ab Lektion 2 (V84420210) 
LOCATION:Online vhs, Amsterdam (Alfaview), Online vhs
END:VEVENT
BEGIN:VEVENT
DTSTAMP:20260421T004205
DTSTART;TZID=Europe/Berlin:20260707T164500
DTEND;TZID=Europe/Berlin:20260707T181500
UID:V84420210-20260707T164500@VHSBÖBLINGEN-SINDELFINGEN
SUMMARY:Spanisch A2 ab Lektion 2 (V84420210) 
LOCATION:Online vhs, Amsterdam (Alfaview), Online vhs
END:VEVENT
BEGIN:VEVENT
DTSTAMP:20260421T004205
DTSTART;TZID=Europe/Berlin:20260714T164500
DTEND;TZID=Europe/Berlin:20260714T181500
UID:V84420210-20260714T164500@VHSBÖBLINGEN-SINDELFINGEN
SUMMARY:Spanisch A2 ab Lektion 2 (V84420210) 
LOCATION:Online vhs, Amsterdam (Alfaview), Online vhs
END:VEVENT
END:VCALENDAR