BEGIN:VCALENDAR
VERSION:2.0
PRODID:https://www.kufer.de/kuferweb / DE
METHOD:PUBLISH
CALSCALE:GREGORIAN
X-WR-TIMEZONE:Europe/Berlin
BEGIN:VTIMEZONE
TZID:Europe/Berlin
X-LIC-LOCATION:Europe/Berlin
BEGIN:DAYLIGHT
TZOFFSETFROM:+0100
TZOFFSETTO:+0200
TZNAME:CEST
DTSTART:19700329T020000
RRULE:FREQ=YEARLY;INTERVAL=1;BYDAY=-1SU;BYMONTH=3
END:DAYLIGHT
BEGIN:STANDARD
TZOFFSETFROM:+0200
TZOFFSETTO:+0100
TZNAME:CET
DTSTART:19701025T030000
RRULE:FREQ=YEARLY;INTERVAL=1;BYDAY=-1SU;BYMONTH=10
END:STANDARD
END:VTIMEZONE
BEGIN:VEVENT
DTSTAMP:20260421T134645
DTSTART;TZID=Europe/Berlin:20260702T180000
DTEND;TZID=Europe/Berlin:20260702T184500
UID:V84419110-20260702T180000@VHSBÖBLINGEN-SINDELFINGEN
SUMMARY:Spanisch A1/A2, "Un Sueño de Verano" Konversation/Lektürewebinar (V84419110) 
LOCATION:Online vhs, Helsinki (Alfaview), Online vhs
END:VEVENT
BEGIN:VEVENT
DTSTAMP:20260421T134645
DTSTART;TZID=Europe/Berlin:20260709T180000
DTEND;TZID=Europe/Berlin:20260709T184500
UID:V84419110-20260709T180000@VHSBÖBLINGEN-SINDELFINGEN
SUMMARY:Spanisch A1/A2, "Un Sueño de Verano" Konversation/Lektürewebinar (V84419110) 
LOCATION:Online vhs, Helsinki (Alfaview), Online vhs
END:VEVENT
BEGIN:VEVENT
DTSTAMP:20260421T134645
DTSTART;TZID=Europe/Berlin:20260716T180000
DTEND;TZID=Europe/Berlin:20260716T184500
UID:V84419110-20260716T180000@VHSBÖBLINGEN-SINDELFINGEN
SUMMARY:Spanisch A1/A2, "Un Sueño de Verano" Konversation/Lektürewebinar (V84419110) 
LOCATION:Online vhs, Helsinki (Alfaview), Online vhs
END:VEVENT
BEGIN:VEVENT
DTSTAMP:20260421T134645
DTSTART;TZID=Europe/Berlin:20260723T180000
DTEND;TZID=Europe/Berlin:20260723T184500
UID:V84419110-20260723T180000@VHSBÖBLINGEN-SINDELFINGEN
SUMMARY:Spanisch A1/A2, "Un Sueño de Verano" Konversation/Lektürewebinar (V84419110) 
LOCATION:Online vhs, Helsinki (Alfaview), Online vhs
END:VEVENT
END:VCALENDAR