BEGIN:VCALENDAR
VERSION:2.0
PRODID:https://www.kufer.de/kuferweb / DE
METHOD:PUBLISH
CALSCALE:GREGORIAN
X-WR-TIMEZONE:Europe/Berlin
BEGIN:VTIMEZONE
TZID:Europe/Berlin
X-LIC-LOCATION:Europe/Berlin
BEGIN:DAYLIGHT
TZOFFSETFROM:+0100
TZOFFSETTO:+0200
TZNAME:CEST
DTSTART:19700329T020000
RRULE:FREQ=YEARLY;INTERVAL=1;BYDAY=-1SU;BYMONTH=3
END:DAYLIGHT
BEGIN:STANDARD
TZOFFSETFROM:+0200
TZOFFSETTO:+0100
TZNAME:CET
DTSTART:19701025T030000
RRULE:FREQ=YEARLY;INTERVAL=1;BYDAY=-1SU;BYMONTH=10
END:STANDARD
END:VTIMEZONE
BEGIN:VEVENT
DTSTAMP:20260420T225046
DTSTART;TZID=Europe/Berlin:20260513T164500
DTEND;TZID=Europe/Berlin:20260513T181500
UID:V84414110-20260513T164500@VHSBÖBLINGEN-SINDELFINGEN
SUMMARY:Spanisch A1 ab Lektion 8 (V84414110) 
LOCATION:Online vhs, Stockholm (Alfaview), Online vhs
END:VEVENT
BEGIN:VEVENT
DTSTAMP:20260420T225046
DTSTART;TZID=Europe/Berlin:20260520T164500
DTEND;TZID=Europe/Berlin:20260520T181500
UID:V84414110-20260520T164500@VHSBÖBLINGEN-SINDELFINGEN
SUMMARY:Spanisch A1 ab Lektion 8 (V84414110) 
LOCATION:Online vhs, Stockholm (Alfaview), Online vhs
END:VEVENT
BEGIN:VEVENT
DTSTAMP:20260420T225046
DTSTART;TZID=Europe/Berlin:20260610T164500
DTEND;TZID=Europe/Berlin:20260610T181500
UID:V84414110-20260610T164500@VHSBÖBLINGEN-SINDELFINGEN
SUMMARY:Spanisch A1 ab Lektion 8 (V84414110) 
LOCATION:Online vhs, Stockholm (Alfaview), Online vhs
END:VEVENT
BEGIN:VEVENT
DTSTAMP:20260420T225046
DTSTART;TZID=Europe/Berlin:20260617T164500
DTEND;TZID=Europe/Berlin:20260617T181500
UID:V84414110-20260617T164500@VHSBÖBLINGEN-SINDELFINGEN
SUMMARY:Spanisch A1 ab Lektion 8 (V84414110) 
LOCATION:Online vhs, Stockholm (Alfaview), Online vhs
END:VEVENT
BEGIN:VEVENT
DTSTAMP:20260420T225046
DTSTART;TZID=Europe/Berlin:20260624T164500
DTEND;TZID=Europe/Berlin:20260624T181500
UID:V84414110-20260624T164500@VHSBÖBLINGEN-SINDELFINGEN
SUMMARY:Spanisch A1 ab Lektion 8 (V84414110) 
LOCATION:Online vhs, Stockholm (Alfaview), Online vhs
END:VEVENT
BEGIN:VEVENT
DTSTAMP:20260420T225046
DTSTART;TZID=Europe/Berlin:20260701T164500
DTEND;TZID=Europe/Berlin:20260701T181500
UID:V84414110-20260701T164500@VHSBÖBLINGEN-SINDELFINGEN
SUMMARY:Spanisch A1 ab Lektion 8 (V84414110) 
LOCATION:Online vhs, Stockholm (Alfaview), Online vhs
END:VEVENT
BEGIN:VEVENT
DTSTAMP:20260420T225046
DTSTART;TZID=Europe/Berlin:20260708T164500
DTEND;TZID=Europe/Berlin:20260708T181500
UID:V84414110-20260708T164500@VHSBÖBLINGEN-SINDELFINGEN
SUMMARY:Spanisch A1 ab Lektion 8 (V84414110) 
LOCATION:Online vhs, Stockholm (Alfaview), Online vhs
END:VEVENT
BEGIN:VEVENT
DTSTAMP:20260420T225046
DTSTART;TZID=Europe/Berlin:20260715T164500
DTEND;TZID=Europe/Berlin:20260715T181500
UID:V84414110-20260715T164500@VHSBÖBLINGEN-SINDELFINGEN
SUMMARY:Spanisch A1 ab Lektion 8 (V84414110) 
LOCATION:Online vhs, Stockholm (Alfaview), Online vhs
END:VEVENT
END:VCALENDAR