BEGIN:VCALENDAR
VERSION:2.0
PRODID:https://www.kufer.de/kuferweb / DE
METHOD:PUBLISH
CALSCALE:GREGORIAN
X-WR-TIMEZONE:Europe/Berlin
BEGIN:VTIMEZONE
TZID:Europe/Berlin
X-LIC-LOCATION:Europe/Berlin
BEGIN:DAYLIGHT
TZOFFSETFROM:+0100
TZOFFSETTO:+0200
TZNAME:CEST
DTSTART:19700329T020000
RRULE:FREQ=YEARLY;INTERVAL=1;BYDAY=-1SU;BYMONTH=3
END:DAYLIGHT
BEGIN:STANDARD
TZOFFSETFROM:+0200
TZOFFSETTO:+0100
TZNAME:CET
DTSTART:19701025T030000
RRULE:FREQ=YEARLY;INTERVAL=1;BYDAY=-1SU;BYMONTH=10
END:STANDARD
END:VTIMEZONE
BEGIN:VEVENT
DTSTAMP:20260421T094552
DTSTART;TZID=Europe/Berlin:20260522T160000
DTEND;TZID=Europe/Berlin:20260522T173000
UID:V84412210-20260522T160000@VHSBÖBLINGEN-SINDELFINGEN
SUMMARY:Spanisch A1, mit geringen Vorkenntnissen ab Lektion 3 (V84412210) 
LOCATION:Online vhs, Madrid (Alfaview), Online vhs
END:VEVENT
BEGIN:VEVENT
DTSTAMP:20260421T094552
DTSTART;TZID=Europe/Berlin:20260612T160000
DTEND;TZID=Europe/Berlin:20260612T173000
UID:V84412210-20260612T160000@VHSBÖBLINGEN-SINDELFINGEN
SUMMARY:Spanisch A1, mit geringen Vorkenntnissen ab Lektion 3 (V84412210) 
LOCATION:Online vhs, Madrid (Alfaview), Online vhs
END:VEVENT
BEGIN:VEVENT
DTSTAMP:20260421T094552
DTSTART;TZID=Europe/Berlin:20260619T160000
DTEND;TZID=Europe/Berlin:20260619T173000
UID:V84412210-20260619T160000@VHSBÖBLINGEN-SINDELFINGEN
SUMMARY:Spanisch A1, mit geringen Vorkenntnissen ab Lektion 3 (V84412210) 
LOCATION:Online vhs, Madrid (Alfaview), Online vhs
END:VEVENT
BEGIN:VEVENT
DTSTAMP:20260421T094552
DTSTART;TZID=Europe/Berlin:20260626T160000
DTEND;TZID=Europe/Berlin:20260626T173000
UID:V84412210-20260626T160000@VHSBÖBLINGEN-SINDELFINGEN
SUMMARY:Spanisch A1, mit geringen Vorkenntnissen ab Lektion 3 (V84412210) 
LOCATION:Online vhs, Madrid (Alfaview), Online vhs
END:VEVENT
BEGIN:VEVENT
DTSTAMP:20260421T094552
DTSTART;TZID=Europe/Berlin:20260703T160000
DTEND;TZID=Europe/Berlin:20260703T173000
UID:V84412210-20260703T160000@VHSBÖBLINGEN-SINDELFINGEN
SUMMARY:Spanisch A1, mit geringen Vorkenntnissen ab Lektion 3 (V84412210) 
LOCATION:Online vhs, Madrid (Alfaview), Online vhs
END:VEVENT
BEGIN:VEVENT
DTSTAMP:20260421T094552
DTSTART;TZID=Europe/Berlin:20260710T160000
DTEND;TZID=Europe/Berlin:20260710T173000
UID:V84412210-20260710T160000@VHSBÖBLINGEN-SINDELFINGEN
SUMMARY:Spanisch A1, mit geringen Vorkenntnissen ab Lektion 3 (V84412210) 
LOCATION:Online vhs, Madrid (Alfaview), Online vhs
END:VEVENT
BEGIN:VEVENT
DTSTAMP:20260421T094552
DTSTART;TZID=Europe/Berlin:20260717T160000
DTEND;TZID=Europe/Berlin:20260717T173000
UID:V84412210-20260717T160000@VHSBÖBLINGEN-SINDELFINGEN
SUMMARY:Spanisch A1, mit geringen Vorkenntnissen ab Lektion 3 (V84412210) 
LOCATION:Online vhs, Madrid (Alfaview), Online vhs
END:VEVENT
BEGIN:VEVENT
DTSTAMP:20260421T094552
DTSTART;TZID=Europe/Berlin:20260724T160000
DTEND;TZID=Europe/Berlin:20260724T173000
UID:V84412210-20260724T160000@VHSBÖBLINGEN-SINDELFINGEN
SUMMARY:Spanisch A1, mit geringen Vorkenntnissen ab Lektion 3 (V84412210) 
LOCATION:Online vhs, Madrid (Alfaview), Online vhs
END:VEVENT
END:VCALENDAR