BEGIN:VCALENDAR
VERSION:2.0
PRODID:https://www.kufer.de/kuferweb / DE
METHOD:PUBLISH
CALSCALE:GREGORIAN
X-WR-TIMEZONE:Europe/Berlin
BEGIN:VTIMEZONE
TZID:Europe/Berlin
X-LIC-LOCATION:Europe/Berlin
BEGIN:DAYLIGHT
TZOFFSETFROM:+0100
TZOFFSETTO:+0200
TZNAME:CEST
DTSTART:19700329T020000
RRULE:FREQ=YEARLY;INTERVAL=1;BYDAY=-1SU;BYMONTH=3
END:DAYLIGHT
BEGIN:STANDARD
TZOFFSETFROM:+0200
TZOFFSETTO:+0100
TZNAME:CET
DTSTART:19701025T030000
RRULE:FREQ=YEARLY;INTERVAL=1;BYDAY=-1SU;BYMONTH=10
END:STANDARD
END:VTIMEZONE
BEGIN:VEVENT
DTSTAMP:20260421T080132
DTSTART;TZID=Europe/Berlin:20260513T100000
DTEND;TZID=Europe/Berlin:20260513T113000
UID:V84412110-20260513T100000@VHSBÖBLINGEN-SINDELFINGEN
SUMMARY:Spanisch A1, mit geringen Vorkenntnissen ab Lektion 3 (V84412110) 
LOCATION:Online vhs, Madrid (Alfaview), Online vhs
END:VEVENT
BEGIN:VEVENT
DTSTAMP:20260421T080132
DTSTART;TZID=Europe/Berlin:20260520T100000
DTEND;TZID=Europe/Berlin:20260520T113000
UID:V84412110-20260520T100000@VHSBÖBLINGEN-SINDELFINGEN
SUMMARY:Spanisch A1, mit geringen Vorkenntnissen ab Lektion 3 (V84412110) 
LOCATION:Online vhs, Madrid (Alfaview), Online vhs
END:VEVENT
BEGIN:VEVENT
DTSTAMP:20260421T080132
DTSTART;TZID=Europe/Berlin:20260610T100000
DTEND;TZID=Europe/Berlin:20260610T113000
UID:V84412110-20260610T100000@VHSBÖBLINGEN-SINDELFINGEN
SUMMARY:Spanisch A1, mit geringen Vorkenntnissen ab Lektion 3 (V84412110) 
LOCATION:Online vhs, Madrid (Alfaview), Online vhs
END:VEVENT
BEGIN:VEVENT
DTSTAMP:20260421T080132
DTSTART;TZID=Europe/Berlin:20260617T100000
DTEND;TZID=Europe/Berlin:20260617T113000
UID:V84412110-20260617T100000@VHSBÖBLINGEN-SINDELFINGEN
SUMMARY:Spanisch A1, mit geringen Vorkenntnissen ab Lektion 3 (V84412110) 
LOCATION:Online vhs, Madrid (Alfaview), Online vhs
END:VEVENT
BEGIN:VEVENT
DTSTAMP:20260421T080132
DTSTART;TZID=Europe/Berlin:20260624T100000
DTEND;TZID=Europe/Berlin:20260624T113000
UID:V84412110-20260624T100000@VHSBÖBLINGEN-SINDELFINGEN
SUMMARY:Spanisch A1, mit geringen Vorkenntnissen ab Lektion 3 (V84412110) 
LOCATION:Online vhs, Madrid (Alfaview), Online vhs
END:VEVENT
BEGIN:VEVENT
DTSTAMP:20260421T080132
DTSTART;TZID=Europe/Berlin:20260701T100000
DTEND;TZID=Europe/Berlin:20260701T113000
UID:V84412110-20260701T100000@VHSBÖBLINGEN-SINDELFINGEN
SUMMARY:Spanisch A1, mit geringen Vorkenntnissen ab Lektion 3 (V84412110) 
LOCATION:Online vhs, Madrid (Alfaview), Online vhs
END:VEVENT
BEGIN:VEVENT
DTSTAMP:20260421T080132
DTSTART;TZID=Europe/Berlin:20260708T100000
DTEND;TZID=Europe/Berlin:20260708T113000
UID:V84412110-20260708T100000@VHSBÖBLINGEN-SINDELFINGEN
SUMMARY:Spanisch A1, mit geringen Vorkenntnissen ab Lektion 3 (V84412110) 
LOCATION:Online vhs, Madrid (Alfaview), Online vhs
END:VEVENT
BEGIN:VEVENT
DTSTAMP:20260421T080132
DTSTART;TZID=Europe/Berlin:20260715T100000
DTEND;TZID=Europe/Berlin:20260715T113000
UID:V84412110-20260715T100000@VHSBÖBLINGEN-SINDELFINGEN
SUMMARY:Spanisch A1, mit geringen Vorkenntnissen ab Lektion 3 (V84412110) 
LOCATION:Online vhs, Madrid (Alfaview), Online vhs
END:VEVENT
END:VCALENDAR