BEGIN:VCALENDAR
VERSION:2.0
PRODID:https://www.kufer.de/kuferweb / DE
METHOD:PUBLISH
CALSCALE:GREGORIAN
X-WR-TIMEZONE:Europe/Berlin
BEGIN:VTIMEZONE
TZID:Europe/Berlin
X-LIC-LOCATION:Europe/Berlin
BEGIN:DAYLIGHT
TZOFFSETFROM:+0100
TZOFFSETTO:+0200
TZNAME:CEST
DTSTART:19700329T020000
RRULE:FREQ=YEARLY;INTERVAL=1;BYDAY=-1SU;BYMONTH=3
END:DAYLIGHT
BEGIN:STANDARD
TZOFFSETFROM:+0200
TZOFFSETTO:+0100
TZNAME:CET
DTSTART:19701025T030000
RRULE:FREQ=YEARLY;INTERVAL=1;BYDAY=-1SU;BYMONTH=10
END:STANDARD
END:VTIMEZONE
BEGIN:VEVENT
DTSTAMP:20260421T183600
DTSTART;TZID=Europe/Berlin:20260511T184500
DTEND;TZID=Europe/Berlin:20260511T201500
UID:V84412010-20260511T184500@VHSBÖBLINGEN-SINDELFINGEN
SUMMARY:Spanisch A1, mit geringen Vorkenntnissen ab Lektion 3 (V84412010) 
LOCATION:Online vhs, Palma (Alfaview), Online vhs
END:VEVENT
BEGIN:VEVENT
DTSTAMP:20260421T183600
DTSTART;TZID=Europe/Berlin:20260518T184500
DTEND;TZID=Europe/Berlin:20260518T201500
UID:V84412010-20260518T184500@VHSBÖBLINGEN-SINDELFINGEN
SUMMARY:Spanisch A1, mit geringen Vorkenntnissen ab Lektion 3 (V84412010) 
LOCATION:Online vhs, Palma (Alfaview), Online vhs
END:VEVENT
BEGIN:VEVENT
DTSTAMP:20260421T183600
DTSTART;TZID=Europe/Berlin:20260608T184500
DTEND;TZID=Europe/Berlin:20260608T201500
UID:V84412010-20260608T184500@VHSBÖBLINGEN-SINDELFINGEN
SUMMARY:Spanisch A1, mit geringen Vorkenntnissen ab Lektion 3 (V84412010) 
LOCATION:Online vhs, Palma (Alfaview), Online vhs
END:VEVENT
BEGIN:VEVENT
DTSTAMP:20260421T183600
DTSTART;TZID=Europe/Berlin:20260615T184500
DTEND;TZID=Europe/Berlin:20260615T201500
UID:V84412010-20260615T184500@VHSBÖBLINGEN-SINDELFINGEN
SUMMARY:Spanisch A1, mit geringen Vorkenntnissen ab Lektion 3 (V84412010) 
LOCATION:Online vhs, Palma (Alfaview), Online vhs
END:VEVENT
BEGIN:VEVENT
DTSTAMP:20260421T183600
DTSTART;TZID=Europe/Berlin:20260622T184500
DTEND;TZID=Europe/Berlin:20260622T201500
UID:V84412010-20260622T184500@VHSBÖBLINGEN-SINDELFINGEN
SUMMARY:Spanisch A1, mit geringen Vorkenntnissen ab Lektion 3 (V84412010) 
LOCATION:Online vhs, Palma (Alfaview), Online vhs
END:VEVENT
BEGIN:VEVENT
DTSTAMP:20260421T183600
DTSTART;TZID=Europe/Berlin:20260629T184500
DTEND;TZID=Europe/Berlin:20260629T201500
UID:V84412010-20260629T184500@VHSBÖBLINGEN-SINDELFINGEN
SUMMARY:Spanisch A1, mit geringen Vorkenntnissen ab Lektion 3 (V84412010) 
LOCATION:Online vhs, Palma (Alfaview), Online vhs
END:VEVENT
BEGIN:VEVENT
DTSTAMP:20260421T183600
DTSTART;TZID=Europe/Berlin:20260706T184500
DTEND;TZID=Europe/Berlin:20260706T201500
UID:V84412010-20260706T184500@VHSBÖBLINGEN-SINDELFINGEN
SUMMARY:Spanisch A1, mit geringen Vorkenntnissen ab Lektion 3 (V84412010) 
LOCATION:Online vhs, Palma (Alfaview), Online vhs
END:VEVENT
BEGIN:VEVENT
DTSTAMP:20260421T183600
DTSTART;TZID=Europe/Berlin:20260713T184500
DTEND;TZID=Europe/Berlin:20260713T201500
UID:V84412010-20260713T184500@VHSBÖBLINGEN-SINDELFINGEN
SUMMARY:Spanisch A1, mit geringen Vorkenntnissen ab Lektion 3 (V84412010) 
LOCATION:Online vhs, Palma (Alfaview), Online vhs
END:VEVENT
END:VCALENDAR