BEGIN:VCALENDAR
VERSION:2.0
PRODID:https://www.kufer.de/kuferweb / DE
METHOD:PUBLISH
CALSCALE:GREGORIAN
X-WR-TIMEZONE:Europe/Berlin
BEGIN:VTIMEZONE
TZID:Europe/Berlin
X-LIC-LOCATION:Europe/Berlin
BEGIN:DAYLIGHT
TZOFFSETFROM:+0100
TZOFFSETTO:+0200
TZNAME:CEST
DTSTART:19700329T020000
RRULE:FREQ=YEARLY;INTERVAL=1;BYDAY=-1SU;BYMONTH=3
END:DAYLIGHT
BEGIN:STANDARD
TZOFFSETFROM:+0200
TZOFFSETTO:+0100
TZNAME:CET
DTSTART:19701025T030000
RRULE:FREQ=YEARLY;INTERVAL=1;BYDAY=-1SU;BYMONTH=10
END:STANDARD
END:VTIMEZONE
BEGIN:VEVENT
DTSTAMP:20260420T230125
DTSTART;TZID=Europe/Berlin:20260303T080000
DTEND;TZID=Europe/Berlin:20260303T084500
UID:V84410210-20260303T080000@VHSBÖBLINGEN-SINDELFINGEN
SUMMARY:Spanisch A1, Anfängerkurs ab Lektion 1 (V84410210) 
LOCATION:Online vhs, Madrid (Alfaview), Online vhs
END:VEVENT
BEGIN:VEVENT
DTSTAMP:20260420T230125
DTSTART;TZID=Europe/Berlin:20260310T080000
DTEND;TZID=Europe/Berlin:20260310T084500
UID:V84410210-20260310T080000@VHSBÖBLINGEN-SINDELFINGEN
SUMMARY:Spanisch A1, Anfängerkurs ab Lektion 1 (V84410210) 
LOCATION:Online vhs, Madrid (Alfaview), Online vhs
END:VEVENT
BEGIN:VEVENT
DTSTAMP:20260420T230125
DTSTART;TZID=Europe/Berlin:20260317T080000
DTEND;TZID=Europe/Berlin:20260317T084500
UID:V84410210-20260317T080000@VHSBÖBLINGEN-SINDELFINGEN
SUMMARY:Spanisch A1, Anfängerkurs ab Lektion 1 (V84410210) 
LOCATION:Online vhs, Madrid (Alfaview), Online vhs
END:VEVENT
BEGIN:VEVENT
DTSTAMP:20260420T230125
DTSTART;TZID=Europe/Berlin:20260324T080000
DTEND;TZID=Europe/Berlin:20260324T084500
UID:V84410210-20260324T080000@VHSBÖBLINGEN-SINDELFINGEN
SUMMARY:Spanisch A1, Anfängerkurs ab Lektion 1 (V84410210) 
LOCATION:Online vhs, Madrid (Alfaview), Online vhs
END:VEVENT
BEGIN:VEVENT
DTSTAMP:20260420T230125
DTSTART;TZID=Europe/Berlin:20260414T080000
DTEND;TZID=Europe/Berlin:20260414T084500
UID:V84410210-20260414T080000@VHSBÖBLINGEN-SINDELFINGEN
SUMMARY:Spanisch A1, Anfängerkurs ab Lektion 1 (V84410210) 
LOCATION:Online vhs, Madrid (Alfaview), Online vhs
END:VEVENT
BEGIN:VEVENT
DTSTAMP:20260420T230125
DTSTART;TZID=Europe/Berlin:20260421T080000
DTEND;TZID=Europe/Berlin:20260421T084500
UID:V84410210-20260421T080000@VHSBÖBLINGEN-SINDELFINGEN
SUMMARY:Spanisch A1, Anfängerkurs ab Lektion 1 (V84410210) 
LOCATION:Online vhs, Madrid (Alfaview), Online vhs
END:VEVENT
BEGIN:VEVENT
DTSTAMP:20260420T230125
DTSTART;TZID=Europe/Berlin:20260428T080000
DTEND;TZID=Europe/Berlin:20260428T084500
UID:V84410210-20260428T080000@VHSBÖBLINGEN-SINDELFINGEN
SUMMARY:Spanisch A1, Anfängerkurs ab Lektion 1 (V84410210) 
LOCATION:Online vhs, Madrid (Alfaview), Online vhs
END:VEVENT
BEGIN:VEVENT
DTSTAMP:20260420T230125
DTSTART;TZID=Europe/Berlin:20260505T080000
DTEND;TZID=Europe/Berlin:20260505T084500
UID:V84410210-20260505T080000@VHSBÖBLINGEN-SINDELFINGEN
SUMMARY:Spanisch A1, Anfängerkurs ab Lektion 1 (V84410210) 
LOCATION:Online vhs, Madrid (Alfaview), Online vhs
END:VEVENT
END:VCALENDAR