BEGIN:VCALENDAR
VERSION:2.0
PRODID:https://www.kufer.de/kuferweb / DE
METHOD:PUBLISH
CALSCALE:GREGORIAN
X-WR-TIMEZONE:Europe/Berlin
BEGIN:VTIMEZONE
TZID:Europe/Berlin
X-LIC-LOCATION:Europe/Berlin
BEGIN:DAYLIGHT
TZOFFSETFROM:+0100
TZOFFSETTO:+0200
TZNAME:CEST
DTSTART:19700329T020000
RRULE:FREQ=YEARLY;INTERVAL=1;BYDAY=-1SU;BYMONTH=3
END:DAYLIGHT
BEGIN:STANDARD
TZOFFSETFROM:+0200
TZOFFSETTO:+0100
TZNAME:CET
DTSTART:19701025T030000
RRULE:FREQ=YEARLY;INTERVAL=1;BYDAY=-1SU;BYMONTH=10
END:STANDARD
END:VTIMEZONE
BEGIN:VEVENT
DTSTAMP:20260421T121844
DTSTART;TZID=Europe/Berlin:20260511T180000
DTEND;TZID=Europe/Berlin:20260511T191500
UID:V84330110-20260511T180000@VHSBÖBLINGEN-SINDELFINGEN
SUMMARY:Italienisch B1 ab Lektion 1 (V84330110) 
LOCATION:Online vhs, Genua (Alfaview), Online vhs
END:VEVENT
BEGIN:VEVENT
DTSTAMP:20260421T121844
DTSTART;TZID=Europe/Berlin:20260518T180000
DTEND;TZID=Europe/Berlin:20260518T191500
UID:V84330110-20260518T180000@VHSBÖBLINGEN-SINDELFINGEN
SUMMARY:Italienisch B1 ab Lektion 1 (V84330110) 
LOCATION:Online vhs, Genua (Alfaview), Online vhs
END:VEVENT
BEGIN:VEVENT
DTSTAMP:20260421T121844
DTSTART;TZID=Europe/Berlin:20260608T180000
DTEND;TZID=Europe/Berlin:20260608T191500
UID:V84330110-20260608T180000@VHSBÖBLINGEN-SINDELFINGEN
SUMMARY:Italienisch B1 ab Lektion 1 (V84330110) 
LOCATION:Online vhs, Genua (Alfaview), Online vhs
END:VEVENT
BEGIN:VEVENT
DTSTAMP:20260421T121844
DTSTART;TZID=Europe/Berlin:20260615T180000
DTEND;TZID=Europe/Berlin:20260615T191500
UID:V84330110-20260615T180000@VHSBÖBLINGEN-SINDELFINGEN
SUMMARY:Italienisch B1 ab Lektion 1 (V84330110) 
LOCATION:Online vhs, Genua (Alfaview), Online vhs
END:VEVENT
BEGIN:VEVENT
DTSTAMP:20260421T121844
DTSTART;TZID=Europe/Berlin:20260622T180000
DTEND;TZID=Europe/Berlin:20260622T191500
UID:V84330110-20260622T180000@VHSBÖBLINGEN-SINDELFINGEN
SUMMARY:Italienisch B1 ab Lektion 1 (V84330110) 
LOCATION:Online vhs, Genua (Alfaview), Online vhs
END:VEVENT
BEGIN:VEVENT
DTSTAMP:20260421T121844
DTSTART;TZID=Europe/Berlin:20260629T180000
DTEND;TZID=Europe/Berlin:20260629T191500
UID:V84330110-20260629T180000@VHSBÖBLINGEN-SINDELFINGEN
SUMMARY:Italienisch B1 ab Lektion 1 (V84330110) 
LOCATION:Online vhs, Genua (Alfaview), Online vhs
END:VEVENT
BEGIN:VEVENT
DTSTAMP:20260421T121844
DTSTART;TZID=Europe/Berlin:20260706T180000
DTEND;TZID=Europe/Berlin:20260706T191500
UID:V84330110-20260706T180000@VHSBÖBLINGEN-SINDELFINGEN
SUMMARY:Italienisch B1 ab Lektion 1 (V84330110) 
LOCATION:Online vhs, Genua (Alfaview), Online vhs
END:VEVENT
BEGIN:VEVENT
DTSTAMP:20260421T121844
DTSTART;TZID=Europe/Berlin:20260713T180000
DTEND;TZID=Europe/Berlin:20260713T191500
UID:V84330110-20260713T180000@VHSBÖBLINGEN-SINDELFINGEN
SUMMARY:Italienisch B1 ab Lektion 1 (V84330110) 
LOCATION:Online vhs, Genua (Alfaview), Online vhs
END:VEVENT
BEGIN:VEVENT
DTSTAMP:20260421T121844
DTSTART;TZID=Europe/Berlin:20260720T180000
DTEND;TZID=Europe/Berlin:20260720T191500
UID:V84330110-20260720T180000@VHSBÖBLINGEN-SINDELFINGEN
SUMMARY:Italienisch B1 ab Lektion 1 (V84330110) 
LOCATION:Online vhs, Genua (Alfaview), Online vhs
END:VEVENT
END:VCALENDAR