BEGIN:VCALENDAR
VERSION:2.0
PRODID:https://www.kufer.de/kuferweb / DE
METHOD:PUBLISH
CALSCALE:GREGORIAN
X-WR-TIMEZONE:Europe/Berlin
BEGIN:VTIMEZONE
TZID:Europe/Berlin
X-LIC-LOCATION:Europe/Berlin
BEGIN:DAYLIGHT
TZOFFSETFROM:+0100
TZOFFSETTO:+0200
TZNAME:CEST
DTSTART:19700329T020000
RRULE:FREQ=YEARLY;INTERVAL=1;BYDAY=-1SU;BYMONTH=3
END:DAYLIGHT
BEGIN:STANDARD
TZOFFSETFROM:+0200
TZOFFSETTO:+0100
TZNAME:CET
DTSTART:19701025T030000
RRULE:FREQ=YEARLY;INTERVAL=1;BYDAY=-1SU;BYMONTH=10
END:STANDARD
END:VTIMEZONE
BEGIN:VEVENT
DTSTAMP:20260421T074500
DTSTART;TZID=Europe/Berlin:20260521T083000
DTEND;TZID=Europe/Berlin:20260521T091500
UID:V84326810-20260521T083000@VHSBÖBLINGEN-SINDELFINGEN
SUMMARY:Italienisch A2, Konversation/Lektüre "Mord in der Scala" - aus der Geschichte "Valigia con sorpresa" ab Kapitel 3 (V84326810) 
LOCATION:Online vhs, Venedig (Alfaview), Online vhs
END:VEVENT
BEGIN:VEVENT
DTSTAMP:20260421T074500
DTSTART;TZID=Europe/Berlin:20260611T083000
DTEND;TZID=Europe/Berlin:20260611T091500
UID:V84326810-20260611T083000@VHSBÖBLINGEN-SINDELFINGEN
SUMMARY:Italienisch A2, Konversation/Lektüre "Mord in der Scala" - aus der Geschichte "Valigia con sorpresa" ab Kapitel 3 (V84326810) 
LOCATION:Online vhs, Venedig (Alfaview), Online vhs
END:VEVENT
BEGIN:VEVENT
DTSTAMP:20260421T074500
DTSTART;TZID=Europe/Berlin:20260618T083000
DTEND;TZID=Europe/Berlin:20260618T091500
UID:V84326810-20260618T083000@VHSBÖBLINGEN-SINDELFINGEN
SUMMARY:Italienisch A2, Konversation/Lektüre "Mord in der Scala" - aus der Geschichte "Valigia con sorpresa" ab Kapitel 3 (V84326810) 
LOCATION:Online vhs, Venedig (Alfaview), Online vhs
END:VEVENT
BEGIN:VEVENT
DTSTAMP:20260421T074500
DTSTART;TZID=Europe/Berlin:20260625T083000
DTEND;TZID=Europe/Berlin:20260625T091500
UID:V84326810-20260625T083000@VHSBÖBLINGEN-SINDELFINGEN
SUMMARY:Italienisch A2, Konversation/Lektüre "Mord in der Scala" - aus der Geschichte "Valigia con sorpresa" ab Kapitel 3 (V84326810) 
LOCATION:Online vhs, Venedig (Alfaview), Online vhs
END:VEVENT
BEGIN:VEVENT
DTSTAMP:20260421T074500
DTSTART;TZID=Europe/Berlin:20260702T083000
DTEND;TZID=Europe/Berlin:20260702T091500
UID:V84326810-20260702T083000@VHSBÖBLINGEN-SINDELFINGEN
SUMMARY:Italienisch A2, Konversation/Lektüre "Mord in der Scala" - aus der Geschichte "Valigia con sorpresa" ab Kapitel 3 (V84326810) 
LOCATION:Online vhs, Venedig (Alfaview), Online vhs
END:VEVENT
BEGIN:VEVENT
DTSTAMP:20260421T074500
DTSTART;TZID=Europe/Berlin:20260709T083000
DTEND;TZID=Europe/Berlin:20260709T091500
UID:V84326810-20260709T083000@VHSBÖBLINGEN-SINDELFINGEN
SUMMARY:Italienisch A2, Konversation/Lektüre "Mord in der Scala" - aus der Geschichte "Valigia con sorpresa" ab Kapitel 3 (V84326810) 
LOCATION:Online vhs, Venedig (Alfaview), Online vhs
END:VEVENT
BEGIN:VEVENT
DTSTAMP:20260421T074500
DTSTART;TZID=Europe/Berlin:20260716T083000
DTEND;TZID=Europe/Berlin:20260716T091500
UID:V84326810-20260716T083000@VHSBÖBLINGEN-SINDELFINGEN
SUMMARY:Italienisch A2, Konversation/Lektüre "Mord in der Scala" - aus der Geschichte "Valigia con sorpresa" ab Kapitel 3 (V84326810) 
LOCATION:Online vhs, Venedig (Alfaview), Online vhs
END:VEVENT
BEGIN:VEVENT
DTSTAMP:20260421T074500
DTSTART;TZID=Europe/Berlin:20260723T083000
DTEND;TZID=Europe/Berlin:20260723T091500
UID:V84326810-20260723T083000@VHSBÖBLINGEN-SINDELFINGEN
SUMMARY:Italienisch A2, Konversation/Lektüre "Mord in der Scala" - aus der Geschichte "Valigia con sorpresa" ab Kapitel 3 (V84326810) 
LOCATION:Online vhs, Venedig (Alfaview), Online vhs
END:VEVENT
END:VCALENDAR