BEGIN:VCALENDAR
VERSION:2.0
PRODID:https://www.kufer.de/kuferweb / DE
METHOD:PUBLISH
CALSCALE:GREGORIAN
X-WR-TIMEZONE:Europe/Berlin
BEGIN:VTIMEZONE
TZID:Europe/Berlin
X-LIC-LOCATION:Europe/Berlin
BEGIN:DAYLIGHT
TZOFFSETFROM:+0100
TZOFFSETTO:+0200
TZNAME:CEST
DTSTART:19700329T020000
RRULE:FREQ=YEARLY;INTERVAL=1;BYDAY=-1SU;BYMONTH=3
END:DAYLIGHT
BEGIN:STANDARD
TZOFFSETFROM:+0200
TZOFFSETTO:+0100
TZNAME:CET
DTSTART:19701025T030000
RRULE:FREQ=YEARLY;INTERVAL=1;BYDAY=-1SU;BYMONTH=10
END:STANDARD
END:VTIMEZONE
BEGIN:VEVENT
DTSTAMP:20260421T043250
DTSTART;TZID=Europe/Berlin:20260305T083000
DTEND;TZID=Europe/Berlin:20260305T091500
UID:V84326710-20260305T083000@VHSBÖBLINGEN-SINDELFINGEN
SUMMARY:Italienisch A2, Konversation/Lektüre "Mord in der Scala" - aus der Geschichte "Valigia con sorpresa" ab Kapitel 2 (V84326710) 
LOCATION:Online vhs, Venedig (Alfaview), Online vhs
END:VEVENT
BEGIN:VEVENT
DTSTAMP:20260421T043250
DTSTART;TZID=Europe/Berlin:20260312T083000
DTEND;TZID=Europe/Berlin:20260312T091500
UID:V84326710-20260312T083000@VHSBÖBLINGEN-SINDELFINGEN
SUMMARY:Italienisch A2, Konversation/Lektüre "Mord in der Scala" - aus der Geschichte "Valigia con sorpresa" ab Kapitel 2 (V84326710) 
LOCATION:Online vhs, Venedig (Alfaview), Online vhs
END:VEVENT
BEGIN:VEVENT
DTSTAMP:20260421T043250
DTSTART;TZID=Europe/Berlin:20260319T083000
DTEND;TZID=Europe/Berlin:20260319T091500
UID:V84326710-20260319T083000@VHSBÖBLINGEN-SINDELFINGEN
SUMMARY:Italienisch A2, Konversation/Lektüre "Mord in der Scala" - aus der Geschichte "Valigia con sorpresa" ab Kapitel 2 (V84326710) 
LOCATION:Online vhs, Venedig (Alfaview), Online vhs
END:VEVENT
BEGIN:VEVENT
DTSTAMP:20260421T043250
DTSTART;TZID=Europe/Berlin:20260326T083000
DTEND;TZID=Europe/Berlin:20260326T091500
UID:V84326710-20260326T083000@VHSBÖBLINGEN-SINDELFINGEN
SUMMARY:Italienisch A2, Konversation/Lektüre "Mord in der Scala" - aus der Geschichte "Valigia con sorpresa" ab Kapitel 2 (V84326710) 
LOCATION:Online vhs, Venedig (Alfaview), Online vhs
END:VEVENT
BEGIN:VEVENT
DTSTAMP:20260421T043250
DTSTART;TZID=Europe/Berlin:20260416T083000
DTEND;TZID=Europe/Berlin:20260416T091500
UID:V84326710-20260416T083000@VHSBÖBLINGEN-SINDELFINGEN
SUMMARY:Italienisch A2, Konversation/Lektüre "Mord in der Scala" - aus der Geschichte "Valigia con sorpresa" ab Kapitel 2 (V84326710) 
LOCATION:Online vhs, Venedig (Alfaview), Online vhs
END:VEVENT
BEGIN:VEVENT
DTSTAMP:20260421T043250
DTSTART;TZID=Europe/Berlin:20260423T083000
DTEND;TZID=Europe/Berlin:20260423T091500
UID:V84326710-20260423T083000@VHSBÖBLINGEN-SINDELFINGEN
SUMMARY:Italienisch A2, Konversation/Lektüre "Mord in der Scala" - aus der Geschichte "Valigia con sorpresa" ab Kapitel 2 (V84326710) 
LOCATION:Online vhs, Venedig (Alfaview), Online vhs
END:VEVENT
BEGIN:VEVENT
DTSTAMP:20260421T043250
DTSTART;TZID=Europe/Berlin:20260430T083000
DTEND;TZID=Europe/Berlin:20260430T091500
UID:V84326710-20260430T083000@VHSBÖBLINGEN-SINDELFINGEN
SUMMARY:Italienisch A2, Konversation/Lektüre "Mord in der Scala" - aus der Geschichte "Valigia con sorpresa" ab Kapitel 2 (V84326710) 
LOCATION:Online vhs, Venedig (Alfaview), Online vhs
END:VEVENT
BEGIN:VEVENT
DTSTAMP:20260421T043250
DTSTART;TZID=Europe/Berlin:20260507T083000
DTEND;TZID=Europe/Berlin:20260507T091500
UID:V84326710-20260507T083000@VHSBÖBLINGEN-SINDELFINGEN
SUMMARY:Italienisch A2, Konversation/Lektüre "Mord in der Scala" - aus der Geschichte "Valigia con sorpresa" ab Kapitel 2 (V84326710) 
LOCATION:Online vhs, Venedig (Alfaview), Online vhs
END:VEVENT
END:VCALENDAR