BEGIN:VCALENDAR
VERSION:2.0
PRODID:https://www.kufer.de/kuferweb / DE
METHOD:PUBLISH
CALSCALE:GREGORIAN
X-WR-TIMEZONE:Europe/Berlin
BEGIN:VTIMEZONE
TZID:Europe/Berlin
X-LIC-LOCATION:Europe/Berlin
BEGIN:DAYLIGHT
TZOFFSETFROM:+0100
TZOFFSETTO:+0200
TZNAME:CEST
DTSTART:19700329T020000
RRULE:FREQ=YEARLY;INTERVAL=1;BYDAY=-1SU;BYMONTH=3
END:DAYLIGHT
BEGIN:STANDARD
TZOFFSETFROM:+0200
TZOFFSETTO:+0100
TZNAME:CET
DTSTART:19701025T030000
RRULE:FREQ=YEARLY;INTERVAL=1;BYDAY=-1SU;BYMONTH=10
END:STANDARD
END:VTIMEZONE
BEGIN:VEVENT
DTSTAMP:20260421T043240
DTSTART;TZID=Europe/Berlin:20260512T083000
DTEND;TZID=Europe/Berlin:20260512T093000
UID:V84326610-20260512T083000@VHSBÖBLINGEN-SINDELFINGEN
SUMMARY:Italienisch A2, Konversation/Lektüre "Il ladro di scarpe" ab Kapitel 8 (V84326610) 
LOCATION:Online vhs, Venedig (Alfaview), Online vhs
END:VEVENT
BEGIN:VEVENT
DTSTAMP:20260421T043240
DTSTART;TZID=Europe/Berlin:20260519T083000
DTEND;TZID=Europe/Berlin:20260519T093000
UID:V84326610-20260519T083000@VHSBÖBLINGEN-SINDELFINGEN
SUMMARY:Italienisch A2, Konversation/Lektüre "Il ladro di scarpe" ab Kapitel 8 (V84326610) 
LOCATION:Online vhs, Venedig (Alfaview), Online vhs
END:VEVENT
BEGIN:VEVENT
DTSTAMP:20260421T043240
DTSTART;TZID=Europe/Berlin:20260609T083000
DTEND;TZID=Europe/Berlin:20260609T093000
UID:V84326610-20260609T083000@VHSBÖBLINGEN-SINDELFINGEN
SUMMARY:Italienisch A2, Konversation/Lektüre "Il ladro di scarpe" ab Kapitel 8 (V84326610) 
LOCATION:Online vhs, Venedig (Alfaview), Online vhs
END:VEVENT
BEGIN:VEVENT
DTSTAMP:20260421T043240
DTSTART;TZID=Europe/Berlin:20260616T083000
DTEND;TZID=Europe/Berlin:20260616T093000
UID:V84326610-20260616T083000@VHSBÖBLINGEN-SINDELFINGEN
SUMMARY:Italienisch A2, Konversation/Lektüre "Il ladro di scarpe" ab Kapitel 8 (V84326610) 
LOCATION:Online vhs, Venedig (Alfaview), Online vhs
END:VEVENT
BEGIN:VEVENT
DTSTAMP:20260421T043240
DTSTART;TZID=Europe/Berlin:20260623T083000
DTEND;TZID=Europe/Berlin:20260623T093000
UID:V84326610-20260623T083000@VHSBÖBLINGEN-SINDELFINGEN
SUMMARY:Italienisch A2, Konversation/Lektüre "Il ladro di scarpe" ab Kapitel 8 (V84326610) 
LOCATION:Online vhs, Venedig (Alfaview), Online vhs
END:VEVENT
BEGIN:VEVENT
DTSTAMP:20260421T043240
DTSTART;TZID=Europe/Berlin:20260630T083000
DTEND;TZID=Europe/Berlin:20260630T093000
UID:V84326610-20260630T083000@VHSBÖBLINGEN-SINDELFINGEN
SUMMARY:Italienisch A2, Konversation/Lektüre "Il ladro di scarpe" ab Kapitel 8 (V84326610) 
LOCATION:Online vhs, Venedig (Alfaview), Online vhs
END:VEVENT
BEGIN:VEVENT
DTSTAMP:20260421T043240
DTSTART;TZID=Europe/Berlin:20260707T083000
DTEND;TZID=Europe/Berlin:20260707T093000
UID:V84326610-20260707T083000@VHSBÖBLINGEN-SINDELFINGEN
SUMMARY:Italienisch A2, Konversation/Lektüre "Il ladro di scarpe" ab Kapitel 8 (V84326610) 
LOCATION:Online vhs, Venedig (Alfaview), Online vhs
END:VEVENT
BEGIN:VEVENT
DTSTAMP:20260421T043240
DTSTART;TZID=Europe/Berlin:20260714T083000
DTEND;TZID=Europe/Berlin:20260714T093000
UID:V84326610-20260714T083000@VHSBÖBLINGEN-SINDELFINGEN
SUMMARY:Italienisch A2, Konversation/Lektüre "Il ladro di scarpe" ab Kapitel 8 (V84326610) 
LOCATION:Online vhs, Venedig (Alfaview), Online vhs
END:VEVENT
BEGIN:VEVENT
DTSTAMP:20260421T043240
DTSTART;TZID=Europe/Berlin:20260721T083000
DTEND;TZID=Europe/Berlin:20260721T093000
UID:V84326610-20260721T083000@VHSBÖBLINGEN-SINDELFINGEN
SUMMARY:Italienisch A2, Konversation/Lektüre "Il ladro di scarpe" ab Kapitel 8 (V84326610) 
LOCATION:Online vhs, Venedig (Alfaview), Online vhs
END:VEVENT
END:VCALENDAR