BEGIN:VCALENDAR
VERSION:2.0
PRODID:https://www.kufer.de/kuferweb / DE
METHOD:PUBLISH
CALSCALE:GREGORIAN
X-WR-TIMEZONE:Europe/Berlin
BEGIN:VTIMEZONE
TZID:Europe/Berlin
X-LIC-LOCATION:Europe/Berlin
BEGIN:DAYLIGHT
TZOFFSETFROM:+0100
TZOFFSETTO:+0200
TZNAME:CEST
DTSTART:19700329T020000
RRULE:FREQ=YEARLY;INTERVAL=1;BYDAY=-1SU;BYMONTH=3
END:DAYLIGHT
BEGIN:STANDARD
TZOFFSETFROM:+0200
TZOFFSETTO:+0100
TZNAME:CET
DTSTART:19701025T030000
RRULE:FREQ=YEARLY;INTERVAL=1;BYDAY=-1SU;BYMONTH=10
END:STANDARD
END:VTIMEZONE
BEGIN:VEVENT
DTSTAMP:20260421T043148
DTSTART;TZID=Europe/Berlin:20260303T083000
DTEND;TZID=Europe/Berlin:20260303T093000
UID:V84326510-20260303T083000@VHSBÖBLINGEN-SINDELFINGEN
SUMMARY:Italienisch A2, Konversation/Lektüre "Il ladro di scarpe" ab Kapitel 7 (V84326510) 
LOCATION:Online vhs, Venedig (Alfaview), Online vhs
END:VEVENT
BEGIN:VEVENT
DTSTAMP:20260421T043148
DTSTART;TZID=Europe/Berlin:20260310T083000
DTEND;TZID=Europe/Berlin:20260310T093000
UID:V84326510-20260310T083000@VHSBÖBLINGEN-SINDELFINGEN
SUMMARY:Italienisch A2, Konversation/Lektüre "Il ladro di scarpe" ab Kapitel 7 (V84326510) 
LOCATION:Online vhs, Venedig (Alfaview), Online vhs
END:VEVENT
BEGIN:VEVENT
DTSTAMP:20260421T043148
DTSTART;TZID=Europe/Berlin:20260317T083000
DTEND;TZID=Europe/Berlin:20260317T093000
UID:V84326510-20260317T083000@VHSBÖBLINGEN-SINDELFINGEN
SUMMARY:Italienisch A2, Konversation/Lektüre "Il ladro di scarpe" ab Kapitel 7 (V84326510) 
LOCATION:Online vhs, Venedig (Alfaview), Online vhs
END:VEVENT
BEGIN:VEVENT
DTSTAMP:20260421T043148
DTSTART;TZID=Europe/Berlin:20260324T083000
DTEND;TZID=Europe/Berlin:20260324T093000
UID:V84326510-20260324T083000@VHSBÖBLINGEN-SINDELFINGEN
SUMMARY:Italienisch A2, Konversation/Lektüre "Il ladro di scarpe" ab Kapitel 7 (V84326510) 
LOCATION:Online vhs, Venedig (Alfaview), Online vhs
END:VEVENT
BEGIN:VEVENT
DTSTAMP:20260421T043148
DTSTART;TZID=Europe/Berlin:20260414T083000
DTEND;TZID=Europe/Berlin:20260414T093000
UID:V84326510-20260414T083000@VHSBÖBLINGEN-SINDELFINGEN
SUMMARY:Italienisch A2, Konversation/Lektüre "Il ladro di scarpe" ab Kapitel 7 (V84326510) 
LOCATION:Online vhs, Venedig (Alfaview), Online vhs
END:VEVENT
BEGIN:VEVENT
DTSTAMP:20260421T043148
DTSTART;TZID=Europe/Berlin:20260421T083000
DTEND;TZID=Europe/Berlin:20260421T093000
UID:V84326510-20260421T083000@VHSBÖBLINGEN-SINDELFINGEN
SUMMARY:Italienisch A2, Konversation/Lektüre "Il ladro di scarpe" ab Kapitel 7 (V84326510) 
LOCATION:Online vhs, Venedig (Alfaview), Online vhs
END:VEVENT
BEGIN:VEVENT
DTSTAMP:20260421T043148
DTSTART;TZID=Europe/Berlin:20260428T083000
DTEND;TZID=Europe/Berlin:20260428T093000
UID:V84326510-20260428T083000@VHSBÖBLINGEN-SINDELFINGEN
SUMMARY:Italienisch A2, Konversation/Lektüre "Il ladro di scarpe" ab Kapitel 7 (V84326510) 
LOCATION:Online vhs, Venedig (Alfaview), Online vhs
END:VEVENT
BEGIN:VEVENT
DTSTAMP:20260421T043148
DTSTART;TZID=Europe/Berlin:20260505T083000
DTEND;TZID=Europe/Berlin:20260505T093000
UID:V84326510-20260505T083000@VHSBÖBLINGEN-SINDELFINGEN
SUMMARY:Italienisch A2, Konversation/Lektüre "Il ladro di scarpe" ab Kapitel 7 (V84326510) 
LOCATION:Online vhs, Venedig (Alfaview), Online vhs
END:VEVENT
END:VCALENDAR