BEGIN:VCALENDAR
VERSION:2.0
PRODID:https://www.kufer.de/kuferweb / DE
METHOD:PUBLISH
CALSCALE:GREGORIAN
X-WR-TIMEZONE:Europe/Berlin
BEGIN:VTIMEZONE
TZID:Europe/Berlin
X-LIC-LOCATION:Europe/Berlin
BEGIN:DAYLIGHT
TZOFFSETFROM:+0100
TZOFFSETTO:+0200
TZNAME:CEST
DTSTART:19700329T020000
RRULE:FREQ=YEARLY;INTERVAL=1;BYDAY=-1SU;BYMONTH=3
END:DAYLIGHT
BEGIN:STANDARD
TZOFFSETFROM:+0200
TZOFFSETTO:+0100
TZNAME:CET
DTSTART:19701025T030000
RRULE:FREQ=YEARLY;INTERVAL=1;BYDAY=-1SU;BYMONTH=10
END:STANDARD
END:VTIMEZONE
BEGIN:VEVENT
DTSTAMP:20260421T004122
DTSTART;TZID=Europe/Berlin:20260513T100000
DTEND;TZID=Europe/Berlin:20260513T104500
UID:V84326110-20260513T100000@VHSBÖBLINGEN-SINDELFINGEN
SUMMARY:Italienisch A2, Konversation (V84326110) 
LOCATION:Online vhs, Rom (Alfaview), Online vhs
END:VEVENT
BEGIN:VEVENT
DTSTAMP:20260421T004122
DTSTART;TZID=Europe/Berlin:20260520T100000
DTEND;TZID=Europe/Berlin:20260520T104500
UID:V84326110-20260520T100000@VHSBÖBLINGEN-SINDELFINGEN
SUMMARY:Italienisch A2, Konversation (V84326110) 
LOCATION:Online vhs, Rom (Alfaview), Online vhs
END:VEVENT
BEGIN:VEVENT
DTSTAMP:20260421T004122
DTSTART;TZID=Europe/Berlin:20260610T100000
DTEND;TZID=Europe/Berlin:20260610T104500
UID:V84326110-20260610T100000@VHSBÖBLINGEN-SINDELFINGEN
SUMMARY:Italienisch A2, Konversation (V84326110) 
LOCATION:Online vhs, Rom (Alfaview), Online vhs
END:VEVENT
BEGIN:VEVENT
DTSTAMP:20260421T004122
DTSTART;TZID=Europe/Berlin:20260617T100000
DTEND;TZID=Europe/Berlin:20260617T104500
UID:V84326110-20260617T100000@VHSBÖBLINGEN-SINDELFINGEN
SUMMARY:Italienisch A2, Konversation (V84326110) 
LOCATION:Online vhs, Rom (Alfaview), Online vhs
END:VEVENT
BEGIN:VEVENT
DTSTAMP:20260421T004122
DTSTART;TZID=Europe/Berlin:20260624T100000
DTEND;TZID=Europe/Berlin:20260624T104500
UID:V84326110-20260624T100000@VHSBÖBLINGEN-SINDELFINGEN
SUMMARY:Italienisch A2, Konversation (V84326110) 
LOCATION:Online vhs, Rom (Alfaview), Online vhs
END:VEVENT
BEGIN:VEVENT
DTSTAMP:20260421T004122
DTSTART;TZID=Europe/Berlin:20260701T100000
DTEND;TZID=Europe/Berlin:20260701T104500
UID:V84326110-20260701T100000@VHSBÖBLINGEN-SINDELFINGEN
SUMMARY:Italienisch A2, Konversation (V84326110) 
LOCATION:Online vhs, Rom (Alfaview), Online vhs
END:VEVENT
BEGIN:VEVENT
DTSTAMP:20260421T004122
DTSTART;TZID=Europe/Berlin:20260708T100000
DTEND;TZID=Europe/Berlin:20260708T104500
UID:V84326110-20260708T100000@VHSBÖBLINGEN-SINDELFINGEN
SUMMARY:Italienisch A2, Konversation (V84326110) 
LOCATION:Online vhs, Rom (Alfaview), Online vhs
END:VEVENT
BEGIN:VEVENT
DTSTAMP:20260421T004122
DTSTART;TZID=Europe/Berlin:20260715T100000
DTEND;TZID=Europe/Berlin:20260715T104500
UID:V84326110-20260715T100000@VHSBÖBLINGEN-SINDELFINGEN
SUMMARY:Italienisch A2, Konversation (V84326110) 
LOCATION:Online vhs, Rom (Alfaview), Online vhs
END:VEVENT
END:VCALENDAR