BEGIN:VCALENDAR
VERSION:2.0
PRODID:https://www.kufer.de/kuferweb / DE
METHOD:PUBLISH
CALSCALE:GREGORIAN
X-WR-TIMEZONE:Europe/Berlin
BEGIN:VTIMEZONE
TZID:Europe/Berlin
X-LIC-LOCATION:Europe/Berlin
BEGIN:DAYLIGHT
TZOFFSETFROM:+0100
TZOFFSETTO:+0200
TZNAME:CEST
DTSTART:19700329T020000
RRULE:FREQ=YEARLY;INTERVAL=1;BYDAY=-1SU;BYMONTH=3
END:DAYLIGHT
BEGIN:STANDARD
TZOFFSETFROM:+0200
TZOFFSETTO:+0100
TZNAME:CET
DTSTART:19701025T030000
RRULE:FREQ=YEARLY;INTERVAL=1;BYDAY=-1SU;BYMONTH=10
END:STANDARD
END:VTIMEZONE
BEGIN:VEVENT
DTSTAMP:20260421T153523
DTSTART;TZID=Europe/Berlin:20260512T203000
DTEND;TZID=Europe/Berlin:20260512T213000
UID:V84320810-20260512T203000@VHSBÖBLINGEN-SINDELFINGEN
SUMMARY:Italienisch A2 ab Lektion 1 (V84320810) 
LOCATION:Online vhs, Venedig (Alfaview), Online vhs
END:VEVENT
BEGIN:VEVENT
DTSTAMP:20260421T153523
DTSTART;TZID=Europe/Berlin:20260519T203000
DTEND;TZID=Europe/Berlin:20260519T213000
UID:V84320810-20260519T203000@VHSBÖBLINGEN-SINDELFINGEN
SUMMARY:Italienisch A2 ab Lektion 1 (V84320810) 
LOCATION:Online vhs, Venedig (Alfaview), Online vhs
END:VEVENT
BEGIN:VEVENT
DTSTAMP:20260421T153523
DTSTART;TZID=Europe/Berlin:20260609T203000
DTEND;TZID=Europe/Berlin:20260609T213000
UID:V84320810-20260609T203000@VHSBÖBLINGEN-SINDELFINGEN
SUMMARY:Italienisch A2 ab Lektion 1 (V84320810) 
LOCATION:Online vhs, Venedig (Alfaview), Online vhs
END:VEVENT
BEGIN:VEVENT
DTSTAMP:20260421T153523
DTSTART;TZID=Europe/Berlin:20260616T203000
DTEND;TZID=Europe/Berlin:20260616T213000
UID:V84320810-20260616T203000@VHSBÖBLINGEN-SINDELFINGEN
SUMMARY:Italienisch A2 ab Lektion 1 (V84320810) 
LOCATION:Online vhs, Venedig (Alfaview), Online vhs
END:VEVENT
BEGIN:VEVENT
DTSTAMP:20260421T153523
DTSTART;TZID=Europe/Berlin:20260623T203000
DTEND;TZID=Europe/Berlin:20260623T213000
UID:V84320810-20260623T203000@VHSBÖBLINGEN-SINDELFINGEN
SUMMARY:Italienisch A2 ab Lektion 1 (V84320810) 
LOCATION:Online vhs, Venedig (Alfaview), Online vhs
END:VEVENT
BEGIN:VEVENT
DTSTAMP:20260421T153523
DTSTART;TZID=Europe/Berlin:20260630T203000
DTEND;TZID=Europe/Berlin:20260630T213000
UID:V84320810-20260630T203000@VHSBÖBLINGEN-SINDELFINGEN
SUMMARY:Italienisch A2 ab Lektion 1 (V84320810) 
LOCATION:Online vhs, Venedig (Alfaview), Online vhs
END:VEVENT
BEGIN:VEVENT
DTSTAMP:20260421T153523
DTSTART;TZID=Europe/Berlin:20260707T203000
DTEND;TZID=Europe/Berlin:20260707T213000
UID:V84320810-20260707T203000@VHSBÖBLINGEN-SINDELFINGEN
SUMMARY:Italienisch A2 ab Lektion 1 (V84320810) 
LOCATION:Online vhs, Venedig (Alfaview), Online vhs
END:VEVENT
BEGIN:VEVENT
DTSTAMP:20260421T153523
DTSTART;TZID=Europe/Berlin:20260714T203000
DTEND;TZID=Europe/Berlin:20260714T213000
UID:V84320810-20260714T203000@VHSBÖBLINGEN-SINDELFINGEN
SUMMARY:Italienisch A2 ab Lektion 1 (V84320810) 
LOCATION:Online vhs, Venedig (Alfaview), Online vhs
END:VEVENT
BEGIN:VEVENT
DTSTAMP:20260421T153523
DTSTART;TZID=Europe/Berlin:20260721T203000
DTEND;TZID=Europe/Berlin:20260721T213000
UID:V84320810-20260721T203000@VHSBÖBLINGEN-SINDELFINGEN
SUMMARY:Italienisch A2 ab Lektion 1 (V84320810) 
LOCATION:Online vhs, Venedig (Alfaview), Online vhs
END:VEVENT
END:VCALENDAR