BEGIN:VCALENDAR
VERSION:2.0
PRODID:https://www.kufer.de/kuferweb / DE
METHOD:PUBLISH
CALSCALE:GREGORIAN
X-WR-TIMEZONE:Europe/Berlin
BEGIN:VTIMEZONE
TZID:Europe/Berlin
X-LIC-LOCATION:Europe/Berlin
BEGIN:DAYLIGHT
TZOFFSETFROM:+0100
TZOFFSETTO:+0200
TZNAME:CEST
DTSTART:19700329T020000
RRULE:FREQ=YEARLY;INTERVAL=1;BYDAY=-1SU;BYMONTH=3
END:DAYLIGHT
BEGIN:STANDARD
TZOFFSETFROM:+0200
TZOFFSETTO:+0100
TZNAME:CET
DTSTART:19701025T030000
RRULE:FREQ=YEARLY;INTERVAL=1;BYDAY=-1SU;BYMONTH=10
END:STANDARD
END:VTIMEZONE
BEGIN:VEVENT
DTSTAMP:20260420T200030
DTSTART;TZID=Europe/Berlin:20260512T170000
DTEND;TZID=Europe/Berlin:20260512T180000
UID:V84314310-20260512T170000@VHSBÖBLINGEN-SINDELFINGEN
SUMMARY:Italienisch A1 ab Lektion 6 (V84314310) 
LOCATION:Online vhs, Wien (Alfaview), Online vhs
END:VEVENT
BEGIN:VEVENT
DTSTAMP:20260420T200030
DTSTART;TZID=Europe/Berlin:20260519T170000
DTEND;TZID=Europe/Berlin:20260519T180000
UID:V84314310-20260519T170000@VHSBÖBLINGEN-SINDELFINGEN
SUMMARY:Italienisch A1 ab Lektion 6 (V84314310) 
LOCATION:Online vhs, Wien (Alfaview), Online vhs
END:VEVENT
BEGIN:VEVENT
DTSTAMP:20260420T200030
DTSTART;TZID=Europe/Berlin:20260609T170000
DTEND;TZID=Europe/Berlin:20260609T180000
UID:V84314310-20260609T170000@VHSBÖBLINGEN-SINDELFINGEN
SUMMARY:Italienisch A1 ab Lektion 6 (V84314310) 
LOCATION:Online vhs, Wien (Alfaview), Online vhs
END:VEVENT
BEGIN:VEVENT
DTSTAMP:20260420T200030
DTSTART;TZID=Europe/Berlin:20260616T170000
DTEND;TZID=Europe/Berlin:20260616T180000
UID:V84314310-20260616T170000@VHSBÖBLINGEN-SINDELFINGEN
SUMMARY:Italienisch A1 ab Lektion 6 (V84314310) 
LOCATION:Online vhs, Wien (Alfaview), Online vhs
END:VEVENT
BEGIN:VEVENT
DTSTAMP:20260420T200030
DTSTART;TZID=Europe/Berlin:20260623T170000
DTEND;TZID=Europe/Berlin:20260623T180000
UID:V84314310-20260623T170000@VHSBÖBLINGEN-SINDELFINGEN
SUMMARY:Italienisch A1 ab Lektion 6 (V84314310) 
LOCATION:Online vhs, Wien (Alfaview), Online vhs
END:VEVENT
BEGIN:VEVENT
DTSTAMP:20260420T200030
DTSTART;TZID=Europe/Berlin:20260630T170000
DTEND;TZID=Europe/Berlin:20260630T180000
UID:V84314310-20260630T170000@VHSBÖBLINGEN-SINDELFINGEN
SUMMARY:Italienisch A1 ab Lektion 6 (V84314310) 
LOCATION:Online vhs, Wien (Alfaview), Online vhs
END:VEVENT
BEGIN:VEVENT
DTSTAMP:20260420T200030
DTSTART;TZID=Europe/Berlin:20260707T170000
DTEND;TZID=Europe/Berlin:20260707T180000
UID:V84314310-20260707T170000@VHSBÖBLINGEN-SINDELFINGEN
SUMMARY:Italienisch A1 ab Lektion 6 (V84314310) 
LOCATION:Online vhs, Wien (Alfaview), Online vhs
END:VEVENT
BEGIN:VEVENT
DTSTAMP:20260420T200030
DTSTART;TZID=Europe/Berlin:20260714T170000
DTEND;TZID=Europe/Berlin:20260714T180000
UID:V84314310-20260714T170000@VHSBÖBLINGEN-SINDELFINGEN
SUMMARY:Italienisch A1 ab Lektion 6 (V84314310) 
LOCATION:Online vhs, Wien (Alfaview), Online vhs
END:VEVENT
BEGIN:VEVENT
DTSTAMP:20260420T200030
DTSTART;TZID=Europe/Berlin:20260721T170000
DTEND;TZID=Europe/Berlin:20260721T180000
UID:V84314310-20260721T170000@VHSBÖBLINGEN-SINDELFINGEN
SUMMARY:Italienisch A1 ab Lektion 6 (V84314310) 
LOCATION:Online vhs, Wien (Alfaview), Online vhs
END:VEVENT
END:VCALENDAR