BEGIN:VCALENDAR
VERSION:2.0
PRODID:https://www.kufer.de/kuferweb / DE
METHOD:PUBLISH
CALSCALE:GREGORIAN
X-WR-TIMEZONE:Europe/Berlin
BEGIN:VTIMEZONE
TZID:Europe/Berlin
X-LIC-LOCATION:Europe/Berlin
BEGIN:DAYLIGHT
TZOFFSETFROM:+0100
TZOFFSETTO:+0200
TZNAME:CEST
DTSTART:19700329T020000
RRULE:FREQ=YEARLY;INTERVAL=1;BYDAY=-1SU;BYMONTH=3
END:DAYLIGHT
BEGIN:STANDARD
TZOFFSETFROM:+0200
TZOFFSETTO:+0100
TZNAME:CET
DTSTART:19701025T030000
RRULE:FREQ=YEARLY;INTERVAL=1;BYDAY=-1SU;BYMONTH=10
END:STANDARD
END:VTIMEZONE
BEGIN:VEVENT
DTSTAMP:20260421T134827
DTSTART;TZID=Europe/Berlin:20260521T180000
DTEND;TZID=Europe/Berlin:20260521T191500
UID:V84312310-20260521T180000@VHSBÖBLINGEN-SINDELFINGEN
SUMMARY:Italienisch A1, mit geringen Vorkenntnissen ab Lektion 3 (V84312310) 
LOCATION:Online vhs, Venedig (Alfaview), Online vhs
END:VEVENT
BEGIN:VEVENT
DTSTAMP:20260421T134827
DTSTART;TZID=Europe/Berlin:20260611T180000
DTEND;TZID=Europe/Berlin:20260611T191500
UID:V84312310-20260611T180000@VHSBÖBLINGEN-SINDELFINGEN
SUMMARY:Italienisch A1, mit geringen Vorkenntnissen ab Lektion 3 (V84312310) 
LOCATION:Online vhs, Venedig (Alfaview), Online vhs
END:VEVENT
BEGIN:VEVENT
DTSTAMP:20260421T134827
DTSTART;TZID=Europe/Berlin:20260625T180000
DTEND;TZID=Europe/Berlin:20260625T191500
UID:V84312310-20260625T180000@VHSBÖBLINGEN-SINDELFINGEN
SUMMARY:Italienisch A1, mit geringen Vorkenntnissen ab Lektion 3 (V84312310) 
LOCATION:Online vhs, Venedig (Alfaview), Online vhs
END:VEVENT
BEGIN:VEVENT
DTSTAMP:20260421T134827
DTSTART;TZID=Europe/Berlin:20260702T180000
DTEND;TZID=Europe/Berlin:20260702T191500
UID:V84312310-20260702T180000@VHSBÖBLINGEN-SINDELFINGEN
SUMMARY:Italienisch A1, mit geringen Vorkenntnissen ab Lektion 3 (V84312310) 
LOCATION:Online vhs, Venedig (Alfaview), Online vhs
END:VEVENT
BEGIN:VEVENT
DTSTAMP:20260421T134827
DTSTART;TZID=Europe/Berlin:20260709T180000
DTEND;TZID=Europe/Berlin:20260709T191500
UID:V84312310-20260709T180000@VHSBÖBLINGEN-SINDELFINGEN
SUMMARY:Italienisch A1, mit geringen Vorkenntnissen ab Lektion 3 (V84312310) 
LOCATION:Online vhs, Venedig (Alfaview), Online vhs
END:VEVENT
BEGIN:VEVENT
DTSTAMP:20260421T134827
DTSTART;TZID=Europe/Berlin:20260716T180000
DTEND;TZID=Europe/Berlin:20260716T191500
UID:V84312310-20260716T180000@VHSBÖBLINGEN-SINDELFINGEN
SUMMARY:Italienisch A1, mit geringen Vorkenntnissen ab Lektion 3 (V84312310) 
LOCATION:Online vhs, Venedig (Alfaview), Online vhs
END:VEVENT
BEGIN:VEVENT
DTSTAMP:20260421T134827
DTSTART;TZID=Europe/Berlin:20260723T180000
DTEND;TZID=Europe/Berlin:20260723T191500
UID:V84312310-20260723T180000@VHSBÖBLINGEN-SINDELFINGEN
SUMMARY:Italienisch A1, mit geringen Vorkenntnissen ab Lektion 3 (V84312310) 
LOCATION:Online vhs, Venedig (Alfaview), Online vhs
END:VEVENT
END:VCALENDAR