BEGIN:VCALENDAR
VERSION:2.0
PRODID:https://www.kufer.de/kuferweb / DE
METHOD:PUBLISH
CALSCALE:GREGORIAN
X-WR-TIMEZONE:Europe/Berlin
BEGIN:VTIMEZONE
TZID:Europe/Berlin
X-LIC-LOCATION:Europe/Berlin
BEGIN:DAYLIGHT
TZOFFSETFROM:+0100
TZOFFSETTO:+0200
TZNAME:CEST
DTSTART:19700329T020000
RRULE:FREQ=YEARLY;INTERVAL=1;BYDAY=-1SU;BYMONTH=3
END:DAYLIGHT
BEGIN:STANDARD
TZOFFSETFROM:+0200
TZOFFSETTO:+0100
TZNAME:CET
DTSTART:19701025T030000
RRULE:FREQ=YEARLY;INTERVAL=1;BYDAY=-1SU;BYMONTH=10
END:STANDARD
END:VTIMEZONE
BEGIN:VEVENT
DTSTAMP:20260420T165523
DTSTART;TZID=Europe/Berlin:20260507T194500
DTEND;TZID=Europe/Berlin:20260507T211500
UID:V84312110-20260507T194500@VHSBÖBLINGEN-SINDELFINGEN
SUMMARY:Italienisch A1, mit geringen Vorkenntnissen ab Lektion 3 (V84312110) 
LOCATION:Online vhs, Mailand (Alfaview), Online vhs
END:VEVENT
BEGIN:VEVENT
DTSTAMP:20260420T165523
DTSTART;TZID=Europe/Berlin:20260521T194500
DTEND;TZID=Europe/Berlin:20260521T211500
UID:V84312110-20260521T194500@VHSBÖBLINGEN-SINDELFINGEN
SUMMARY:Italienisch A1, mit geringen Vorkenntnissen ab Lektion 3 (V84312110) 
LOCATION:Online vhs, Mailand (Alfaview), Online vhs
END:VEVENT
BEGIN:VEVENT
DTSTAMP:20260420T165523
DTSTART;TZID=Europe/Berlin:20260611T194500
DTEND;TZID=Europe/Berlin:20260611T211500
UID:V84312110-20260611T194500@VHSBÖBLINGEN-SINDELFINGEN
SUMMARY:Italienisch A1, mit geringen Vorkenntnissen ab Lektion 3 (V84312110) 
LOCATION:Online vhs, Mailand (Alfaview), Online vhs
END:VEVENT
BEGIN:VEVENT
DTSTAMP:20260420T165523
DTSTART;TZID=Europe/Berlin:20260618T194500
DTEND;TZID=Europe/Berlin:20260618T211500
UID:V84312110-20260618T194500@VHSBÖBLINGEN-SINDELFINGEN
SUMMARY:Italienisch A1, mit geringen Vorkenntnissen ab Lektion 3 (V84312110) 
LOCATION:Online vhs, Mailand (Alfaview), Online vhs
END:VEVENT
BEGIN:VEVENT
DTSTAMP:20260420T165523
DTSTART;TZID=Europe/Berlin:20260702T194500
DTEND;TZID=Europe/Berlin:20260702T211500
UID:V84312110-20260702T194500@VHSBÖBLINGEN-SINDELFINGEN
SUMMARY:Italienisch A1, mit geringen Vorkenntnissen ab Lektion 3 (V84312110) 
LOCATION:Online vhs, Mailand (Alfaview), Online vhs
END:VEVENT
BEGIN:VEVENT
DTSTAMP:20260420T165523
DTSTART;TZID=Europe/Berlin:20260709T194500
DTEND;TZID=Europe/Berlin:20260709T211500
UID:V84312110-20260709T194500@VHSBÖBLINGEN-SINDELFINGEN
SUMMARY:Italienisch A1, mit geringen Vorkenntnissen ab Lektion 3 (V84312110) 
LOCATION:Online vhs, Mailand (Alfaview), Online vhs
END:VEVENT
BEGIN:VEVENT
DTSTAMP:20260420T165523
DTSTART;TZID=Europe/Berlin:20260716T194500
DTEND;TZID=Europe/Berlin:20260716T211500
UID:V84312110-20260716T194500@VHSBÖBLINGEN-SINDELFINGEN
SUMMARY:Italienisch A1, mit geringen Vorkenntnissen ab Lektion 3 (V84312110) 
LOCATION:Online vhs, Mailand (Alfaview), Online vhs
END:VEVENT
BEGIN:VEVENT
DTSTAMP:20260420T165523
DTSTART;TZID=Europe/Berlin:20260723T194500
DTEND;TZID=Europe/Berlin:20260723T211500
UID:V84312110-20260723T194500@VHSBÖBLINGEN-SINDELFINGEN
SUMMARY:Italienisch A1, mit geringen Vorkenntnissen ab Lektion 3 (V84312110) 
LOCATION:Online vhs, Mailand (Alfaview), Online vhs
END:VEVENT
END:VCALENDAR