BEGIN:VCALENDAR
VERSION:2.0
PRODID:https://www.kufer.de/kuferweb / DE
METHOD:PUBLISH
CALSCALE:GREGORIAN
X-WR-TIMEZONE:Europe/Berlin
BEGIN:VTIMEZONE
TZID:Europe/Berlin
X-LIC-LOCATION:Europe/Berlin
BEGIN:DAYLIGHT
TZOFFSETFROM:+0100
TZOFFSETTO:+0200
TZNAME:CEST
DTSTART:19700329T020000
RRULE:FREQ=YEARLY;INTERVAL=1;BYDAY=-1SU;BYMONTH=3
END:DAYLIGHT
BEGIN:STANDARD
TZOFFSETFROM:+0200
TZOFFSETTO:+0100
TZNAME:CET
DTSTART:19701025T030000
RRULE:FREQ=YEARLY;INTERVAL=1;BYDAY=-1SU;BYMONTH=10
END:STANDARD
END:VTIMEZONE
BEGIN:VEVENT
DTSTAMP:20260420T165518
DTSTART;TZID=Europe/Berlin:20260506T194500
DTEND;TZID=Europe/Berlin:20260506T211500
UID:V84311910-20260506T194500@VHSBÖBLINGEN-SINDELFINGEN
SUMMARY:Italienisch A1, mit geringen Vorkenntnissen ab Lektion 3 (V84311910) 
LOCATION:Online vhs, Venedig (Alfaview), Online vhs
END:VEVENT
BEGIN:VEVENT
DTSTAMP:20260420T165518
DTSTART;TZID=Europe/Berlin:20260520T194500
DTEND;TZID=Europe/Berlin:20260520T211500
UID:V84311910-20260520T194500@VHSBÖBLINGEN-SINDELFINGEN
SUMMARY:Italienisch A1, mit geringen Vorkenntnissen ab Lektion 3 (V84311910) 
LOCATION:Online vhs, Venedig (Alfaview), Online vhs
END:VEVENT
BEGIN:VEVENT
DTSTAMP:20260420T165518
DTSTART;TZID=Europe/Berlin:20260610T194500
DTEND;TZID=Europe/Berlin:20260610T211500
UID:V84311910-20260610T194500@VHSBÖBLINGEN-SINDELFINGEN
SUMMARY:Italienisch A1, mit geringen Vorkenntnissen ab Lektion 3 (V84311910) 
LOCATION:Online vhs, Venedig (Alfaview), Online vhs
END:VEVENT
BEGIN:VEVENT
DTSTAMP:20260420T165518
DTSTART;TZID=Europe/Berlin:20260617T194500
DTEND;TZID=Europe/Berlin:20260617T211500
UID:V84311910-20260617T194500@VHSBÖBLINGEN-SINDELFINGEN
SUMMARY:Italienisch A1, mit geringen Vorkenntnissen ab Lektion 3 (V84311910) 
LOCATION:Online vhs, Venedig (Alfaview), Online vhs
END:VEVENT
BEGIN:VEVENT
DTSTAMP:20260420T165518
DTSTART;TZID=Europe/Berlin:20260624T194500
DTEND;TZID=Europe/Berlin:20260624T211500
UID:V84311910-20260624T194500@VHSBÖBLINGEN-SINDELFINGEN
SUMMARY:Italienisch A1, mit geringen Vorkenntnissen ab Lektion 3 (V84311910) 
LOCATION:Online vhs, Venedig (Alfaview), Online vhs
END:VEVENT
BEGIN:VEVENT
DTSTAMP:20260420T165518
DTSTART;TZID=Europe/Berlin:20260701T194500
DTEND;TZID=Europe/Berlin:20260701T211500
UID:V84311910-20260701T194500@VHSBÖBLINGEN-SINDELFINGEN
SUMMARY:Italienisch A1, mit geringen Vorkenntnissen ab Lektion 3 (V84311910) 
LOCATION:Online vhs, Venedig (Alfaview), Online vhs
END:VEVENT
BEGIN:VEVENT
DTSTAMP:20260420T165518
DTSTART;TZID=Europe/Berlin:20260708T194500
DTEND;TZID=Europe/Berlin:20260708T211500
UID:V84311910-20260708T194500@VHSBÖBLINGEN-SINDELFINGEN
SUMMARY:Italienisch A1, mit geringen Vorkenntnissen ab Lektion 3 (V84311910) 
LOCATION:Online vhs, Venedig (Alfaview), Online vhs
END:VEVENT
BEGIN:VEVENT
DTSTAMP:20260420T165518
DTSTART;TZID=Europe/Berlin:20260715T194500
DTEND;TZID=Europe/Berlin:20260715T211500
UID:V84311910-20260715T194500@VHSBÖBLINGEN-SINDELFINGEN
SUMMARY:Italienisch A1, mit geringen Vorkenntnissen ab Lektion 3 (V84311910) 
LOCATION:Online vhs, Venedig (Alfaview), Online vhs
END:VEVENT
END:VCALENDAR